BEGIN:VCALENDAR
VERSION:2.0
PRODID:-//Sky Sports SSDM//NONSGML Event Calendar//EN
URL:https://www.skysports.com/calendars/football/fixtures/teams/lille
CALSCALE:GREGORIAN
METHOD:PUBLISH
NAME:Lille Fixtures
X-WR-CALNAME:Lille Fixtures
X-WR-CALDESC:Lille fixtures provided by Sky Sports (https://www.skysports.
 com)
REFRESH-INTERVAL;VALUE=DURATION:PT1H
X-PUBLISHED-TTL:PT1H
BEGIN:VEVENT
UID:3c91f58a93fdc3bb5be4dba2ac80ea9f@skysports.com
SEQUENCE:0
DTSTAMP:20260425T090906Z
DTSTART:20250817T130000Z
DTEND:20250817T150000Z
SUMMARY:Brest v Lille
LOCATION:Stade Francis-Le Ble
DESCRIPTION:Brest v Lille - Stade Francis-Le Ble - French Ligue 1
STATUS:CONFIRMED
END:VEVENT
BEGIN:VEVENT
UID:3db4bdd6248a9d489d7561560f66addd@skysports.com
SEQUENCE:0
DTSTAMP:20260425T090906Z
DTSTART:20250824T184500Z
DTEND:20250824T204500Z
SUMMARY:Lille v Monaco
LOCATION:Stade Pierre-Mauroy
DESCRIPTION:Lille v Monaco - Stade Pierre-Mauroy - French Ligue 1
STATUS:CONFIRMED
END:VEVENT
BEGIN:VEVENT
UID:51cc642e673fb402909df74693d6078a@skysports.com
SEQUENCE:0
DTSTAMP:20260425T090906Z
DTSTART:20250830T150000Z
DTEND:20250830T170000Z
SUMMARY:Lorient v Lille
LOCATION:Stade du Moustoir
DESCRIPTION:Lorient v Lille - Stade du Moustoir - French Ligue 1
STATUS:CONFIRMED
END:VEVENT
BEGIN:VEVENT
UID:e7b3497f77ef5a5ae296c5874b1a07ed@skysports.com
SEQUENCE:0
DTSTAMP:20260425T090906Z
DTSTART:20250914T130000Z
DTEND:20250914T150000Z
SUMMARY:Lille v Toulouse
LOCATION:Stade Pierre-Mauroy
DESCRIPTION:Lille v Toulouse - Stade Pierre-Mauroy - French Ligue 1
STATUS:CONFIRMED
END:VEVENT
BEGIN:VEVENT
UID:cb61f07c45047be1f1fee44e93e97c24@skysports.com
SEQUENCE:0
DTSTAMP:20260425T090906Z
DTSTART:20250920T190500Z
DTEND:20250920T210500Z
SUMMARY:RC Lens v Lille
LOCATION:Stade Bollaert-Delelis
DESCRIPTION:RC Lens v Lille - Stade Bollaert-Delelis - French Ligue 1
STATUS:CONFIRMED
END:VEVENT
BEGIN:VEVENT
UID:2a19058417e3812635967aefa8fc07f7@skysports.com
SEQUENCE:0
DTSTAMP:20260425T090906Z
DTSTART:20250928T151500Z
DTEND:20250928T171500Z
SUMMARY:Lille v Lyon
LOCATION:Stade Pierre-Mauroy
DESCRIPTION:Lille v Lyon - Stade Pierre-Mauroy - French Ligue 1
STATUS:CONFIRMED
END:VEVENT
BEGIN:VEVENT
UID:9dd53ff2fcbeb5d14647126627d4810e@skysports.com
SEQUENCE:0
DTSTAMP:20260425T090906Z
DTSTART:20251005T184500Z
DTEND:20251005T204500Z
SUMMARY:Lille v Paris Saint-Germain
LOCATION:Stade Pierre-Mauroy
DESCRIPTION:Lille v Paris Saint-Germain - Stade Pierre-Mauroy - French Lig
 ue 1
STATUS:CONFIRMED
END:VEVENT
BEGIN:VEVENT
UID:ee2e142f790d10306ea56ac6da8f1c93@skysports.com
SEQUENCE:0
DTSTAMP:20260425T090906Z
DTSTART:20251019T184500Z
DTEND:20251019T204500Z
SUMMARY:Nantes v Lille
LOCATION:La Beaujoire-Louis-Fonteneau
DESCRIPTION:Nantes v Lille - La Beaujoire-Louis-Fonteneau - French Ligue 1
STATUS:CONFIRMED
END:VEVENT
BEGIN:VEVENT
UID:8f46a479f6c3dca061fd6e9bfb828c6a@skysports.com
SEQUENCE:0
DTSTAMP:20260425T090906Z
DTSTART:20251026T140000Z
DTEND:20251026T160000Z
SUMMARY:Lille v Metz
LOCATION:Stade Pierre-Mauroy
DESCRIPTION:Lille v Metz - Stade Pierre-Mauroy - French Ligue 1
STATUS:CONFIRMED
END:VEVENT
BEGIN:VEVENT
UID:ab8d965814fc1c70936e2f62e39cc496@skysports.com
SEQUENCE:0
DTSTAMP:20260425T090906Z
DTSTART:20251029T180000Z
DTEND:20251029T200000Z
SUMMARY:Nice v Lille
LOCATION:Allianz Riviera
DESCRIPTION:Nice v Lille - Allianz Riviera - French Ligue 1
STATUS:CONFIRMED
END:VEVENT
BEGIN:VEVENT
UID:ede3615b83643f1b14597b9f935f1ac9@skysports.com
SEQUENCE:0
DTSTAMP:20260425T090906Z
DTSTART:20251102T161500Z
DTEND:20251102T181500Z
SUMMARY:Lille v Angers
LOCATION:Stade Pierre-Mauroy
DESCRIPTION:Lille v Angers - Stade Pierre-Mauroy - French Ligue 1
STATUS:CONFIRMED
END:VEVENT
BEGIN:VEVENT
UID:0cb98084fa4a7a249e86062ea8fcfea0@skysports.com
SEQUENCE:0
DTSTAMP:20260425T090906Z
DTSTART:20251109T161500Z
DTEND:20251109T181500Z
SUMMARY:Strasbourg v Lille
LOCATION:Stade de la Meinau
DESCRIPTION:Strasbourg v Lille - Stade de la Meinau - French Ligue 1
STATUS:CONFIRMED
END:VEVENT
BEGIN:VEVENT
UID:ad26eade30e5edca3e5d0375495c683e@skysports.com
SEQUENCE:0
DTSTAMP:20260425T090906Z
DTSTART:20251123T194500Z
DTEND:20251123T214500Z
SUMMARY:Lille v Paris FC
LOCATION:Stade Pierre-Mauroy
DESCRIPTION:Lille v Paris FC - Stade Pierre-Mauroy - French Ligue 1
STATUS:CONFIRMED
END:VEVENT
BEGIN:VEVENT
UID:1e10211c89f9a8116b274a63388d70b6@skysports.com
SEQUENCE:0
DTSTAMP:20260425T090906Z
DTSTART:20251130T161500Z
DTEND:20251130T181500Z
SUMMARY:Le Havre v Lille
LOCATION:Stade Oceane
DESCRIPTION:Le Havre v Lille - Stade Oceane - French Ligue 1
STATUS:CONFIRMED
END:VEVENT
BEGIN:VEVENT
UID:467937bd54b86fd20d501e9d330d195e@skysports.com
SEQUENCE:0
DTSTAMP:20260425T090906Z
DTSTART:20251205T200000Z
DTEND:20251205T220000Z
SUMMARY:Lille v Marseille
LOCATION:Stade Pierre-Mauroy
DESCRIPTION:Lille v Marseille - Stade Pierre-Mauroy - French Ligue 1
STATUS:CONFIRMED
END:VEVENT
BEGIN:VEVENT
UID:dc5025ce4702e5396cca3d5c2331f3fa@skysports.com
SEQUENCE:0
DTSTAMP:20260425T090906Z
DTSTART:20251214T161500Z
DTEND:20251214T181500Z
SUMMARY:Auxerre v Lille
LOCATION:Stade de l'Abbe-Deschamps
DESCRIPTION:Auxerre v Lille - Stade de l'Abbe-Deschamps - French Ligue 1
STATUS:CONFIRMED
END:VEVENT
BEGIN:VEVENT
UID:d5ec2d63d6f3ba7ea45e0b4192f7ad26@skysports.com
SEQUENCE:0
DTSTAMP:20260425T090906Z
DTSTART:20260103T200500Z
DTEND:20260103T220500Z
SUMMARY:Lille v Rennes
LOCATION:Stade Pierre-Mauroy
DESCRIPTION:Lille v Rennes - Stade Pierre-Mauroy - French Ligue 1
STATUS:CONFIRMED
END:VEVENT
BEGIN:VEVENT
UID:310116f05435541fe9fb6ab56c79d7b3@skysports.com
SEQUENCE:0
DTSTAMP:20260425T090906Z
DTSTART:20260116T200000Z
DTEND:20260116T220000Z
SUMMARY:Paris Saint-Germain v Lille
LOCATION:Parc des Princes
DESCRIPTION:Paris Saint-Germain v Lille - Parc des Princes - French Ligue 
 1
STATUS:CONFIRMED
END:VEVENT
BEGIN:VEVENT
UID:0fdcc964c3ef01a987a26d09dcc537e3@skysports.com
SEQUENCE:0
DTSTAMP:20260425T090906Z
DTSTART:20260125T194500Z
DTEND:20260125T214500Z
SUMMARY:Lille v Strasbourg
LOCATION:Stade Pierre-Mauroy
DESCRIPTION:Lille v Strasbourg - Stade Pierre-Mauroy - French Ligue 1
STATUS:CONFIRMED
END:VEVENT
BEGIN:VEVENT
UID:08fa00a37ed89cd59f9b49c06f17cfe0@skysports.com
SEQUENCE:0
DTSTAMP:20260425T090906Z
DTSTART:20260201T140000Z
DTEND:20260201T160000Z
SUMMARY:Lyon v Lille
LOCATION:Stade des Lumieres
DESCRIPTION:Lyon v Lille - Stade des Lumieres - French Ligue 1
STATUS:CONFIRMED
END:VEVENT
BEGIN:VEVENT
UID:2b4d9fb0856c3f32505eb6b532e1b7a1@skysports.com
SEQUENCE:0
DTSTAMP:20260425T090906Z
DTSTART:20260206T194500Z
DTEND:20260206T214500Z
SUMMARY:Metz v Lille
LOCATION:Stade Saint-Symphorien
DESCRIPTION:Metz v Lille - Stade Saint-Symphorien - French Ligue 1
STATUS:CONFIRMED
END:VEVENT
BEGIN:VEVENT
UID:04490550c55df65579ee5de619f516ac@skysports.com
SEQUENCE:0
DTSTAMP:20260425T090906Z
DTSTART:20260214T180000Z
DTEND:20260214T200000Z
SUMMARY:Lille v Brest
LOCATION:Stade Pierre-Mauroy
DESCRIPTION:Lille v Brest - Stade Pierre-Mauroy - French Ligue 1
STATUS:CONFIRMED
END:VEVENT
BEGIN:VEVENT
UID:d29ccba294d6140633a6e0363e6e4cc4@skysports.com
SEQUENCE:0
DTSTAMP:20260425T090906Z
DTSTART:20260222T161500Z
DTEND:20260222T181500Z
SUMMARY:Angers v Lille
LOCATION:Stade Jean-Bouin
DESCRIPTION:Angers v Lille - Stade Jean-Bouin - French Ligue 1
STATUS:CONFIRMED
END:VEVENT
BEGIN:VEVENT
UID:55de744cfae87391ba66ef87c98a7eb7@skysports.com
SEQUENCE:0
DTSTAMP:20260425T090906Z
DTSTART:20260301T161500Z
DTEND:20260301T181500Z
SUMMARY:Lille v Nantes
LOCATION:Stade Pierre-Mauroy
DESCRIPTION:Lille v Nantes - Stade Pierre-Mauroy - French Ligue 1
STATUS:CONFIRMED
END:VEVENT
BEGIN:VEVENT
UID:d9ea6f2ca2f58419e51fc4cd0b333699@skysports.com
SEQUENCE:0
DTSTAMP:20260425T090906Z
DTSTART:20260308T161500Z
DTEND:20260308T181500Z
SUMMARY:Lille v Lorient
LOCATION:Stade Pierre-Mauroy
DESCRIPTION:Lille v Lorient - Stade Pierre-Mauroy - French Ligue 1
STATUS:CONFIRMED
END:VEVENT
BEGIN:VEVENT
UID:062f0886c09edbb9a054859e67c1c55a@skysports.com
SEQUENCE:0
DTSTAMP:20260425T090906Z
DTSTART:20260315T194500Z
DTEND:20260315T214500Z
SUMMARY:Rennes v Lille
LOCATION:Stade de la Route-de-Lorient
DESCRIPTION:Rennes v Lille - Stade de la Route-de-Lorient - French Ligue 1
STATUS:CONFIRMED
END:VEVENT
BEGIN:VEVENT
UID:badb61afdb05c185aa39a18e21493dd1@skysports.com
SEQUENCE:0
DTSTAMP:20260425T090906Z
DTSTART:20260322T161500Z
DTEND:20260322T181500Z
SUMMARY:Marseille v Lille
LOCATION:Orange Velodrome
DESCRIPTION:Marseille v Lille - Orange Velodrome - French Ligue 1
STATUS:CONFIRMED
END:VEVENT
BEGIN:VEVENT
UID:b128cbccaef23a7aaed916bb4ffa1339@skysports.com
SEQUENCE:0
DTSTAMP:20260425T090906Z
DTSTART:20260404T190500Z
DTEND:20260404T210500Z
SUMMARY:Lille v RC Lens
LOCATION:Stade Pierre-Mauroy
DESCRIPTION:Lille v RC Lens - Stade Pierre-Mauroy - French Ligue 1
STATUS:CONFIRMED
END:VEVENT
BEGIN:VEVENT
UID:aa79ac1782d22d6f1a68091fdb805063@skysports.com
SEQUENCE:0
DTSTAMP:20260425T090906Z
DTSTART:20260412T151500Z
DTEND:20260412T171500Z
SUMMARY:Toulouse v Lille
LOCATION:Stadium Municipal\, Toulouse
DESCRIPTION:Toulouse v Lille - Stadium Municipal\, Toulouse - French Ligue
  1
STATUS:CONFIRMED
END:VEVENT
BEGIN:VEVENT
UID:015ac5971c2dbd89d161250ef224ab05@skysports.com
SEQUENCE:0
DTSTAMP:20260425T090906Z
DTSTART:20260418T190500Z
DTEND:20260418T210500Z
SUMMARY:Lille v Nice
LOCATION:Stade Pierre-Mauroy
DESCRIPTION:Lille v Nice - Stade Pierre-Mauroy - French Ligue 1
STATUS:CONFIRMED
END:VEVENT
BEGIN:VEVENT
UID:1a84f4f366d3b6acda1e3fa9014649f4@skysports.com
SEQUENCE:0
DTSTAMP:20260425T090906Z
DTSTART:20260426T151500Z
DTEND:20260426T171500Z
SUMMARY:Paris FC v Lille
LOCATION:Stade Jean Bouin
DESCRIPTION:Paris FC v Lille - Stade Jean Bouin - French Ligue 1
STATUS:CONFIRMED
END:VEVENT
BEGIN:VEVENT
UID:ab82eebe492d023b8863618aabd2f0c2@skysports.com
SEQUENCE:0
DTSTAMP:20260425T090906Z
DTSTART:20260503T130000Z
DTEND:20260503T150000Z
SUMMARY:Lille v Le Havre
LOCATION:Stade Pierre-Mauroy
DESCRIPTION:Lille v Le Havre - Stade Pierre-Mauroy - French Ligue 1
STATUS:CONFIRMED
END:VEVENT
BEGIN:VEVENT
UID:0ac75dbb7e28d8686f1e51d6a414e8d4@skysports.com
SEQUENCE:0
DTSTAMP:20260425T090906Z
DTSTART:20260510T190000Z
DTEND:20260510T210000Z
SUMMARY:Monaco v Lille
LOCATION:Stade Louis-II
DESCRIPTION:Monaco v Lille - Stade Louis-II - French Ligue 1
STATUS:CONFIRMED
END:VEVENT
BEGIN:VEVENT
UID:06d2561912fc13321826e80306c9f4fe@skysports.com
SEQUENCE:0
DTSTAMP:20260425T090906Z
DTSTART:20260517T190000Z
DTEND:20260517T210000Z
SUMMARY:Lille v Auxerre
LOCATION:Stade Pierre-Mauroy
DESCRIPTION:Lille v Auxerre - Stade Pierre-Mauroy - French Ligue 1
STATUS:CONFIRMED
END:VEVENT
BEGIN:VEVENT
UID:9aa118b15b665961838bf75d94b45993@skysports.com
SEQUENCE:0
DTSTAMP:20260425T090906Z
DTSTART:20250802T150000Z
DTEND:20250802T170000Z
SUMMARY:Borussia Dortmund v Lille
LOCATION:Hembergstadion
DESCRIPTION:Borussia Dortmund v Lille - Hembergstadion - Friendly Match
STATUS:CONFIRMED
END:VEVENT
BEGIN:VEVENT
UID:a9340f513a26aae290549cf40afe10fd@skysports.com
SEQUENCE:0
DTSTAMP:20260425T090906Z
DTSTART:20250925T164500Z
DTEND:20250925T184500Z
SUMMARY:Lille v Brann
LOCATION:Stade Pierre-Mauroy
DESCRIPTION:Lille v Brann - Stade Pierre-Mauroy - UEFA Europa League
STATUS:CONFIRMED
END:VEVENT
BEGIN:VEVENT
UID:b6db3ebf90a079ec94b09e003216d6f8@skysports.com
SEQUENCE:0
DTSTAMP:20260425T090906Z
DTSTART:20251002T164500Z
DTEND:20251002T184500Z
SUMMARY:Roma v Lille
LOCATION:Olimpico
DESCRIPTION:Roma v Lille - Olimpico - UEFA Europa League
STATUS:CONFIRMED
END:VEVENT
BEGIN:VEVENT
UID:8ffda6ced2e8f3c96ffea79e6d98bacc@skysports.com
SEQUENCE:0
DTSTAMP:20260425T090906Z
DTSTART:20251023T190000Z
DTEND:20251023T210000Z
SUMMARY:Lille v PAOK Salonika
LOCATION:Stade Pierre-Mauroy
DESCRIPTION:Lille v PAOK Salonika - Stade Pierre-Mauroy - UEFA Europa Leag
 ue
STATUS:CONFIRMED
END:VEVENT
BEGIN:VEVENT
UID:33cb35ccf8253360f59530fc9a5feb9b@skysports.com
SEQUENCE:0
DTSTAMP:20260425T090906Z
DTSTART:20251106T174500Z
DTEND:20251106T194500Z
SUMMARY:Crvena Zvezda v Lille
LOCATION:Crvena Zvezda Stadium
DESCRIPTION:Crvena Zvezda v Lille - Crvena Zvezda Stadium - UEFA Europa Le
 ague
STATUS:CONFIRMED
END:VEVENT
BEGIN:VEVENT
UID:4862169153628e64da3b794137e9c459@skysports.com
SEQUENCE:0
DTSTAMP:20260425T090906Z
DTSTART:20251127T174500Z
DTEND:20251127T194500Z
SUMMARY:Lille v Dinamo Zagreb
LOCATION:Stade Pierre-Mauroy
DESCRIPTION:Lille v Dinamo Zagreb - Stade Pierre-Mauroy - UEFA Europa Leag
 ue
STATUS:CONFIRMED
END:VEVENT
BEGIN:VEVENT
UID:2b98773ed5676aa38d8fc82bb373f12f@skysports.com
SEQUENCE:0
DTSTAMP:20260425T090906Z
DTSTART:20251211T174500Z
DTEND:20251211T194500Z
SUMMARY:BSC Young Boys Bern v Lille
LOCATION:Stade de Suisse
DESCRIPTION:BSC Young Boys Bern v Lille - Stade de Suisse - UEFA Europa Le
 ague
STATUS:CONFIRMED
END:VEVENT
BEGIN:VEVENT
UID:e975ceb750677f0d0798e40a362a8aeb@skysports.com
SEQUENCE:0
DTSTAMP:20260425T090906Z
DTSTART:20260122T200000Z
DTEND:20260122T220000Z
SUMMARY:Celta Vigo v Lille
LOCATION:Estadio Abanca-Balaidos
DESCRIPTION:Celta Vigo v Lille - Estadio Abanca-Balaidos - UEFA Europa Lea
 gue
STATUS:CONFIRMED
END:VEVENT
BEGIN:VEVENT
UID:49ca2434f6906ea7a1f149028dfb3ca5@skysports.com
SEQUENCE:0
DTSTAMP:20260425T090906Z
DTSTART:20260129T200000Z
DTEND:20260129T220000Z
SUMMARY:Lille v SC Freiburg
LOCATION:Stade Pierre-Mauroy
DESCRIPTION:Lille v SC Freiburg - Stade Pierre-Mauroy - UEFA Europa League
STATUS:CONFIRMED
END:VEVENT
BEGIN:VEVENT
UID:3b16199a0c6a52fdba1c82b932a5ab29@skysports.com
SEQUENCE:0
DTSTAMP:20260425T090906Z
DTSTART:20251220T143000Z
DTEND:20251220T163000Z
SUMMARY:Lusitanos Saint-Maur v Lille
LOCATION:Stade Dominique-Duvauchelle
DESCRIPTION:Lusitanos Saint-Maur v Lille - Stade Dominique-Duvauchelle - C
 oupe de France
STATUS:CONFIRMED
END:VEVENT
BEGIN:VEVENT
UID:1590b0cefabe6688de878123c0a81181@skysports.com
SEQUENCE:0
DTSTAMP:20260425T090906Z
DTSTART:20260111T200000Z
DTEND:20260111T220000Z
SUMMARY:Lille v Lyon
LOCATION:Stade Pierre-Mauroy
DESCRIPTION:Lille v Lyon - Stade Pierre-Mauroy - Coupe de France
STATUS:CONFIRMED
END:VEVENT
BEGIN:VEVENT
UID:85b080082f49d4dd80bbcfa4aa6a55f3@skysports.com
SEQUENCE:0
DTSTAMP:20260425T090906Z
DTSTART:20260219T200000Z
DTEND:20260219T220000Z
SUMMARY:Lille v Crvena Zvezda
LOCATION:Stade Pierre-Mauroy
DESCRIPTION:Lille v Crvena Zvezda - Stade Pierre-Mauroy - UEFA Europa Leag
 ue
STATUS:CONFIRMED
END:VEVENT
BEGIN:VEVENT
UID:81c930d67ceb73307a12477611556b27@skysports.com
SEQUENCE:0
DTSTAMP:20260425T090906Z
DTSTART:20260226T174500Z
DTEND:20260226T194500Z
SUMMARY:Crvena Zvezda v Lille
LOCATION:Crvena Zvezda Stadium
DESCRIPTION:Crvena Zvezda v Lille - Crvena Zvezda Stadium - UEFA Europa Le
 ague
STATUS:CONFIRMED
END:VEVENT
BEGIN:VEVENT
UID:423fbbc473314f10608ef9184a86d064@skysports.com
SEQUENCE:0
DTSTAMP:20260425T090906Z
DTSTART:20260312T174500Z
DTEND:20260312T194500Z
SUMMARY:Lille v Aston Villa
LOCATION:Stade Pierre-Mauroy
DESCRIPTION:Lille v Aston Villa - Stade Pierre-Mauroy - UEFA Europa League
STATUS:CONFIRMED
END:VEVENT
BEGIN:VEVENT
UID:a1e2bed2faea4743b7cfbc1040feca34@skysports.com
SEQUENCE:0
DTSTAMP:20260425T090906Z
DTSTART:20260319T200000Z
DTEND:20260319T220000Z
SUMMARY:Aston Villa v Lille
LOCATION:Villa Park
DESCRIPTION:Aston Villa v Lille - Villa Park - UEFA Europa League
STATUS:CONFIRMED
END:VEVENT
END:VCALENDAR