BEGIN:VCALENDAR
VERSION:2.0
PRODID:-//Sky Sports SSDM//NONSGML Event Calendar//EN
URL:https://www.skysports.com/calendars/football/fixtures/teams/liverpool-
 women
CALSCALE:GREGORIAN
METHOD:PUBLISH
NAME:Liverpool Women Fixtures
X-WR-CALNAME:Liverpool Women Fixtures
X-WR-CALDESC:Liverpool Women fixtures provided by Sky Sports (https://www.
 skysports.com)
REFRESH-INTERVAL;VALUE=DURATION:PT1H
X-PUBLISHED-TTL:PT1H
BEGIN:VEVENT
UID:c367fc4e3c5d3f71e5c742f656eae49e@skysports.com
SEQUENCE:0
DTSTAMP:20260425T091209Z
DTSTART:20250907T110000Z
DTEND:20250907T130000Z
SUMMARY:Liverpool Women v Everton Women
LOCATION:Anfield
DESCRIPTION:Liverpool Women v Everton Women - Anfield - Women's Super Leag
 ue - Live on Sky Sports Main Event and Sky Showcase
STATUS:CONFIRMED
END:VEVENT
BEGIN:VEVENT
UID:018a5ceb3f17c7785a6e73c220a192d9@skysports.com
SEQUENCE:0
DTSTAMP:20260425T091209Z
DTSTART:20250914T110000Z
DTEND:20250914T130000Z
SUMMARY:Leicester City Women v Liverpool Women
LOCATION:The King Power Stadium
DESCRIPTION:Leicester City Women v Liverpool Women - The King Power Stadiu
 m - Women's Super League - Live on Sky Sports+
STATUS:CONFIRMED
END:VEVENT
BEGIN:VEVENT
UID:12fc3e79584871704ee8f8849c1b6a58@skysports.com
SEQUENCE:0
DTSTAMP:20260425T091209Z
DTSTART:20251211T190000Z
DTEND:20251211T210000Z
SUMMARY:Aston Villa Women v Liverpool Women
LOCATION:Villa Park
DESCRIPTION:Aston Villa Women v Liverpool Women - Villa Park - Barclays Wo
 men's Super League - Live on Sky Sports+
STATUS:CONFIRMED
END:VEVENT
BEGIN:VEVENT
UID:c33efe434b6ea151a75cd36449c774f0@skysports.com
SEQUENCE:0
DTSTAMP:20260425T091209Z
DTSTART:20250928T110000Z
DTEND:20250928T130000Z
SUMMARY:Liverpool Women v Manchester United Women
LOCATION:Totally Wicked Stadium
DESCRIPTION:Liverpool Women v Manchester United Women - Totally Wicked Sta
 dium - Barclays Women's Super League - Live on Sky Showcase\, Sky Sports M
 ain Event and Sky Sports Football
STATUS:CONFIRMED
END:VEVENT
BEGIN:VEVENT
UID:e782689ab4ca8da5cd7d5c4fb7795df5@skysports.com
SEQUENCE:0
DTSTAMP:20260425T091209Z
DTSTART:20251005T105500Z
DTEND:20251005T125500Z
SUMMARY:London City Lionesses v Liverpool Women
LOCATION:Hayes Lane Stadium
DESCRIPTION:London City Lionesses v Liverpool Women - Hayes Lane Stadium -
  Barclays Women's Super League - Live on Sky Sports+
STATUS:CONFIRMED
END:VEVENT
BEGIN:VEVENT
UID:5a841908cfb2cea8be249d47072a3024@skysports.com
SEQUENCE:0
DTSTAMP:20260425T091209Z
DTSTART:20251012T154500Z
DTEND:20251012T174500Z
SUMMARY:Liverpool Women v Manchester City Women
LOCATION:Anfield
DESCRIPTION:Liverpool Women v Manchester City Women - Anfield - Barclays W
 omen's Super League - Live on Sky Sports Premier League
STATUS:CONFIRMED
END:VEVENT
BEGIN:VEVENT
UID:97f19eedbfc59f04ce7511c812c93e5b@skysports.com
SEQUENCE:0
DTSTAMP:20260425T091209Z
DTSTART:20251102T121500Z
DTEND:20251102T141500Z
SUMMARY:Tottenham Hotspur Women v Liverpool Women
LOCATION:BetWright Stadium
DESCRIPTION:Tottenham Hotspur Women v Liverpool Women - BetWright Stadium 
 - Barclays Women's Super League - Live on Sky Sports+
STATUS:CONFIRMED
END:VEVENT
BEGIN:VEVENT
UID:00c434ac7d7886fe978d5e2b098e17df@skysports.com
SEQUENCE:0
DTSTAMP:20260425T091209Z
DTSTART:20251109T120000Z
DTEND:20251109T140000Z
SUMMARY:Liverpool Women v Brighton and Hove Albion Women
LOCATION:Totally Wicked Stadium
DESCRIPTION:Liverpool Women v Brighton and Hove Albion Women - Totally Wic
 ked Stadium - Barclays Women's Super League - Live on Sky Sports Football 
 HD
STATUS:CONFIRMED
END:VEVENT
BEGIN:VEVENT
UID:6da5031504b76a7ecaea4cb008a08cc6@skysports.com
SEQUENCE:0
DTSTAMP:20260425T091209Z
DTSTART:20251116T120000Z
DTEND:20251116T140000Z
SUMMARY:Liverpool Women v Chelsea Women
LOCATION:Totally Wicked Stadium
DESCRIPTION:Liverpool Women v Chelsea Women - Totally Wicked Stadium - Bar
 clays Women's Super League - Live on Sky Sports Premier League
STATUS:CONFIRMED
END:VEVENT
BEGIN:VEVENT
UID:416ed6bdf6d43890d1ff9417ecee510e@skysports.com
SEQUENCE:0
DTSTAMP:20260425T091209Z
DTSTART:20251206T120000Z
DTEND:20251206T140000Z
SUMMARY:Arsenal Women v Liverpool Women
LOCATION:Emirates Stadium
DESCRIPTION:Arsenal Women v Liverpool Women - Emirates Stadium - Barclays 
 Women's Super League - Live on Sky Sports Mix and Sky Sports Premier Leagu
 e
STATUS:CONFIRMED
END:VEVENT
BEGIN:VEVENT
UID:32ae62467cb1fa473ef1cfbc3cfc6d61@skysports.com
SEQUENCE:0
DTSTAMP:20260425T091209Z
DTSTART:20251214T115500Z
DTEND:20251214T135500Z
SUMMARY:West Ham United Women v Liverpool Women
LOCATION:Victoria Road
DESCRIPTION:West Ham United Women v Liverpool Women - Victoria Road - Barc
 lays Women's Super League - Live on Sky Sports+
STATUS:CONFIRMED
END:VEVENT
BEGIN:VEVENT
UID:9da98fa48a881f997d7dca7d23c72518@skysports.com
SEQUENCE:0
DTSTAMP:20260425T091209Z
DTSTART:20260111T143000Z
DTEND:20260111T163000Z
SUMMARY:Liverpool Women v London City Lionesses
LOCATION:Totally Wicked Stadium
DESCRIPTION:Liverpool Women v London City Lionesses - Totally Wicked Stadi
 um - Barclays Women's Super League
STATUS:CONFIRMED
END:VEVENT
BEGIN:VEVENT
UID:b06ff5803475fe694beff5d03613eab7@skysports.com
SEQUENCE:0
DTSTAMP:20260425T091209Z
DTSTART:20260125T115500Z
DTEND:20260125T135500Z
SUMMARY:Liverpool Women v Tottenham Hotspur Women
LOCATION:Totally Wicked Stadium
DESCRIPTION:Liverpool Women v Tottenham Hotspur Women - Totally Wicked Sta
 dium - Barclays Women's Super League - Live on Sky Sports+
STATUS:CONFIRMED
END:VEVENT
BEGIN:VEVENT
UID:664cbdd6324e31760a0981ded88222b1@skysports.com
SEQUENCE:0
DTSTAMP:20260425T091209Z
DTSTART:20260201T115500Z
DTEND:20260201T135500Z
SUMMARY:Manchester United Women v Liverpool Women
LOCATION:Leigh Sports Village
DESCRIPTION:Manchester United Women v Liverpool Women - Leigh Sports Villa
 ge - Barclays Women's Super League - Live on Sky Sports Football and Sky S
 ports Football HD
STATUS:CONFIRMED
END:VEVENT
BEGIN:VEVENT
UID:8d9c5c25776405a5e2921433c0c7e517@skysports.com
SEQUENCE:0
DTSTAMP:20260425T091209Z
DTSTART:20260208T120000Z
DTEND:20260208T140000Z
SUMMARY:Liverpool Women v Aston Villa Women
LOCATION:Totally Wicked Stadium
DESCRIPTION:Liverpool Women v Aston Villa Women - Totally Wicked Stadium -
  Barclays Women's Super League - Live on Sky Sports+
STATUS:CONFIRMED
END:VEVENT
BEGIN:VEVENT
UID:13a5edb664b7415ba2a3ebf0f4a9d098@skysports.com
SEQUENCE:0
DTSTAMP:20260425T091209Z
DTSTART:20260215T120000Z
DTEND:20260215T140000Z
SUMMARY:Chelsea Women v Liverpool Women
LOCATION:Kingsmeadow Stadium
DESCRIPTION:Chelsea Women v Liverpool Women - Kingsmeadow Stadium - Barcla
 ys Women's Super League - Live on Sky Sports Premier League and Sky Sports
  Main Event
STATUS:CONFIRMED
END:VEVENT
BEGIN:VEVENT
UID:d0c588a1907f2b4739a107dd4e60a868@skysports.com
SEQUENCE:0
DTSTAMP:20260425T091209Z
DTSTART:20260315T115500Z
DTEND:20260315T135500Z
SUMMARY:Liverpool Women v Leicester City Women
LOCATION:Totally Wicked Stadium
DESCRIPTION:Liverpool Women v Leicester City Women - Totally Wicked Stadiu
 m - Barclays Women's Super League - Live on Sky Sports+
STATUS:CONFIRMED
END:VEVENT
BEGIN:VEVENT
UID:7a54d3618a2d7f8368e532f03817a6b1@skysports.com
SEQUENCE:0
DTSTAMP:20260425T091209Z
DTSTART:20260322T120000Z
DTEND:20260322T140000Z
SUMMARY:Brighton and Hove Albion Women v Liverpool Women
LOCATION:Broadfield Stadium
DESCRIPTION:Brighton and Hove Albion Women v Liverpool Women - Broadfield 
 Stadium - Barclays Women's Super League - Live on Sky Sports Mix and Sky S
 ports+
STATUS:CONFIRMED
END:VEVENT
BEGIN:VEVENT
UID:16cf7443e5778f39eb3baebfa5965feb@skysports.com
SEQUENCE:0
DTSTAMP:20260425T091209Z
DTSTART:20260328T120000Z
DTEND:20260328T140000Z
SUMMARY:Everton Women v Liverpool Women
LOCATION:Goodison Park
DESCRIPTION:Everton Women v Liverpool Women - Goodison Park - Barclays Wom
 en's Super League - Live on Sky Sports Premier League and Sky Sports Mix
STATUS:CONFIRMED
END:VEVENT
BEGIN:VEVENT
UID:07e7a292dd6d1e2214cafa691bfc4e9f@skysports.com
SEQUENCE:0
DTSTAMP:20260425T091209Z
DTSTART:20260426T130000Z
DTEND:20260426T150000Z
SUMMARY:Liverpool Women v West Ham United Women
LOCATION:Totally Wicked Stadium
DESCRIPTION:Liverpool Women v West Ham United Women - Totally Wicked Stadi
 um - Barclays Women's Super League - Live on Sky Sports+ Red Button
STATUS:CONFIRMED
END:VEVENT
BEGIN:VEVENT
UID:9c836ebb03eb4bf865601cc7185068e4@skysports.com
SEQUENCE:0
DTSTAMP:20260425T091209Z
DTSTART:20260503T110000Z
DTEND:20260503T130000Z
SUMMARY:Manchester City Women v Liverpool Women
LOCATION:City Football Academy
DESCRIPTION:Manchester City Women v Liverpool Women - City Football Academ
 y - Barclays Women's Super League - Live on Sky Sports Premier League
STATUS:CONFIRMED
END:VEVENT
BEGIN:VEVENT
UID:13baf08f260af317ee146d9b616a6285@skysports.com
SEQUENCE:0
DTSTAMP:20260425T091209Z
DTSTART:20260516T120000Z
DTEND:20260516T140000Z
SUMMARY:Liverpool Women v Arsenal Women
LOCATION:Anfield
DESCRIPTION:Liverpool Women v Arsenal Women - Anfield - Barclays Women's S
 uper League
STATUS:CONFIRMED
END:VEVENT
BEGIN:VEVENT
UID:7647868e1ed41a5258b6971f77959077@skysports.com
SEQUENCE:0
DTSTAMP:20260425T091209Z
DTSTART:20250924T180000Z
DTEND:20250924T200000Z
SUMMARY:Liverpool Women v Sunderland Women
LOCATION:Totally Wicked Stadium
DESCRIPTION:Liverpool Women v Sunderland Women - Totally Wicked Stadium - 
 Women's League Cup
STATUS:CONFIRMED
END:VEVENT
BEGIN:VEVENT
UID:7c674d356bda563abf4ef4ba679bbcc8@skysports.com
SEQUENCE:0
DTSTAMP:20260425T091209Z
DTSTART:20251016T180000Z
DTEND:20251016T200000Z
SUMMARY:Durham Women v Liverpool Women
LOCATION:Maiden Castle Sports Park
DESCRIPTION:Durham Women v Liverpool Women - Maiden Castle Sports Park - W
 omen's League Cup
STATUS:CONFIRMED
END:VEVENT
BEGIN:VEVENT
UID:9b168324e82db0244433b8e169242b71@skysports.com
SEQUENCE:0
DTSTAMP:20260425T091209Z
DTSTART:20251122T180000Z
DTEND:20251122T200000Z
SUMMARY:Sheffield United Women v Liverpool Women
LOCATION:Bramall Lane
DESCRIPTION:Sheffield United Women v Liverpool Women - Bramall Lane - Wome
 n's League Cup
STATUS:CONFIRMED
END:VEVENT
BEGIN:VEVENT
UID:3136b20425d8ea3de39083f1fdc029e3@skysports.com
SEQUENCE:0
DTSTAMP:20260425T091209Z
DTSTART:20251221T130000Z
DTEND:20251221T150000Z
SUMMARY:Liverpool Women v Chelsea Women
LOCATION:Totally Wicked Stadium
DESCRIPTION:Liverpool Women v Chelsea Women - Totally Wicked Stadium - Wom
 en's League Cup
STATUS:CONFIRMED
END:VEVENT
BEGIN:VEVENT
UID:3e79d77aea104bedf54299d3395acbb0@skysports.com
SEQUENCE:0
DTSTAMP:20260425T091209Z
DTSTART:20260118T130000Z
DTEND:20260118T150000Z
SUMMARY:London Bees v Liverpool Women
LOCATION:The Hive Stadium
DESCRIPTION:London Bees v Liverpool Women - The Hive Stadium - The Women's
  FA Cup
STATUS:CONFIRMED
END:VEVENT
BEGIN:VEVENT
UID:4447e5e86a8a7b4276ba83cad196815f@skysports.com
SEQUENCE:0
DTSTAMP:20260425T091209Z
DTSTART:20260222T163000Z
DTEND:20260222T183000Z
SUMMARY:Liverpool Women v Everton Women
LOCATION:Totally Wicked Stadium
DESCRIPTION:Liverpool Women v Everton Women - Totally Wicked Stadium - The
  Women's FA Cup
STATUS:CONFIRMED
END:VEVENT
BEGIN:VEVENT
UID:513fd4c1a0cc1bb96d8566d35ef00285@skysports.com
SEQUENCE:0
DTSTAMP:20260425T091209Z
DTSTART:20260405T133000Z
DTEND:20260405T153000Z
SUMMARY:Charlton Athletic Women v Liverpool Women
LOCATION:The Valley
DESCRIPTION:Charlton Athletic Women v Liverpool Women - The Valley - The W
 omen's FA Cup
STATUS:CONFIRMED
END:VEVENT
BEGIN:VEVENT
UID:a0c4bb075491412bf61c551fed006e40@skysports.com
SEQUENCE:0
DTSTAMP:20260425T091209Z
DTSTART:20260510T111500Z
DTEND:20260510T131500Z
SUMMARY:Liverpool Women v Brighton and Hove Albion Women
LOCATION:Totally Wicked Stadium
DESCRIPTION:Liverpool Women v Brighton and Hove Albion Women - Totally Wic
 ked Stadium - The Women's FA Cup
STATUS:CONFIRMED
END:VEVENT
END:VCALENDAR