BEGIN:VCALENDAR
VERSION:2.0
PRODID:-//Sky Sports SSDM//NONSGML Event Calendar//EN
URL:https://www.skysports.com/calendars/football/fixtures/teams/livingston
CALSCALE:GREGORIAN
METHOD:PUBLISH
NAME:Livingston Fixtures
X-WR-CALNAME:Livingston Fixtures
X-WR-CALDESC:Livingston fixtures provided by Sky Sports (https://www.skysp
 orts.com)
REFRESH-INTERVAL;VALUE=DURATION:PT1H
X-PUBLISHED-TTL:PT1H
BEGIN:VEVENT
UID:8bba2dc9688b2b2d619ef95a653cf232@skysports.com
SEQUENCE:0
DTSTAMP:20260425T090704Z
DTSTART:20250712T140000Z
DTEND:20250712T160000Z
SUMMARY:East Fife v Livingston
LOCATION:First2 Finance Bayview Stadium
DESCRIPTION:East Fife v Livingston - First2 Finance Bayview Stadium - Prem
 ier Sports Cup
STATUS:CONFIRMED
END:VEVENT
BEGIN:VEVENT
UID:ebdde387963dec722b452ae3ba461e83@skysports.com
SEQUENCE:0
DTSTAMP:20260425T090704Z
DTSTART:20250716T184500Z
DTEND:20250716T204500Z
SUMMARY:Kilmarnock v Livingston
LOCATION:The BBSP Stadium\, Rugby Park
DESCRIPTION:Kilmarnock v Livingston - The BBSP Stadium\, Rugby Park - Prem
 ier Sports Cup
STATUS:CONFIRMED
END:VEVENT
BEGIN:VEVENT
UID:291e63f813201f4c0e9efbce63482252@skysports.com
SEQUENCE:0
DTSTAMP:20260425T090704Z
DTSTART:20250719T140000Z
DTEND:20250719T160000Z
SUMMARY:Livingston v Brora
LOCATION:Tony Macaroni Arena
DESCRIPTION:Livingston v Brora - Tony Macaroni Arena - Premier Sports Cup
STATUS:CONFIRMED
END:VEVENT
BEGIN:VEVENT
UID:7d41607e6d23e459bb37a122befe50c3@skysports.com
SEQUENCE:0
DTSTAMP:20260425T090704Z
DTSTART:20250726T140000Z
DTEND:20250726T160000Z
SUMMARY:Livingston v Kelty Hearts
LOCATION:Tony Macaroni Arena
DESCRIPTION:Livingston v Kelty Hearts - Tony Macaroni Arena - Premier Spor
 ts Cup
STATUS:CONFIRMED
END:VEVENT
BEGIN:VEVENT
UID:1c325cf19f60855fe222d13a75c8a4ad@skysports.com
SEQUENCE:0
DTSTAMP:20260425T090704Z
DTSTART:20250802T140000Z
DTEND:20250802T160000Z
SUMMARY:Kilmarnock v Livingston
LOCATION:The BBSP Stadium\, Rugby Park
DESCRIPTION:Kilmarnock v Livingston - The BBSP Stadium\, Rugby Park - Scot
 tish Premiership
STATUS:CONFIRMED
END:VEVENT
BEGIN:VEVENT
UID:4020f4ebe38f83c3b5b9588a9d7e8da9@skysports.com
SEQUENCE:0
DTSTAMP:20260425T090704Z
DTSTART:20250809T140000Z
DTEND:20250809T160000Z
SUMMARY:Livingston v Falkirk
LOCATION:Tony Macaroni Arena
DESCRIPTION:Livingston v Falkirk - Tony Macaroni Arena - Scottish Premiers
 hip
STATUS:CONFIRMED
END:VEVENT
BEGIN:VEVENT
UID:c22471f97303a51a925d337d441f29ce@skysports.com
SEQUENCE:0
DTSTAMP:20260425T090704Z
DTSTART:20250823T140000Z
DTEND:20250823T160000Z
SUMMARY:Celtic v Livingston
LOCATION:Celtic Park
DESCRIPTION:Celtic v Livingston - Celtic Park - Scottish Premiership
STATUS:CONFIRMED
END:VEVENT
BEGIN:VEVENT
UID:4c533480a3c1f88c54723be02001b5f5@skysports.com
SEQUENCE:0
DTSTAMP:20260425T090704Z
DTSTART:20250830T140000Z
DTEND:20250830T160000Z
SUMMARY:Livingston v Hearts
LOCATION:Tony Macaroni Arena
DESCRIPTION:Livingston v Hearts - Tony Macaroni Arena - Scottish Premiersh
 ip
STATUS:CONFIRMED
END:VEVENT
BEGIN:VEVENT
UID:8bce1f66ac39e22a0a44c897d6874ece@skysports.com
SEQUENCE:0
DTSTAMP:20260425T090704Z
DTSTART:20250913T140000Z
DTEND:20250913T160000Z
SUMMARY:Aberdeen v Livingston
LOCATION:Pittodrie
DESCRIPTION:Aberdeen v Livingston - Pittodrie - Scottish Premiership
STATUS:CONFIRMED
END:VEVENT
BEGIN:VEVENT
UID:275df0fc093b763edef953bb36764be6@skysports.com
SEQUENCE:0
DTSTAMP:20260425T090704Z
DTSTART:20250928T140000Z
DTEND:20250928T160000Z
SUMMARY:Livingston v Rangers
LOCATION:Tony Macaroni Arena
DESCRIPTION:Livingston v Rangers - Tony Macaroni Arena - Scottish Premiers
 hip - Live on Sky Sports Football HD
STATUS:CONFIRMED
END:VEVENT
BEGIN:VEVENT
UID:72d9df2bda83768190d80e358011e5b1@skysports.com
SEQUENCE:0
DTSTAMP:20260425T090704Z
DTSTART:20251004T140000Z
DTEND:20251004T160000Z
SUMMARY:Dundee United v Livingston
LOCATION:CalForth Construction Arena at Tannadice Park
DESCRIPTION:Dundee United v Livingston - CalForth Construction Arena at Ta
 nnadice Park - Scottish Premiership
STATUS:CONFIRMED
END:VEVENT
BEGIN:VEVENT
UID:2f92c814b784db7770929cdcf13d703f@skysports.com
SEQUENCE:0
DTSTAMP:20260425T090704Z
DTSTART:20251018T140000Z
DTEND:20251018T160000Z
SUMMARY:Hibernian v Livingston
LOCATION:Easter Road
DESCRIPTION:Hibernian v Livingston - Easter Road - Scottish Premiership
STATUS:CONFIRMED
END:VEVENT
BEGIN:VEVENT
UID:909fedaee1c5a20f0c1c4f9e73dec3f1@skysports.com
SEQUENCE:0
DTSTAMP:20260425T090704Z
DTSTART:20251025T140000Z
DTEND:20251025T160000Z
SUMMARY:Livingston v Motherwell
LOCATION:Tony Macaroni Arena
DESCRIPTION:Livingston v Motherwell - Tony Macaroni Arena - Scottish Premi
 ership
STATUS:CONFIRMED
END:VEVENT
BEGIN:VEVENT
UID:8718d30ae7279c92aa9f6e95cb4ac933@skysports.com
SEQUENCE:0
DTSTAMP:20260425T090704Z
DTSTART:20250920T140000Z
DTEND:20250920T160000Z
SUMMARY:Dundee v Livingston
LOCATION:The Scot Foam Stadium at Dens Park
DESCRIPTION:Dundee v Livingston - The Scot Foam Stadium at Dens Park - Sco
 ttish Premiership
STATUS:CONFIRMED
END:VEVENT
BEGIN:VEVENT
UID:42b3f28c9377b5f4260fbc34d06d14e9@skysports.com
SEQUENCE:0
DTSTAMP:20260425T090704Z
DTSTART:20260120T194500Z
DTEND:20260120T214500Z
SUMMARY:Livingston v St Mirren
LOCATION:Tony Macaroni Arena
DESCRIPTION:Livingston v St Mirren - Tony Macaroni Arena - Scottish Premie
 rship
STATUS:CONFIRMED
END:VEVENT
BEGIN:VEVENT
UID:a7e88c1ea7cbf5f95981dd412b2cc9e1@skysports.com
SEQUENCE:0
DTSTAMP:20260425T090704Z
DTSTART:20251108T150000Z
DTEND:20251108T170000Z
SUMMARY:Falkirk v Livingston
LOCATION:Falkirk Stadium
DESCRIPTION:Falkirk v Livingston - Falkirk Stadium - Scottish Premiership
STATUS:CONFIRMED
END:VEVENT
BEGIN:VEVENT
UID:db2dce8ed96eeaee88ffd779e431e49c@skysports.com
SEQUENCE:0
DTSTAMP:20260425T090704Z
DTSTART:20251122T150000Z
DTEND:20251122T170000Z
SUMMARY:Rangers v Livingston
LOCATION:Ibrox Stadium
DESCRIPTION:Rangers v Livingston - Ibrox Stadium - Scottish Premiership
STATUS:CONFIRMED
END:VEVENT
BEGIN:VEVENT
UID:45fe268a1856f6828f51a375f93719b3@skysports.com
SEQUENCE:0
DTSTAMP:20260425T090704Z
DTSTART:20251130T150000Z
DTEND:20251130T170000Z
SUMMARY:Livingston v Aberdeen
LOCATION:Tony Macaroni Arena
DESCRIPTION:Livingston v Aberdeen - Tony Macaroni Arena - Scottish Premier
 ship
STATUS:CONFIRMED
END:VEVENT
BEGIN:VEVENT
UID:fb4ebb63a0c998cdac126de48ea11068@skysports.com
SEQUENCE:0
DTSTAMP:20260425T090704Z
DTSTART:20251101T150000Z
DTEND:20251101T170000Z
SUMMARY:Livingston v Hibernian
LOCATION:Tony Macaroni Arena
DESCRIPTION:Livingston v Hibernian - Tony Macaroni Arena - Scottish Premie
 rship
STATUS:CONFIRMED
END:VEVENT
BEGIN:VEVENT
UID:08d9e876c7c5fe777bc13b24d4340bb7@skysports.com
SEQUENCE:0
DTSTAMP:20260425T090704Z
DTSTART:20251206T150000Z
DTEND:20251206T170000Z
SUMMARY:Motherwell v Livingston
LOCATION:Fir Park
DESCRIPTION:Motherwell v Livingston - Fir Park - Scottish Premiership
STATUS:CONFIRMED
END:VEVENT
BEGIN:VEVENT
UID:ea1f98cfef4ee6bcad6e69d2bcfc4ecb@skysports.com
SEQUENCE:0
DTSTAMP:20260425T090704Z
DTSTART:20251213T150000Z
DTEND:20251213T170000Z
SUMMARY:Livingston v Dundee
LOCATION:Tony Macaroni Arena
DESCRIPTION:Livingston v Dundee - Tony Macaroni Arena - Scottish Premiersh
 ip
STATUS:CONFIRMED
END:VEVENT
BEGIN:VEVENT
UID:ad695ea9390e72de329dd065fa8c4f54@skysports.com
SEQUENCE:0
DTSTAMP:20260425T090704Z
DTSTART:20251220T150000Z
DTEND:20251220T170000Z
SUMMARY:St Mirren v Livingston
LOCATION:The SMiSA Stadium
DESCRIPTION:St Mirren v Livingston - The SMiSA Stadium - Scottish Premiers
 hip
STATUS:CONFIRMED
END:VEVENT
BEGIN:VEVENT
UID:cdce765a73223368819b056a46cd11a2@skysports.com
SEQUENCE:0
DTSTAMP:20260425T090704Z
DTSTART:20251227T150000Z
DTEND:20251227T170000Z
SUMMARY:Livingston v Celtic
LOCATION:Tony Macaroni Arena
DESCRIPTION:Livingston v Celtic - Tony Macaroni Arena - Scottish Premiersh
 ip - Live on Sky Sports Football
STATUS:CONFIRMED
END:VEVENT
BEGIN:VEVENT
UID:6f6657d92390a966b3cb2f4ddaf09c99@skysports.com
SEQUENCE:0
DTSTAMP:20260425T090704Z
DTSTART:20251230T194500Z
DTEND:20251230T214500Z
SUMMARY:Livingston v Dundee United
LOCATION:Tony Macaroni Arena
DESCRIPTION:Livingston v Dundee United - Tony Macaroni Arena - Scottish Pr
 emiership
STATUS:CONFIRMED
END:VEVENT
BEGIN:VEVENT
UID:fa31da1d5c181d7482dc549959c79eb3@skysports.com
SEQUENCE:0
DTSTAMP:20260425T090704Z
DTSTART:20260103T150000Z
DTEND:20260103T170000Z
SUMMARY:Hearts v Livingston
LOCATION:Tynecastle
DESCRIPTION:Hearts v Livingston - Tynecastle - Scottish Premiership
STATUS:CONFIRMED
END:VEVENT
BEGIN:VEVENT
UID:3a92c84f9aed7db6825bbda78763fd4a@skysports.com
SEQUENCE:0
DTSTAMP:20260425T090704Z
DTSTART:20260110T150000Z
DTEND:20260110T170000Z
SUMMARY:Livingston v Kilmarnock
LOCATION:Tony Macaroni Arena
DESCRIPTION:Livingston v Kilmarnock - Tony Macaroni Arena - Scottish Premi
 ership
STATUS:CONFIRMED
END:VEVENT
BEGIN:VEVENT
UID:49b708334548eaa6e71d1946835218b5@skysports.com
SEQUENCE:0
DTSTAMP:20260425T090704Z
DTSTART:20260124T150000Z
DTEND:20260124T170000Z
SUMMARY:Aberdeen v Livingston
LOCATION:Pittodrie
DESCRIPTION:Aberdeen v Livingston - Pittodrie - Scottish Premiership
STATUS:CONFIRMED
END:VEVENT
BEGIN:VEVENT
UID:c763bd40bb48a5cdd1ebf081d7a73b07@skysports.com
SEQUENCE:0
DTSTAMP:20260425T090704Z
DTSTART:20260131T150000Z
DTEND:20260131T170000Z
SUMMARY:Livingston v Motherwell
LOCATION:Tony Macaroni Arena
DESCRIPTION:Livingston v Motherwell - Tony Macaroni Arena - Scottish Premi
 ership
STATUS:CONFIRMED
END:VEVENT
BEGIN:VEVENT
UID:191b6d955e0647db12d0ff83f41b4f78@skysports.com
SEQUENCE:0
DTSTAMP:20260425T090704Z
DTSTART:20260204T194500Z
DTEND:20260204T214500Z
SUMMARY:Livingston v Falkirk
LOCATION:Tony Macaroni Arena
DESCRIPTION:Livingston v Falkirk - Tony Macaroni Arena - Scottish Premiers
 hip
STATUS:CONFIRMED
END:VEVENT
BEGIN:VEVENT
UID:8d8f747a0fa4ba0cf7c74e56c1c907e6@skysports.com
SEQUENCE:0
DTSTAMP:20260425T090704Z
DTSTART:20260211T194500Z
DTEND:20260211T214500Z
SUMMARY:Celtic v Livingston
LOCATION:Celtic Park
DESCRIPTION:Celtic v Livingston - Celtic Park - Scottish Premiership
STATUS:CONFIRMED
END:VEVENT
BEGIN:VEVENT
UID:05a1ad83c8a3e142d97c24813760bb1e@skysports.com
SEQUENCE:0
DTSTAMP:20260425T090704Z
DTSTART:20260214T150000Z
DTEND:20260214T170000Z
SUMMARY:Dundee v Livingston
LOCATION:The Scot Foam Stadium at Dens Park
DESCRIPTION:Dundee v Livingston - The Scot Foam Stadium at Dens Park - Sco
 ttish Premiership
STATUS:CONFIRMED
END:VEVENT
BEGIN:VEVENT
UID:9c91b81bbe4ffdcfbdcafc7364a5e4a7@skysports.com
SEQUENCE:0
DTSTAMP:20260425T090704Z
DTSTART:20260222T150000Z
DTEND:20260222T170000Z
SUMMARY:Livingston v Rangers
LOCATION:Tony Macaroni Arena
DESCRIPTION:Livingston v Rangers - Tony Macaroni Arena - Scottish Premiers
 hip - Live on Sky Sports Football
STATUS:CONFIRMED
END:VEVENT
BEGIN:VEVENT
UID:634a92eda5ffce09fb3b908e63d2d7c3@skysports.com
SEQUENCE:0
DTSTAMP:20260425T090704Z
DTSTART:20260228T150000Z
DTEND:20260228T170000Z
SUMMARY:Livingston v St Mirren
LOCATION:Tony Macaroni Arena
DESCRIPTION:Livingston v St Mirren - Tony Macaroni Arena - Scottish Premie
 rship
STATUS:CONFIRMED
END:VEVENT
BEGIN:VEVENT
UID:317d61d73ef35951295f86f6fa655398@skysports.com
SEQUENCE:0
DTSTAMP:20260425T090704Z
DTSTART:20260314T150000Z
DTEND:20260314T170000Z
SUMMARY:Hibernian v Livingston
LOCATION:Easter Road
DESCRIPTION:Hibernian v Livingston - Easter Road - Scottish Premiership
STATUS:CONFIRMED
END:VEVENT
BEGIN:VEVENT
UID:656f93fa0f7c93fbb59230ed92b93fc3@skysports.com
SEQUENCE:0
DTSTAMP:20260425T090704Z
DTSTART:20260321T150000Z
DTEND:20260321T170000Z
SUMMARY:Kilmarnock v Livingston
LOCATION:The BBSP Stadium\, Rugby Park
DESCRIPTION:Kilmarnock v Livingston - The BBSP Stadium\, Rugby Park - Scot
 tish Premiership
STATUS:CONFIRMED
END:VEVENT
BEGIN:VEVENT
UID:0182258ee60bc1b1d2d7a0fe931a2d13@skysports.com
SEQUENCE:0
DTSTAMP:20260425T090704Z
DTSTART:20260405T130000Z
DTEND:20260405T150000Z
SUMMARY:Livingston v Hearts
LOCATION:Tony Macaroni Arena
DESCRIPTION:Livingston v Hearts - Tony Macaroni Arena - Scottish Premiersh
 ip - Live on Sky Sports Main Event and Sky Sports Football
STATUS:CONFIRMED
END:VEVENT
BEGIN:VEVENT
UID:c5911aaa40899b70ba97972ab51f87de@skysports.com
SEQUENCE:0
DTSTAMP:20260425T090704Z
DTSTART:20260411T140000Z
DTEND:20260411T160000Z
SUMMARY:Dundee United v Livingston
LOCATION:CalForth Construction Arena at Tannadice Park
DESCRIPTION:Dundee United v Livingston - CalForth Construction Arena at Ta
 nnadice Park - Scottish Premiership
STATUS:CONFIRMED
END:VEVENT
BEGIN:VEVENT
UID:92aac954cb6c6849722ae26aa8031329@skysports.com
SEQUENCE:0
DTSTAMP:20260425T090704Z
DTSTART:20250817T140000Z
DTEND:20250817T160000Z
SUMMARY:Livingston v Hibernian
LOCATION:Tony Macaroni Arena
DESCRIPTION:Livingston v Hibernian - Tony Macaroni Arena - Premier Sports 
 Cup
STATUS:CONFIRMED
END:VEVENT
BEGIN:VEVENT
UID:369e70b234b85593caa9431fb494fcfd@skysports.com
SEQUENCE:0
DTSTAMP:20260425T090704Z
DTSTART:20260117T150000Z
DTEND:20260117T170000Z
SUMMARY:Livingston v St Mirren
LOCATION:Tony Macaroni Arena
DESCRIPTION:Livingston v St Mirren - Tony Macaroni Arena - Scottish Cup
STATUS:CONFIRMED
END:VEVENT
BEGIN:VEVENT
UID:9c1ddb1693bb8e4bcc5ff771e3dfa258@skysports.com
SEQUENCE:0
DTSTAMP:20260425T090704Z
DTSTART:20260425T140000Z
DTEND:20260425T160000Z
SUMMARY:St Mirren v Livingston
LOCATION:The SMiSA Stadium
DESCRIPTION:St Mirren v Livingston - The SMiSA Stadium - Scottish Premiers
 hip
STATUS:CONFIRMED
END:VEVENT
BEGIN:VEVENT
UID:65b57a585c54bc0cc11a740de71b0e1b@skysports.com
SEQUENCE:0
DTSTAMP:20260425T090704Z
DTSTART:20260501T184500Z
DTEND:20260501T204500Z
SUMMARY:Livingston v Aberdeen
LOCATION:Home of the Set Fare Arena
DESCRIPTION:Livingston v Aberdeen - Home of the Set Fare Arena - Scottish 
 Premiership
STATUS:CONFIRMED
END:VEVENT
BEGIN:VEVENT
UID:69d393b2a02de89ae18d497820dabaaf@skysports.com
SEQUENCE:0
DTSTAMP:20260425T090704Z
DTSTART:20260509T140000Z
DTEND:20260509T160000Z
SUMMARY:Dundee v Livingston
LOCATION:The Scot Foam Stadium at Dens Park
DESCRIPTION:Dundee v Livingston - The Scot Foam Stadium at Dens Park - Sco
 ttish Premiership
STATUS:CONFIRMED
END:VEVENT
BEGIN:VEVENT
UID:0b9e81286fc462aaf5d30a0621571354@skysports.com
SEQUENCE:0
DTSTAMP:20260425T090704Z
DTSTART:20260512T184500Z
DTEND:20260512T204500Z
SUMMARY:Dundee United v Livingston
LOCATION:CalForth Construction Arena at Tannadice Park
DESCRIPTION:Dundee United v Livingston - CalForth Construction Arena at Ta
 nnadice Park - Scottish Premiership
STATUS:CONFIRMED
END:VEVENT
BEGIN:VEVENT
UID:80a644842fd9cbba62531a715f63ca21@skysports.com
SEQUENCE:0
DTSTAMP:20260425T090704Z
DTSTART:20260517T130000Z
DTEND:20260517T150000Z
SUMMARY:Livingston v Kilmarnock
LOCATION:Home of the Set Fare Arena
DESCRIPTION:Livingston v Kilmarnock - Home of the Set Fare Arena - Scottis
 h Premiership
STATUS:CONFIRMED
END:VEVENT
END:VCALENDAR