BEGIN:VCALENDAR
VERSION:2.0
PRODID:-//Sky Sports SSDM//NONSGML Event Calendar//EN
URL:https://www.skysports.com/calendars/football/fixtures/teams/luton-town
CALSCALE:GREGORIAN
METHOD:PUBLISH
NAME:Luton Town Fixtures
X-WR-CALNAME:Luton Town Fixtures
X-WR-CALDESC:Luton Town fixtures provided by Sky Sports (https://www.skysp
 orts.com)
REFRESH-INTERVAL;VALUE=DURATION:PT1H
X-PUBLISHED-TTL:PT1H
BEGIN:VEVENT
UID:8ce7be15729f55d2399fb0317febb003@skysports.com
SEQUENCE:0
DTSTAMP:20260425T090106Z
DTSTART:20250726T140000Z
DTEND:20250726T160000Z
SUMMARY:Luton Town v Tottenham Hotspur
LOCATION:Kenilworth Road
DESCRIPTION:Luton Town v Tottenham Hotspur - Kenilworth Road - Friendly Ma
 tch
STATUS:CONFIRMED
END:VEVENT
BEGIN:VEVENT
UID:5e07be9a8c239d83235f3a35fdf38164@skysports.com
SEQUENCE:0
DTSTAMP:20260425T090106Z
DTSTART:20250801T190000Z
DTEND:20250801T210000Z
SUMMARY:Luton Town v AFC Wimbledon
LOCATION:Kenilworth Road
DESCRIPTION:Luton Town v AFC Wimbledon - Kenilworth Road - Sky Bet League 
 One - Live on Sky Sports Football and Sky Sports Main Event
STATUS:CONFIRMED
END:VEVENT
BEGIN:VEVENT
UID:bde8b1dc6e5d763d016a7d8761baac2e@skysports.com
SEQUENCE:0
DTSTAMP:20260425T090106Z
DTSTART:20250809T113000Z
DTEND:20250809T133000Z
SUMMARY:Peterborough United v Luton Town
LOCATION:Weston Homes Stadium
DESCRIPTION:Peterborough United v Luton Town - Weston Homes Stadium - Sky 
 Bet League One - Live on Sky Sports+
STATUS:CONFIRMED
END:VEVENT
BEGIN:VEVENT
UID:bcf2409666b5752fc64919134ab6e3b0@skysports.com
SEQUENCE:0
DTSTAMP:20260425T090106Z
DTSTART:20250816T140000Z
DTEND:20250816T160000Z
SUMMARY:Bradford City v Luton Town
LOCATION:University of Bradford Stadium
DESCRIPTION:Bradford City v Luton Town - University of Bradford Stadium - 
 Sky Bet League One
STATUS:CONFIRMED
END:VEVENT
BEGIN:VEVENT
UID:6ae82163a6a6065a339cdefc3a4b2b4f@skysports.com
SEQUENCE:0
DTSTAMP:20260425T090106Z
DTSTART:20250819T184500Z
DTEND:20250819T204500Z
SUMMARY:Luton Town v Wigan Athletic
LOCATION:Kenilworth Road
DESCRIPTION:Luton Town v Wigan Athletic - Kenilworth Road - Sky Bet League
  One - Live on Sky Sports+
STATUS:CONFIRMED
END:VEVENT
BEGIN:VEVENT
UID:1bd21f86284d3cb74bbf5859de1a7f3e@skysports.com
SEQUENCE:0
DTSTAMP:20260425T090106Z
DTSTART:20250823T113000Z
DTEND:20250823T133000Z
SUMMARY:Luton Town v Cardiff City
LOCATION:Kenilworth Road
DESCRIPTION:Luton Town v Cardiff City - Kenilworth Road - Sky Bet League O
 ne - Live on Sky Sports+
STATUS:CONFIRMED
END:VEVENT
BEGIN:VEVENT
UID:5ff1eafe51a3fa4d43933c0cdfac7b6d@skysports.com
SEQUENCE:0
DTSTAMP:20260425T090106Z
DTSTART:20250830T140000Z
DTEND:20250830T160000Z
SUMMARY:Burton Albion v Luton Town
LOCATION:Pirelli Stadium
DESCRIPTION:Burton Albion v Luton Town - Pirelli Stadium - Sky Bet League 
 One
STATUS:CONFIRMED
END:VEVENT
BEGIN:VEVENT
UID:15982ebab7637f3506c0461556b3e9f0@skysports.com
SEQUENCE:0
DTSTAMP:20260425T090106Z
DTSTART:20250930T184500Z
DTEND:20250930T204500Z
SUMMARY:Blackpool v Luton Town
LOCATION:Bloomfield Road
DESCRIPTION:Blackpool v Luton Town - Bloomfield Road - Sky Bet League One 
 - Live on Sky Sports+
STATUS:CONFIRMED
END:VEVENT
BEGIN:VEVENT
UID:22d6d6b370f1a07a56563fc32346d846@skysports.com
SEQUENCE:0
DTSTAMP:20260425T090106Z
DTSTART:20250913T140000Z
DTEND:20250913T160000Z
SUMMARY:Luton Town v Plymouth Argyle
LOCATION:Kenilworth Road
DESCRIPTION:Luton Town v Plymouth Argyle - Kenilworth Road - Sky Bet Leagu
 e One
STATUS:CONFIRMED
END:VEVENT
BEGIN:VEVENT
UID:2cbb733f8dd89df066af966d16adc8e8@skysports.com
SEQUENCE:0
DTSTAMP:20260425T090106Z
DTSTART:20250920T113000Z
DTEND:20250920T133000Z
SUMMARY:Lincoln City v Luton Town
LOCATION:LNER Stadium
DESCRIPTION:Lincoln City v Luton Town - LNER Stadium - Sky Bet League One 
 - Live on Sky Sports+
STATUS:CONFIRMED
END:VEVENT
BEGIN:VEVENT
UID:8c05147f42bb992ae34db21df09bc38a@skysports.com
SEQUENCE:0
DTSTAMP:20260425T090106Z
DTSTART:20250927T140000Z
DTEND:20250927T160000Z
SUMMARY:Luton Town v Doncaster Rovers
LOCATION:Kenilworth Road
DESCRIPTION:Luton Town v Doncaster Rovers - Kenilworth Road - Sky Bet Leag
 ue One
STATUS:CONFIRMED
END:VEVENT
BEGIN:VEVENT
UID:3b56c73e87db428a6c53c225cd803f23@skysports.com
SEQUENCE:0
DTSTAMP:20260425T090106Z
DTSTART:20251004T140000Z
DTEND:20251004T160000Z
SUMMARY:Stevenage v Luton Town
LOCATION:Lamex Stadium
DESCRIPTION:Stevenage v Luton Town - Lamex Stadium - Sky Bet League One
STATUS:CONFIRMED
END:VEVENT
BEGIN:VEVENT
UID:2efd0526448a648b225220ec48a4e3b4@skysports.com
SEQUENCE:0
DTSTAMP:20260425T090106Z
DTSTART:20251125T194500Z
DTEND:20251125T214500Z
SUMMARY:Luton Town v Huddersfield Town
LOCATION:Kenilworth Road
DESCRIPTION:Luton Town v Huddersfield Town - Kenilworth Road - Sky Bet Lea
 gue One - Live on Sky Sports+
STATUS:CONFIRMED
END:VEVENT
BEGIN:VEVENT
UID:26441062f107c61e1c9fc31e46570b00@skysports.com
SEQUENCE:0
DTSTAMP:20260425T090106Z
DTSTART:20251018T140000Z
DTEND:20251018T160000Z
SUMMARY:Luton Town v Mansfield Town
LOCATION:Kenilworth Road
DESCRIPTION:Luton Town v Mansfield Town - Kenilworth Road - Sky Bet League
  One
STATUS:CONFIRMED
END:VEVENT
BEGIN:VEVENT
UID:c5632ca290adf60fc001aa881249dc8c@skysports.com
SEQUENCE:0
DTSTAMP:20260425T090106Z
DTSTART:20251025T140000Z
DTEND:20251025T160000Z
SUMMARY:Northampton Town v Luton Town
LOCATION:Sixfields Stadium
DESCRIPTION:Northampton Town v Luton Town - Sixfields Stadium - Sky Bet Le
 ague One
STATUS:CONFIRMED
END:VEVENT
BEGIN:VEVENT
UID:35a270992ec230200d5454dca296c4ef@skysports.com
SEQUENCE:0
DTSTAMP:20260425T090106Z
DTSTART:20251108T150000Z
DTEND:20251108T170000Z
SUMMARY:Stockport County v Luton Town
LOCATION:Edgeley Park
DESCRIPTION:Stockport County v Luton Town - Edgeley Park - Sky Bet League 
 One
STATUS:CONFIRMED
END:VEVENT
BEGIN:VEVENT
UID:39279f80d89051b50e86f9eacb897adb@skysports.com
SEQUENCE:0
DTSTAMP:20260425T090106Z
DTSTART:20251115T150000Z
DTEND:20251115T170000Z
SUMMARY:Luton Town v Rotherham United
LOCATION:Kenilworth Road
DESCRIPTION:Luton Town v Rotherham United - Kenilworth Road - Sky Bet Leag
 ue One - Live on Sky Sports+
STATUS:CONFIRMED
END:VEVENT
BEGIN:VEVENT
UID:f43c2901ccffeacdd12238707120cd94@skysports.com
SEQUENCE:0
DTSTAMP:20260425T090106Z
DTSTART:20251122T150000Z
DTEND:20251122T170000Z
SUMMARY:Barnsley v Luton Town
LOCATION:Oakwell Stadium
DESCRIPTION:Barnsley v Luton Town - Oakwell Stadium - Sky Bet League One
STATUS:CONFIRMED
END:VEVENT
BEGIN:VEVENT
UID:e67fab7c6e4e8e5f51a710ef86004330@skysports.com
SEQUENCE:0
DTSTAMP:20260425T090106Z
DTSTART:20251129T150000Z
DTEND:20251129T170000Z
SUMMARY:Luton Town v Bolton Wanderers
LOCATION:Kenilworth Road
DESCRIPTION:Luton Town v Bolton Wanderers - Kenilworth Road - Sky Bet Leag
 ue One
STATUS:CONFIRMED
END:VEVENT
BEGIN:VEVENT
UID:06e920e9bee83f684a6e985be3116901@skysports.com
SEQUENCE:0
DTSTAMP:20260425T090106Z
DTSTART:20251209T194500Z
DTEND:20251209T214500Z
SUMMARY:Leyton Orient v Luton Town
LOCATION:BetWright Stadium
DESCRIPTION:Leyton Orient v Luton Town - BetWright Stadium - Sky Bet Leagu
 e One - Live on Sky Sports+
STATUS:CONFIRMED
END:VEVENT
BEGIN:VEVENT
UID:3608f387dba301d4f6456350e29f53e1@skysports.com
SEQUENCE:0
DTSTAMP:20260425T090106Z
DTSTART:20251213T150000Z
DTEND:20251213T170000Z
SUMMARY:Luton Town v Port Vale
LOCATION:Kenilworth Road
DESCRIPTION:Luton Town v Port Vale - Kenilworth Road - Sky Bet League One
STATUS:CONFIRMED
END:VEVENT
BEGIN:VEVENT
UID:e0bafd0e899f06551549c1f35cd280f2@skysports.com
SEQUENCE:0
DTSTAMP:20260425T090106Z
DTSTART:20251218T200000Z
DTEND:20251218T220000Z
SUMMARY:Reading v Luton Town
LOCATION:Select Car Leasing Stadium
DESCRIPTION:Reading v Luton Town - Select Car Leasing Stadium - Sky Bet Le
 ague One - Live on Sky Sports Football
STATUS:CONFIRMED
END:VEVENT
BEGIN:VEVENT
UID:7f2cccce27618e792eea86323955e62f@skysports.com
SEQUENCE:0
DTSTAMP:20260425T090106Z
DTSTART:20251226T150000Z
DTEND:20251226T170000Z
SUMMARY:Luton Town v Wycombe Wanderers
LOCATION:Kenilworth Road
DESCRIPTION:Luton Town v Wycombe Wanderers - Kenilworth Road - Sky Bet Lea
 gue One - Live on Sky Sports+
STATUS:CONFIRMED
END:VEVENT
BEGIN:VEVENT
UID:55b6f3fc2d43cc17927a299f27de08a4@skysports.com
SEQUENCE:0
DTSTAMP:20260425T090106Z
DTSTART:20251229T194500Z
DTEND:20251229T214500Z
SUMMARY:Luton Town v Leyton Orient
LOCATION:Kenilworth Road
DESCRIPTION:Luton Town v Leyton Orient - Kenilworth Road - Sky Bet League 
 One
STATUS:CONFIRMED
END:VEVENT
BEGIN:VEVENT
UID:9db0b8f417bd2295038e49d22ff0eff6@skysports.com
SEQUENCE:0
DTSTAMP:20260425T090106Z
DTSTART:20260101T150000Z
DTEND:20260101T170000Z
SUMMARY:Exeter City v Luton Town
LOCATION:St James Park
DESCRIPTION:Exeter City v Luton Town - St James Park - Sky Bet League One 
 - Live on Sky Sports+
STATUS:CONFIRMED
END:VEVENT
BEGIN:VEVENT
UID:0005b19d6d10c6ce1db7b1ba3a7fc6e3@skysports.com
SEQUENCE:0
DTSTAMP:20260425T090106Z
DTSTART:20260310T194500Z
DTEND:20260310T214500Z
SUMMARY:Doncaster Rovers v Luton Town
LOCATION:Eco-Power Stadium
DESCRIPTION:Doncaster Rovers v Luton Town - Eco-Power Stadium - Sky Bet Le
 ague One
STATUS:CONFIRMED
END:VEVENT
BEGIN:VEVENT
UID:ec4d9c0828cd47fbc70e4b7c7bc08012@skysports.com
SEQUENCE:0
DTSTAMP:20260425T090106Z
DTSTART:20260110T123000Z
DTEND:20260110T143000Z
SUMMARY:Luton Town v Stevenage
LOCATION:Kenilworth Road
DESCRIPTION:Luton Town v Stevenage - Kenilworth Road - Sky Bet League One 
 - Live on Sky Sports+
STATUS:CONFIRMED
END:VEVENT
BEGIN:VEVENT
UID:8bc783801a8b772d70ba2823645637e7@skysports.com
SEQUENCE:0
DTSTAMP:20260425T090106Z
DTSTART:20260117T150000Z
DTEND:20260117T170000Z
SUMMARY:Luton Town v Lincoln City
LOCATION:Kenilworth Road
DESCRIPTION:Luton Town v Lincoln City - Kenilworth Road - Sky Bet League O
 ne
STATUS:CONFIRMED
END:VEVENT
BEGIN:VEVENT
UID:294ecd4b36d0aca47932f24a7d1abadd@skysports.com
SEQUENCE:0
DTSTAMP:20260425T090106Z
DTSTART:20260124T123000Z
DTEND:20260124T143000Z
SUMMARY:Plymouth Argyle v Luton Town
LOCATION:Home Park
DESCRIPTION:Plymouth Argyle v Luton Town - Home Park - Sky Bet League One 
 - Live on Sky Sports+
STATUS:CONFIRMED
END:VEVENT
BEGIN:VEVENT
UID:5a4f3208dea2306450c8021aee543388@skysports.com
SEQUENCE:0
DTSTAMP:20260425T090106Z
DTSTART:20260127T194500Z
DTEND:20260127T214500Z
SUMMARY:Huddersfield Town v Luton Town
LOCATION:The Accu Stadium
DESCRIPTION:Huddersfield Town v Luton Town - The Accu Stadium - Sky Bet Le
 ague One - Live on Sky Sports+
STATUS:CONFIRMED
END:VEVENT
BEGIN:VEVENT
UID:f21fa0ca21e5e0f51de334c401f8c4a4@skysports.com
SEQUENCE:0
DTSTAMP:20260425T090106Z
DTSTART:20260131T150000Z
DTEND:20260131T170000Z
SUMMARY:Luton Town v Blackpool
LOCATION:Kenilworth Road
DESCRIPTION:Luton Town v Blackpool - Kenilworth Road - Sky Bet League One
STATUS:CONFIRMED
END:VEVENT
BEGIN:VEVENT
UID:70ebb4f1b1d13ae279c48255a4f70450@skysports.com
SEQUENCE:0
DTSTAMP:20260425T090106Z
DTSTART:20260207T123100Z
DTEND:20260207T143100Z
SUMMARY:Luton Town v Bradford City
LOCATION:Kenilworth Road
DESCRIPTION:Luton Town v Bradford City - Kenilworth Road - Sky Bet League 
 One - Live on Sky Sports+
STATUS:CONFIRMED
END:VEVENT
BEGIN:VEVENT
UID:863dc254168ab0b43fc83a3870e6b728@skysports.com
SEQUENCE:0
DTSTAMP:20260425T090106Z
DTSTART:20260214T150000Z
DTEND:20260214T170000Z
SUMMARY:Cardiff City v Luton Town
LOCATION:Cardiff City Stadium
DESCRIPTION:Cardiff City v Luton Town - Cardiff City Stadium - Sky Bet Lea
 gue One
STATUS:CONFIRMED
END:VEVENT
BEGIN:VEVENT
UID:927e7fd99a7fa5ff137f22fbdbf8d15a@skysports.com
SEQUENCE:0
DTSTAMP:20260425T090106Z
DTSTART:20260218T194500Z
DTEND:20260218T214500Z
SUMMARY:Wigan Athletic v Luton Town
LOCATION:DW Stadium
DESCRIPTION:Wigan Athletic v Luton Town - DW Stadium - Sky Bet League One 
 - Live on Sky Sports+
STATUS:CONFIRMED
END:VEVENT
BEGIN:VEVENT
UID:07bd9b96f426edd8f3c8dc03e7d5cb46@skysports.com
SEQUENCE:0
DTSTAMP:20260425T090106Z
DTSTART:20260221T150000Z
DTEND:20260221T170000Z
SUMMARY:Luton Town v Burton Albion
LOCATION:Kenilworth Road
DESCRIPTION:Luton Town v Burton Albion - Kenilworth Road - Sky Bet League 
 One
STATUS:CONFIRMED
END:VEVENT
BEGIN:VEVENT
UID:d503179400dd8efe20a67ceeac5a0f48@skysports.com
SEQUENCE:0
DTSTAMP:20260425T090106Z
DTSTART:20260228T150000Z
DTEND:20260228T170000Z
SUMMARY:Port Vale v Luton Town
LOCATION:Vale Park
DESCRIPTION:Port Vale v Luton Town - Vale Park - Sky Bet League One
STATUS:CONFIRMED
END:VEVENT
BEGIN:VEVENT
UID:5ba951ad14052391986bacac71c4df31@skysports.com
SEQUENCE:0
DTSTAMP:20260425T090106Z
DTSTART:20260307T150000Z
DTEND:20260307T170000Z
SUMMARY:Luton Town v Reading
LOCATION:Kenilworth Road
DESCRIPTION:Luton Town v Reading - Kenilworth Road - Sky Bet League One
STATUS:CONFIRMED
END:VEVENT
BEGIN:VEVENT
UID:08e1ee794c1e169b5e0a7c663dbdc996@skysports.com
SEQUENCE:0
DTSTAMP:20260425T090106Z
DTSTART:20260314T150000Z
DTEND:20260314T170000Z
SUMMARY:Wycombe Wanderers v Luton Town
LOCATION:Adams Park
DESCRIPTION:Wycombe Wanderers v Luton Town - Adams Park - Sky Bet League O
 ne
STATUS:CONFIRMED
END:VEVENT
BEGIN:VEVENT
UID:a92eea7eaafd0727fabf230f0edf0912@skysports.com
SEQUENCE:0
DTSTAMP:20260425T090106Z
DTSTART:20260317T194500Z
DTEND:20260317T214500Z
SUMMARY:Luton Town v Exeter City
LOCATION:Kenilworth Road
DESCRIPTION:Luton Town v Exeter City - Kenilworth Road - Sky Bet League On
 e - Live on Sky Sports+
STATUS:CONFIRMED
END:VEVENT
BEGIN:VEVENT
UID:f65c9354a5be937997ec19fecedb4a18@skysports.com
SEQUENCE:0
DTSTAMP:20260425T090106Z
DTSTART:20260321T123000Z
DTEND:20260321T143000Z
SUMMARY:Luton Town v Stockport County
LOCATION:Kenilworth Road
DESCRIPTION:Luton Town v Stockport County - Kenilworth Road - Sky Bet Leag
 ue One - Live on Sky Sports+
STATUS:CONFIRMED
END:VEVENT
BEGIN:VEVENT
UID:5ea8bf6e0c83418baf61acea63a2a6e3@skysports.com
SEQUENCE:0
DTSTAMP:20260425T090106Z
DTSTART:20260421T184500Z
DTEND:20260421T204500Z
SUMMARY:Rotherham United v Luton Town
LOCATION:New York Stadium
DESCRIPTION:Rotherham United v Luton Town - New York Stadium - Sky Bet Lea
 gue One - Live on Sky Sports+
STATUS:CONFIRMED
END:VEVENT
BEGIN:VEVENT
UID:913cb49a1a4e8abeda450d67f7d99bf0@skysports.com
SEQUENCE:0
DTSTAMP:20260425T090106Z
DTSTART:20260403T140000Z
DTEND:20260403T160000Z
SUMMARY:Luton Town v Peterborough United
LOCATION:Kenilworth Road
DESCRIPTION:Luton Town v Peterborough United - Kenilworth Road - Sky Bet L
 eague One - Live on Sky Sports+
STATUS:CONFIRMED
END:VEVENT
BEGIN:VEVENT
UID:68589f1616a2087539f3ce51c90111de@skysports.com
SEQUENCE:0
DTSTAMP:20260425T090106Z
DTSTART:20260406T140000Z
DTEND:20260406T160000Z
SUMMARY:AFC Wimbledon v Luton Town
LOCATION:The Cherry Red Records Stadium
DESCRIPTION:AFC Wimbledon v Luton Town - The Cherry Red Records Stadium - 
 Sky Bet League One - Live on Sky Sports+
STATUS:CONFIRMED
END:VEVENT
BEGIN:VEVENT
UID:5a372691e99cfde4f70c89ec92c9023a@skysports.com
SEQUENCE:0
DTSTAMP:20260425T090106Z
DTSTART:20260415T184500Z
DTEND:20260415T204500Z
SUMMARY:Luton Town v Northampton Town
LOCATION:Kenilworth Road
DESCRIPTION:Luton Town v Northampton Town - Kenilworth Road - Sky Bet Leag
 ue One
STATUS:CONFIRMED
END:VEVENT
BEGIN:VEVENT
UID:f501bffab8d3502390c4586f0900371d@skysports.com
SEQUENCE:0
DTSTAMP:20260425T090106Z
DTSTART:20260418T140000Z
DTEND:20260418T160000Z
SUMMARY:Mansfield Town v Luton Town
LOCATION:One Call Stadium
DESCRIPTION:Mansfield Town v Luton Town - One Call Stadium - Sky Bet Leagu
 e One
STATUS:CONFIRMED
END:VEVENT
BEGIN:VEVENT
UID:412c079da53449924d4e188d030ff3b2@skysports.com
SEQUENCE:0
DTSTAMP:20260425T090106Z
DTSTART:20260425T140000Z
DTEND:20260425T160000Z
SUMMARY:Luton Town v Barnsley
LOCATION:Kenilworth Road
DESCRIPTION:Luton Town v Barnsley - Kenilworth Road - Sky Bet League One
STATUS:CONFIRMED
END:VEVENT
BEGIN:VEVENT
UID:0e24e912338cf319be70f3825f97b4ea@skysports.com
SEQUENCE:0
DTSTAMP:20260425T090106Z
DTSTART:20260502T140000Z
DTEND:20260502T160000Z
SUMMARY:Bolton Wanderers v Luton Town
LOCATION:Toughsheet Community Stadium
DESCRIPTION:Bolton Wanderers v Luton Town - Toughsheet Community Stadium -
  Sky Bet League One
STATUS:CONFIRMED
END:VEVENT
BEGIN:VEVENT
UID:721586be8474fe8391fe0591349a1359@skysports.com
SEQUENCE:0
DTSTAMP:20260425T090106Z
DTSTART:20250812T184500Z
DTEND:20250812T204500Z
SUMMARY:Coventry City v Luton Town
LOCATION:The Coventry Building Society Arena
DESCRIPTION:Coventry City v Luton Town - The Coventry Building Society Are
 na - Carabao Cup - Live on Sky Sports+
STATUS:CONFIRMED
END:VEVENT
BEGIN:VEVENT
UID:9ca48d66d778aade03ee6e909314f60e@skysports.com
SEQUENCE:0
DTSTAMP:20260425T090106Z
DTSTART:20250902T183000Z
DTEND:20250902T203000Z
SUMMARY:Luton Town v Barnet
LOCATION:Kenilworth Road
DESCRIPTION:Luton Town v Barnet - Kenilworth Road - Vertu Trophy - Live on
  Sky Sports+
STATUS:CONFIRMED
END:VEVENT
BEGIN:VEVENT
UID:c337096057a77e6f9b0d127a4ae166c8@skysports.com
SEQUENCE:0
DTSTAMP:20260425T090106Z
DTSTART:20251007T180000Z
DTEND:20251007T200000Z
SUMMARY:Cambridge United v Luton Town
LOCATION:The Cledara Abbey Stadium
DESCRIPTION:Cambridge United v Luton Town - The Cledara Abbey Stadium - Ve
 rtu Trophy - Live on Sky Sports+
STATUS:CONFIRMED
END:VEVENT
BEGIN:VEVENT
UID:cda207c3eca03e595763b1ee89056581@skysports.com
SEQUENCE:0
DTSTAMP:20260425T090106Z
DTSTART:20251028T190000Z
DTEND:20251028T210000Z
SUMMARY:Luton Town v Brighton and Hove Albion U21
LOCATION:Kenilworth Road
DESCRIPTION:Luton Town v Brighton and Hove Albion U21 - Kenilworth Road - 
 Vertu Trophy - Live on Sky Sports+
STATUS:CONFIRMED
END:VEVENT
BEGIN:VEVENT
UID:0a45c53609c50435edbfb4eb54a432aa@skysports.com
SEQUENCE:0
DTSTAMP:20260425T090106Z
DTSTART:20251031T193000Z
DTEND:20251031T213000Z
SUMMARY:Luton Town v Forest Green Rovers
LOCATION:Kenilworth Road
DESCRIPTION:Luton Town v Forest Green Rovers - Kenilworth Road - The FA Cu
 p
STATUS:CONFIRMED
END:VEVENT
BEGIN:VEVENT
UID:6dc758c433749b405dbd320dc2dd0ff9@skysports.com
SEQUENCE:0
DTSTAMP:20260425T090106Z
DTSTART:20251206T150000Z
DTEND:20251206T170000Z
SUMMARY:Fleetwood Town v Luton Town
LOCATION:Highbury Stadium
DESCRIPTION:Fleetwood Town v Luton Town - Highbury Stadium - The FA Cup
STATUS:CONFIRMED
END:VEVENT
BEGIN:VEVENT
UID:88c8d1d36aec8a2d5d64dfaf0c39ed98@skysports.com
SEQUENCE:0
DTSTAMP:20260425T090106Z
DTSTART:20251202T190000Z
DTEND:20251202T210000Z
SUMMARY:Luton Town v Exeter City
LOCATION:Kenilworth Road
DESCRIPTION:Luton Town v Exeter City - Kenilworth Road - Vertu Trophy - Li
 ve on Sky Sports+
STATUS:CONFIRMED
END:VEVENT
BEGIN:VEVENT
UID:e9a49eaf6961513a9eddb1b6e11d17ca@skysports.com
SEQUENCE:0
DTSTAMP:20260425T090106Z
DTSTART:20260113T190000Z
DTEND:20260113T210000Z
SUMMARY:Luton Town v Swindon Town
LOCATION:Kenilworth Road
DESCRIPTION:Luton Town v Swindon Town - Kenilworth Road - Vertu Trophy - L
 ive on Sky Sports+
STATUS:CONFIRMED
END:VEVENT
BEGIN:VEVENT
UID:1c1c8983daf325bd529a7acf441798b3@skysports.com
SEQUENCE:0
DTSTAMP:20260425T090106Z
DTSTART:20260224T190000Z
DTEND:20260224T210000Z
SUMMARY:Luton Town v Plymouth Argyle
LOCATION:Kenilworth Road
DESCRIPTION:Luton Town v Plymouth Argyle - Kenilworth Road - Vertu Trophy 
 - Live on Sky Sports+
STATUS:CONFIRMED
END:VEVENT
BEGIN:VEVENT
UID:a0f98c7e372add6bb7cc1e14463c2636@skysports.com
SEQUENCE:0
DTSTAMP:20260425T090106Z
DTSTART:20260304T193000Z
DTEND:20260304T213000Z
SUMMARY:Luton Town v Northampton Town
LOCATION:Kenilworth Road
DESCRIPTION:Luton Town v Northampton Town - Kenilworth Road - Vertu Trophy
  - Live on Sky Sports+
STATUS:CONFIRMED
END:VEVENT
BEGIN:VEVENT
UID:1899a691dec6e5fe599802951a5111fb@skysports.com
SEQUENCE:0
DTSTAMP:20260425T090106Z
DTSTART:20260412T140000Z
DTEND:20260412T160000Z
SUMMARY:Luton Town v Stockport County
LOCATION:Wembley Stadium
DESCRIPTION:Luton Town v Stockport County - Wembley Stadium - Vertu Trophy
  - Live on Sky Sports Football
STATUS:CONFIRMED
END:VEVENT
END:VCALENDAR