BEGIN:VCALENDAR
VERSION:2.0
PRODID:-//Sky Sports SSDM//NONSGML Event Calendar//EN
URL:https://www.skysports.com/calendars/football/fixtures/teams/mainz
CALSCALE:GREGORIAN
METHOD:PUBLISH
NAME:Mainz Fixtures
X-WR-CALNAME:Mainz Fixtures
X-WR-CALDESC:Mainz fixtures provided by Sky Sports (https://www.skysports.
 com)
REFRESH-INTERVAL;VALUE=DURATION:PT1H
X-PUBLISHED-TTL:PT1H
BEGIN:VEVENT
UID:91275b78413c3190b9d9c74eb182611e@skysports.com
SEQUENCE:0
DTSTAMP:20260425T091008Z
DTSTART:20250818T160000Z
DTEND:20250818T180000Z
SUMMARY:Dynamo Dresden v Mainz
LOCATION:Stadion Dresden
DESCRIPTION:Dynamo Dresden v Mainz - Stadion Dresden - German DFB Cup
STATUS:CONFIRMED
END:VEVENT
BEGIN:VEVENT
UID:c1ab4172bbd37472eed318cb962b9c28@skysports.com
SEQUENCE:0
DTSTAMP:20260425T091008Z
DTSTART:20250824T133000Z
DTEND:20250824T153000Z
SUMMARY:Mainz v Cologne
LOCATION:Coface Arena
DESCRIPTION:Mainz v Cologne - Coface Arena - German Bundesliga
STATUS:CONFIRMED
END:VEVENT
BEGIN:VEVENT
UID:cb747b7fdbc3f93afd5b17ae63ff4933@skysports.com
SEQUENCE:0
DTSTAMP:20260425T091008Z
DTSTART:20250831T133000Z
DTEND:20250831T153000Z
SUMMARY:Wolfsburg v Mainz
LOCATION:Volkswagen Arena
DESCRIPTION:Wolfsburg v Mainz - Volkswagen Arena - German Bundesliga
STATUS:CONFIRMED
END:VEVENT
BEGIN:VEVENT
UID:af16e04b67409b598341b7285601595c@skysports.com
SEQUENCE:0
DTSTAMP:20260425T091008Z
DTSTART:20250913T133000Z
DTEND:20250913T153000Z
SUMMARY:Mainz v RB Leipzig
LOCATION:Coface Arena
DESCRIPTION:Mainz v RB Leipzig - Coface Arena - German Bundesliga
STATUS:CONFIRMED
END:VEVENT
BEGIN:VEVENT
UID:38e5c751315661f5f5d77b8796a822b1@skysports.com
SEQUENCE:0
DTSTAMP:20260425T091008Z
DTSTART:20250920T133000Z
DTEND:20250920T153000Z
SUMMARY:FC Augsburg v Mainz
LOCATION:SGL Arena
DESCRIPTION:FC Augsburg v Mainz - SGL Arena - German Bundesliga
STATUS:CONFIRMED
END:VEVENT
BEGIN:VEVENT
UID:e94642b048bb0f1f03c6443922a980ad@skysports.com
SEQUENCE:0
DTSTAMP:20260425T091008Z
DTSTART:20250927T133000Z
DTEND:20250927T153000Z
SUMMARY:Mainz v Borussia Dortmund
LOCATION:Coface Arena
DESCRIPTION:Mainz v Borussia Dortmund - Coface Arena - German Bundesliga
STATUS:CONFIRMED
END:VEVENT
BEGIN:VEVENT
UID:69ca13d968017f8158fd3ab412c1440f@skysports.com
SEQUENCE:0
DTSTAMP:20260425T091008Z
DTSTART:20251005T153000Z
DTEND:20251005T173000Z
SUMMARY:Hamburg v Mainz
LOCATION:Volksparkstadion
DESCRIPTION:Hamburg v Mainz - Volksparkstadion - German Bundesliga
STATUS:CONFIRMED
END:VEVENT
BEGIN:VEVENT
UID:5c3aa096163d480b5db8cfc8fdbc6f6e@skysports.com
SEQUENCE:0
DTSTAMP:20260425T091008Z
DTSTART:20251018T133000Z
DTEND:20251018T153000Z
SUMMARY:Mainz v Bayer Leverkusen
LOCATION:Coface Arena
DESCRIPTION:Mainz v Bayer Leverkusen - Coface Arena - German Bundesliga
STATUS:CONFIRMED
END:VEVENT
BEGIN:VEVENT
UID:052469e67241df6a3cad3fa983dcfb20@skysports.com
SEQUENCE:0
DTSTAMP:20260425T091008Z
DTSTART:20251026T163000Z
DTEND:20251026T183000Z
SUMMARY:Stuttgart v Mainz
LOCATION:MHP Arena
DESCRIPTION:Stuttgart v Mainz - MHP Arena - German Bundesliga
STATUS:CONFIRMED
END:VEVENT
BEGIN:VEVENT
UID:e9e13be0ec3f5ae2b5d91de232f3bf4e@skysports.com
SEQUENCE:0
DTSTAMP:20260425T091008Z
DTSTART:20251101T143000Z
DTEND:20251101T163000Z
SUMMARY:Mainz v Werder Bremen
LOCATION:Coface Arena
DESCRIPTION:Mainz v Werder Bremen - Coface Arena - German Bundesliga
STATUS:CONFIRMED
END:VEVENT
BEGIN:VEVENT
UID:f90d6052a15b111c16d81bbc16219cb4@skysports.com
SEQUENCE:0
DTSTAMP:20260425T091008Z
DTSTART:20251109T183000Z
DTEND:20251109T203000Z
SUMMARY:Eintracht Frankfurt v Mainz
LOCATION:Commerzbank-Arena
DESCRIPTION:Eintracht Frankfurt v Mainz - Commerzbank-Arena - German Bunde
 sliga
STATUS:CONFIRMED
END:VEVENT
BEGIN:VEVENT
UID:99b58a18abcfd74a2ccc4dbe881dcc64@skysports.com
SEQUENCE:0
DTSTAMP:20260425T091008Z
DTSTART:20251121T193000Z
DTEND:20251121T213000Z
SUMMARY:Mainz v TSG Hoffenheim
LOCATION:Coface Arena
DESCRIPTION:Mainz v TSG Hoffenheim - Coface Arena - German Bundesliga
STATUS:CONFIRMED
END:VEVENT
BEGIN:VEVENT
UID:35d4ed799ef2d5ea3886ed54e13fbf57@skysports.com
SEQUENCE:0
DTSTAMP:20260425T091008Z
DTSTART:20251130T183000Z
DTEND:20251130T203000Z
SUMMARY:SC Freiburg v Mainz
LOCATION:Europa-Park Stadion
DESCRIPTION:SC Freiburg v Mainz - Europa-Park Stadion - German Bundesliga
STATUS:CONFIRMED
END:VEVENT
BEGIN:VEVENT
UID:0f5bd4a48cb2f6623d6192a2f21e4d1a@skysports.com
SEQUENCE:0
DTSTAMP:20260425T091008Z
DTSTART:20251205T193000Z
DTEND:20251205T213000Z
SUMMARY:Mainz v Mönchengladbach
LOCATION:Coface Arena
DESCRIPTION:Mainz v Mönchengladbach - Coface Arena - German Bundesliga
STATUS:CONFIRMED
END:VEVENT
BEGIN:VEVENT
UID:10f42dd9afc766b1055b2b25fb2c0266@skysports.com
SEQUENCE:0
DTSTAMP:20260425T091008Z
DTSTART:20251214T163000Z
DTEND:20251214T183000Z
SUMMARY:Bayern Munich v Mainz
LOCATION:Allianz Arena
DESCRIPTION:Bayern Munich v Mainz - Allianz Arena - German Bundesliga
STATUS:CONFIRMED
END:VEVENT
BEGIN:VEVENT
UID:2ec66db497d10eb469f53c3730fd0deb@skysports.com
SEQUENCE:0
DTSTAMP:20260425T091008Z
DTSTART:20251221T143000Z
DTEND:20251221T163000Z
SUMMARY:Mainz v St Pauli
LOCATION:Coface Arena
DESCRIPTION:Mainz v St Pauli - Coface Arena - German Bundesliga
STATUS:CONFIRMED
END:VEVENT
BEGIN:VEVENT
UID:bf5192f3864348b62097b3186a94a095@skysports.com
SEQUENCE:0
DTSTAMP:20260425T091008Z
DTSTART:20260110T143000Z
DTEND:20260110T163000Z
SUMMARY:1. FC Union Berlin v Mainz
LOCATION:An der Alten Forsterei
DESCRIPTION:1. FC Union Berlin v Mainz - An der Alten Forsterei - German B
 undesliga
STATUS:CONFIRMED
END:VEVENT
BEGIN:VEVENT
UID:6c584da1ed57377526b61a34ed6f596a@skysports.com
SEQUENCE:0
DTSTAMP:20260425T091008Z
DTSTART:20260113T193000Z
DTEND:20260113T213000Z
SUMMARY:Mainz v 1. FC Heidenheim 1846
LOCATION:Coface Arena
DESCRIPTION:Mainz v 1. FC Heidenheim 1846 - Coface Arena - German Bundesli
 ga
STATUS:CONFIRMED
END:VEVENT
BEGIN:VEVENT
UID:6bff01874dd6f0ff39d20e6038d9690c@skysports.com
SEQUENCE:0
DTSTAMP:20260425T091008Z
DTSTART:20260117T143000Z
DTEND:20260117T163000Z
SUMMARY:Cologne v Mainz
LOCATION:RheinEnergieStadion
DESCRIPTION:Cologne v Mainz - RheinEnergieStadion - German Bundesliga
STATUS:CONFIRMED
END:VEVENT
BEGIN:VEVENT
UID:60b856a271a4a6d5d53effda37c86a11@skysports.com
SEQUENCE:0
DTSTAMP:20260425T091008Z
DTSTART:20260124T143000Z
DTEND:20260124T163000Z
SUMMARY:Mainz v Wolfsburg
LOCATION:Coface Arena
DESCRIPTION:Mainz v Wolfsburg - Coface Arena - German Bundesliga
STATUS:CONFIRMED
END:VEVENT
BEGIN:VEVENT
UID:c2241bf1159af31ab25aff60b3ece097@skysports.com
SEQUENCE:0
DTSTAMP:20260425T091008Z
DTSTART:20260131T143000Z
DTEND:20260131T163000Z
SUMMARY:RB Leipzig v Mainz
LOCATION:Leipzig Stadium
DESCRIPTION:RB Leipzig v Mainz - Leipzig Stadium - German Bundesliga
STATUS:CONFIRMED
END:VEVENT
BEGIN:VEVENT
UID:0d685614ee1fcaafe092861f58439d79@skysports.com
SEQUENCE:0
DTSTAMP:20260425T091008Z
DTSTART:20260207T143000Z
DTEND:20260207T163000Z
SUMMARY:Mainz v FC Augsburg
LOCATION:Coface Arena
DESCRIPTION:Mainz v FC Augsburg - Coface Arena - German Bundesliga
STATUS:CONFIRMED
END:VEVENT
BEGIN:VEVENT
UID:8eb528988e2365d3ff429930ea0a8e43@skysports.com
SEQUENCE:0
DTSTAMP:20260425T091008Z
DTSTART:20260213T193000Z
DTEND:20260213T213000Z
SUMMARY:Borussia Dortmund v Mainz
LOCATION:Signal Iduna Park
DESCRIPTION:Borussia Dortmund v Mainz - Signal Iduna Park - German Bundesl
 iga
STATUS:CONFIRMED
END:VEVENT
BEGIN:VEVENT
UID:c7f301fd49d6f8eb9aad5843700d1b89@skysports.com
SEQUENCE:0
DTSTAMP:20260425T091008Z
DTSTART:20260220T194000Z
DTEND:20260220T214000Z
SUMMARY:Mainz v Hamburg
LOCATION:Coface Arena
DESCRIPTION:Mainz v Hamburg - Coface Arena - German Bundesliga
STATUS:CONFIRMED
END:VEVENT
BEGIN:VEVENT
UID:12381e854f489ea3c2266a04f5234e49@skysports.com
SEQUENCE:0
DTSTAMP:20260425T091008Z
DTSTART:20260228T143000Z
DTEND:20260228T163000Z
SUMMARY:Bayer Leverkusen v Mainz
LOCATION:BayArena
DESCRIPTION:Bayer Leverkusen v Mainz - BayArena - German Bundesliga
STATUS:CONFIRMED
END:VEVENT
BEGIN:VEVENT
UID:7a46d40b60915d959f353174b1d51b04@skysports.com
SEQUENCE:0
DTSTAMP:20260425T091008Z
DTSTART:20260307T143000Z
DTEND:20260307T163000Z
SUMMARY:Mainz v Stuttgart
LOCATION:Coface Arena
DESCRIPTION:Mainz v Stuttgart - Coface Arena - German Bundesliga
STATUS:CONFIRMED
END:VEVENT
BEGIN:VEVENT
UID:756bb8803effce9bfc6fe236c14289a6@skysports.com
SEQUENCE:0
DTSTAMP:20260425T091008Z
DTSTART:20260315T143000Z
DTEND:20260315T163000Z
SUMMARY:Werder Bremen v Mainz
LOCATION:Weser-Stadion
DESCRIPTION:Werder Bremen v Mainz - Weser-Stadion - German Bundesliga
STATUS:CONFIRMED
END:VEVENT
BEGIN:VEVENT
UID:5ee85613e5289c87d15bf2ba7c16bd65@skysports.com
SEQUENCE:0
DTSTAMP:20260425T091008Z
DTSTART:20260322T143000Z
DTEND:20260322T163000Z
SUMMARY:Mainz v Eintracht Frankfurt
LOCATION:Coface Arena
DESCRIPTION:Mainz v Eintracht Frankfurt - Coface Arena - German Bundesliga
STATUS:CONFIRMED
END:VEVENT
BEGIN:VEVENT
UID:7b9f8f4412dadb6cdc53a3a729b161af@skysports.com
SEQUENCE:0
DTSTAMP:20260425T091008Z
DTSTART:20260404T133000Z
DTEND:20260404T153000Z
SUMMARY:TSG Hoffenheim v Mainz
LOCATION:PreZero Arena
DESCRIPTION:TSG Hoffenheim v Mainz - PreZero Arena - German Bundesliga
STATUS:CONFIRMED
END:VEVENT
BEGIN:VEVENT
UID:0d05b8bba6d0ecac06c5e84e3817a904@skysports.com
SEQUENCE:0
DTSTAMP:20260425T091008Z
DTSTART:20260412T173000Z
DTEND:20260412T193000Z
SUMMARY:Mainz v SC Freiburg
LOCATION:Coface Arena
DESCRIPTION:Mainz v SC Freiburg - Coface Arena - German Bundesliga
STATUS:CONFIRMED
END:VEVENT
BEGIN:VEVENT
UID:844a7a92ebe50cb34f5e8aa523ec5bb8@skysports.com
SEQUENCE:0
DTSTAMP:20260425T091008Z
DTSTART:20260419T173000Z
DTEND:20260419T193000Z
SUMMARY:Mönchengladbach v Mainz
LOCATION:BORUSSIA-PARK
DESCRIPTION:Mönchengladbach v Mainz - BORUSSIA-PARK - German Bundesliga
STATUS:CONFIRMED
END:VEVENT
BEGIN:VEVENT
UID:58cf0b933ea7492d5e9c101a2e6c86f6@skysports.com
SEQUENCE:0
DTSTAMP:20260425T091008Z
DTSTART:20260425T133000Z
DTEND:20260425T153000Z
SUMMARY:Mainz v Bayern Munich
LOCATION:Coface Arena
DESCRIPTION:Mainz v Bayern Munich - Coface Arena - German Bundesliga
STATUS:CONFIRMED
END:VEVENT
BEGIN:VEVENT
UID:f72968cf2efff541d11217ef5e6d018f@skysports.com
SEQUENCE:0
DTSTAMP:20260425T091008Z
DTSTART:20260503T133000Z
DTEND:20260503T153000Z
SUMMARY:St Pauli v Mainz
LOCATION:Millerntor-Stadion
DESCRIPTION:St Pauli v Mainz - Millerntor-Stadion - German Bundesliga
STATUS:CONFIRMED
END:VEVENT
BEGIN:VEVENT
UID:2eee859022a428003ada1e75f302db6d@skysports.com
SEQUENCE:0
DTSTAMP:20260425T091008Z
DTSTART:20260510T173000Z
DTEND:20260510T193000Z
SUMMARY:Mainz v 1. FC Union Berlin
LOCATION:Coface Arena
DESCRIPTION:Mainz v 1. FC Union Berlin - Coface Arena - German Bundesliga
STATUS:CONFIRMED
END:VEVENT
BEGIN:VEVENT
UID:042605ca96425ac49ae8e1edb13ab438@skysports.com
SEQUENCE:0
DTSTAMP:20260425T091008Z
DTSTART:20260516T133000Z
DTEND:20260516T153000Z
SUMMARY:1. FC Heidenheim 1846 v Mainz
LOCATION:Voith-Arena
DESCRIPTION:1. FC Heidenheim 1846 v Mainz - Voith-Arena - German Bundeslig
 a
STATUS:CONFIRMED
END:VEVENT
BEGIN:VEVENT
UID:70325ce7a177bc02abd38302aa9b50ee@skysports.com
SEQUENCE:0
DTSTAMP:20260425T091008Z
DTSTART:20250729T120000Z
DTEND:20250729T140000Z
SUMMARY:Mainz v Crystal Palace
LOCATION:Grunau
DESCRIPTION:Mainz v Crystal Palace - Grunau - Friendly Matches
STATUS:CONFIRMED
END:VEVENT
BEGIN:VEVENT
UID:f26504ecedf7d721de67a8688660a541@skysports.com
SEQUENCE:0
DTSTAMP:20260425T091008Z
DTSTART:20250821T160000Z
DTEND:20250821T180000Z
SUMMARY:Rosenborg v Mainz
LOCATION:Lerkendal Stadium
DESCRIPTION:Rosenborg v Mainz - Lerkendal Stadium - UEFA Conference League
  Qualifying
STATUS:CONFIRMED
END:VEVENT
BEGIN:VEVENT
UID:37472b19e8693cfa3341a58499befa64@skysports.com
SEQUENCE:0
DTSTAMP:20260425T091008Z
DTSTART:20250828T190000Z
DTEND:20250828T210000Z
SUMMARY:Mainz v Rosenborg
LOCATION:Coface Arena
DESCRIPTION:Mainz v Rosenborg - Coface Arena - UEFA Conference League Qual
 ifying
STATUS:CONFIRMED
END:VEVENT
BEGIN:VEVENT
UID:ea7f80f60c2e8cd2630de7127723c246@skysports.com
SEQUENCE:0
DTSTAMP:20260425T091008Z
DTSTART:20251002T164500Z
DTEND:20251002T184500Z
SUMMARY:Omonia Nicosia v Mainz
LOCATION:GSP Stadium
DESCRIPTION:Omonia Nicosia v Mainz - GSP Stadium - UEFA Conference League
STATUS:CONFIRMED
END:VEVENT
BEGIN:VEVENT
UID:b3774a22329ba5db7e21d63fc07ec6a3@skysports.com
SEQUENCE:0
DTSTAMP:20260425T091008Z
DTSTART:20251023T190000Z
DTEND:20251023T210000Z
SUMMARY:Mainz v Zrinjski Mostar
LOCATION:Coface Arena
DESCRIPTION:Mainz v Zrinjski Mostar - Coface Arena - UEFA Conference Leagu
 e
STATUS:CONFIRMED
END:VEVENT
BEGIN:VEVENT
UID:07288b39fb82124f00e927bfd6466ebc@skysports.com
SEQUENCE:0
DTSTAMP:20260425T091008Z
DTSTART:20251106T174500Z
DTEND:20251106T194500Z
SUMMARY:Mainz v Fiorentina
LOCATION:Coface Arena
DESCRIPTION:Mainz v Fiorentina - Coface Arena - UEFA Conference League
STATUS:CONFIRMED
END:VEVENT
BEGIN:VEVENT
UID:7441757edddbd44cf1b51c58bc3c60d2@skysports.com
SEQUENCE:0
DTSTAMP:20260425T091008Z
DTSTART:20251127T174500Z
DTEND:20251127T194500Z
SUMMARY:CS Universitatea Craiova v Mainz
LOCATION:Ion Oblemenco
DESCRIPTION:CS Universitatea Craiova v Mainz - Ion Oblemenco - UEFA Confer
 ence League
STATUS:CONFIRMED
END:VEVENT
BEGIN:VEVENT
UID:45afab319982081fc91c39088257572d@skysports.com
SEQUENCE:0
DTSTAMP:20260425T091008Z
DTSTART:20251211T200000Z
DTEND:20251211T220000Z
SUMMARY:Lech Poznan v Mainz
LOCATION:INEA Stadion
DESCRIPTION:Lech Poznan v Mainz - INEA Stadion - UEFA Conference League
STATUS:CONFIRMED
END:VEVENT
BEGIN:VEVENT
UID:c7a2b61b11f09124906b07e1c5113218@skysports.com
SEQUENCE:0
DTSTAMP:20260425T091008Z
DTSTART:20251218T200000Z
DTEND:20251218T220000Z
SUMMARY:Mainz v Samsunspor
LOCATION:Coface Arena
DESCRIPTION:Mainz v Samsunspor - Coface Arena - UEFA Conference League
STATUS:CONFIRMED
END:VEVENT
BEGIN:VEVENT
UID:11c8db895c73401451494d3824a368ec@skysports.com
SEQUENCE:0
DTSTAMP:20260425T091008Z
DTSTART:20251029T170000Z
DTEND:20251029T190000Z
SUMMARY:Mainz v Stuttgart
LOCATION:Coface Arena
DESCRIPTION:Mainz v Stuttgart - Coface Arena - German DFB Cup
STATUS:CONFIRMED
END:VEVENT
BEGIN:VEVENT
UID:7922914e24128152b0d57eba510204e9@skysports.com
SEQUENCE:0
DTSTAMP:20260425T091008Z
DTSTART:20260312T200000Z
DTEND:20260312T220000Z
SUMMARY:Sigma Olomouc v Mainz
LOCATION:Andruv Stadion
DESCRIPTION:Sigma Olomouc v Mainz - Andruv Stadion - UEFA Conference Leagu
 e
STATUS:CONFIRMED
END:VEVENT
BEGIN:VEVENT
UID:ffcdbc250e23766e9ae36f376d4bc16a@skysports.com
SEQUENCE:0
DTSTAMP:20260425T091008Z
DTSTART:20260319T174500Z
DTEND:20260319T194500Z
SUMMARY:Mainz v Sigma Olomouc
LOCATION:Coface Arena
DESCRIPTION:Mainz v Sigma Olomouc - Coface Arena - UEFA Conference League
STATUS:CONFIRMED
END:VEVENT
BEGIN:VEVENT
UID:4f679bfba99c52c1313088135c6d60c8@skysports.com
SEQUENCE:0
DTSTAMP:20260425T091008Z
DTSTART:20260409T190000Z
DTEND:20260409T210000Z
SUMMARY:Mainz v Strasbourg
LOCATION:Coface Arena
DESCRIPTION:Mainz v Strasbourg - Coface Arena - UEFA Conference League
STATUS:CONFIRMED
END:VEVENT
BEGIN:VEVENT
UID:f3987b14a2f05485632e1cc66ae5cec3@skysports.com
SEQUENCE:0
DTSTAMP:20260425T091008Z
DTSTART:20260416T190000Z
DTEND:20260416T210000Z
SUMMARY:Strasbourg v Mainz
LOCATION:Stade de la Meinau
DESCRIPTION:Strasbourg v Mainz - Stade de la Meinau - UEFA Conference Leag
 ue
STATUS:CONFIRMED
END:VEVENT
END:VCALENDAR