BEGIN:VCALENDAR
VERSION:2.0
PRODID:-//Sky Sports SSDM//NONSGML Event Calendar//EN
URL:https://www.skysports.com/calendars/football/fixtures/teams/manchester
 -city
CALSCALE:GREGORIAN
METHOD:PUBLISH
NAME:Manchester City Fixtures
X-WR-CALNAME:Manchester City Fixtures
X-WR-CALDESC:Manchester City fixtures provided by Sky Sports (https://www.
 skysports.com)
REFRESH-INTERVAL;VALUE=DURATION:PT1H
X-PUBLISHED-TTL:PT1H
BEGIN:VEVENT
UID:566572572d9fc6648946895448593b0d@skysports.com
SEQUENCE:0
DTSTAMP:20260425T090308Z
DTSTART:20250626T190000Z
DTEND:20250626T210000Z
SUMMARY:Juventus v Manchester City
LOCATION:Citrus Bowl
DESCRIPTION:Juventus v Manchester City - Citrus Bowl - FIFA Club World Cup
STATUS:CONFIRMED
END:VEVENT
BEGIN:VEVENT
UID:231584e3cd4e4ee1be357628aa9d58d4@skysports.com
SEQUENCE:0
DTSTAMP:20260425T090308Z
DTSTART:20250701T010000Z
DTEND:20250701T030000Z
SUMMARY:Manchester City v Al-Hilal
LOCATION:Citrus Bowl
DESCRIPTION:Manchester City v Al-Hilal - Citrus Bowl - FIFA Club World Cup
STATUS:CONFIRMED
END:VEVENT
BEGIN:VEVENT
UID:67c1be58966603cb0b8de9cfb4e0be0f@skysports.com
SEQUENCE:0
DTSTAMP:20260425T090308Z
DTSTART:20250816T163000Z
DTEND:20250816T183000Z
SUMMARY:Wolverhampton Wanderers v Manchester City
LOCATION:Molineux
DESCRIPTION:Wolverhampton Wanderers v Manchester City - Molineux - Premier
  League - Live on Sky Sports Premier League and Sky Sports Main Event
STATUS:CONFIRMED
END:VEVENT
BEGIN:VEVENT
UID:4d3d87acf21eb3d45e913c7b0d20753c@skysports.com
SEQUENCE:0
DTSTAMP:20260425T090308Z
DTSTART:20250823T113000Z
DTEND:20250823T133000Z
SUMMARY:Manchester City v Tottenham Hotspur
LOCATION:Etihad Stadium
DESCRIPTION:Manchester City v Tottenham Hotspur - Etihad Stadium - Premier
  League
STATUS:CONFIRMED
END:VEVENT
BEGIN:VEVENT
UID:839b81cece7eed1b29453e50cbe7c652@skysports.com
SEQUENCE:0
DTSTAMP:20260425T090308Z
DTSTART:20250831T130000Z
DTEND:20250831T150000Z
SUMMARY:Brighton and Hove Albion v Manchester City
LOCATION:Amex Stadium
DESCRIPTION:Brighton and Hove Albion v Manchester City - Amex Stadium - Pr
 emier League - Live on Sky Sports Main Event
STATUS:CONFIRMED
END:VEVENT
BEGIN:VEVENT
UID:b35ac84ceacad11bf5110c1e17ef9434@skysports.com
SEQUENCE:0
DTSTAMP:20260425T090308Z
DTSTART:20250914T153000Z
DTEND:20250914T173000Z
SUMMARY:Manchester City v Manchester United
LOCATION:Etihad Stadium
DESCRIPTION:Manchester City v Manchester United - Etihad Stadium - Premier
  League - Live on Sky Sports Premier League and Sky Sports Main Event
STATUS:CONFIRMED
END:VEVENT
BEGIN:VEVENT
UID:7cb47b45d5697ffb4302c01ba489f851@skysports.com
SEQUENCE:0
DTSTAMP:20260425T090308Z
DTSTART:20250921T153000Z
DTEND:20250921T173000Z
SUMMARY:Arsenal v Manchester City
LOCATION:Emirates Stadium
DESCRIPTION:Arsenal v Manchester City - Emirates Stadium - Premier League 
 - Live on Sky Sports Main Event and Sky Sports Premier League
STATUS:CONFIRMED
END:VEVENT
BEGIN:VEVENT
UID:731c7021b91ba567a5c259841a77bc40@skysports.com
SEQUENCE:0
DTSTAMP:20260425T090308Z
DTSTART:20250927T140000Z
DTEND:20250927T160000Z
SUMMARY:Manchester City v Burnley
LOCATION:Etihad Stadium
DESCRIPTION:Manchester City v Burnley - Etihad Stadium - Premier League
STATUS:CONFIRMED
END:VEVENT
BEGIN:VEVENT
UID:e39aa0b532ed65aa8a96008650f162ae@skysports.com
SEQUENCE:0
DTSTAMP:20260425T090308Z
DTSTART:20251005T153000Z
DTEND:20251005T173000Z
SUMMARY:Brentford v Manchester City
LOCATION:Gtech Community Stadium
DESCRIPTION:Brentford v Manchester City - Gtech Community Stadium - Premie
 r League - Live on Sky Sports Main Event and Sky Sports Premier League
STATUS:CONFIRMED
END:VEVENT
BEGIN:VEVENT
UID:265284151a0b90021a592aa2c448ae1f@skysports.com
SEQUENCE:0
DTSTAMP:20260425T090308Z
DTSTART:20251018T140000Z
DTEND:20251018T160000Z
SUMMARY:Manchester City v Everton
LOCATION:Etihad Stadium
DESCRIPTION:Manchester City v Everton - Etihad Stadium - Premier League
STATUS:CONFIRMED
END:VEVENT
BEGIN:VEVENT
UID:77e5941d641cb258f76d8cb0d4416c66@skysports.com
SEQUENCE:0
DTSTAMP:20260425T090308Z
DTSTART:20251026T140000Z
DTEND:20251026T160000Z
SUMMARY:Aston Villa v Manchester City
LOCATION:Villa Park
DESCRIPTION:Aston Villa v Manchester City - Villa Park - Premier League - 
 Live on Sky Sports Main Event
STATUS:CONFIRMED
END:VEVENT
BEGIN:VEVENT
UID:233c5d370ca93c49a4e20918d74faa92@skysports.com
SEQUENCE:0
DTSTAMP:20260425T090308Z
DTSTART:20251102T163000Z
DTEND:20251102T183000Z
SUMMARY:Manchester City v Bournemouth
LOCATION:Etihad Stadium
DESCRIPTION:Manchester City v Bournemouth - Etihad Stadium - Premier Leagu
 e - Live on Sky Sports Main Event and Sky Sports Premier League
STATUS:CONFIRMED
END:VEVENT
BEGIN:VEVENT
UID:dba1370ec281d168485fd8ed0fee0e64@skysports.com
SEQUENCE:0
DTSTAMP:20260425T090308Z
DTSTART:20251109T163000Z
DTEND:20251109T183000Z
SUMMARY:Manchester City v Liverpool
LOCATION:Etihad Stadium
DESCRIPTION:Manchester City v Liverpool - Etihad Stadium - Premier League 
 - Live on Sky Sports Main Event and Sky Sports Premier League
STATUS:CONFIRMED
END:VEVENT
BEGIN:VEVENT
UID:28d3f03a9437c4b62f5915b23163ed88@skysports.com
SEQUENCE:0
DTSTAMP:20260425T090308Z
DTSTART:20251122T173000Z
DTEND:20251122T193000Z
SUMMARY:Newcastle United v Manchester City
LOCATION:St James' Park\, Newcastle
DESCRIPTION:Newcastle United v Manchester City - St James' Park\, Newcastl
 e - Premier League - Live on Sky Sports Premier League and Sky Sports Main
  Event
STATUS:CONFIRMED
END:VEVENT
BEGIN:VEVENT
UID:dff90da2e99a9ec4a4a1de2c8410d46d@skysports.com
SEQUENCE:0
DTSTAMP:20260425T090308Z
DTSTART:20251129T150000Z
DTEND:20251129T170000Z
SUMMARY:Manchester City v Leeds United
LOCATION:Etihad Stadium
DESCRIPTION:Manchester City v Leeds United - Etihad Stadium - Premier Leag
 ue
STATUS:CONFIRMED
END:VEVENT
BEGIN:VEVENT
UID:4eb42f7a6245e8140b1681198b50c1c6@skysports.com
SEQUENCE:0
DTSTAMP:20260425T090308Z
DTSTART:20251202T193000Z
DTEND:20251202T213000Z
SUMMARY:Fulham v Manchester City
LOCATION:Craven Cottage
DESCRIPTION:Fulham v Manchester City - Craven Cottage - Premier League - L
 ive on Sky Sports Main Event
STATUS:CONFIRMED
END:VEVENT
BEGIN:VEVENT
UID:3050d9d2f9c8f66eb79a6174efcca0ba@skysports.com
SEQUENCE:0
DTSTAMP:20260425T090308Z
DTSTART:20251206T150000Z
DTEND:20251206T170000Z
SUMMARY:Manchester City v Sunderland
LOCATION:Etihad Stadium
DESCRIPTION:Manchester City v Sunderland - Etihad Stadium - Premier League
STATUS:CONFIRMED
END:VEVENT
BEGIN:VEVENT
UID:58b18ac358a98c04ddbed496e89b6197@skysports.com
SEQUENCE:0
DTSTAMP:20260425T090308Z
DTSTART:20251214T140000Z
DTEND:20251214T160000Z
SUMMARY:Crystal Palace v Manchester City
LOCATION:Selhurst Park
DESCRIPTION:Crystal Palace v Manchester City - Selhurst Park - Premier Lea
 gue - Live on Sky Sports Premier League
STATUS:CONFIRMED
END:VEVENT
BEGIN:VEVENT
UID:e6ed01d131a4f5aadb72297d256bd67e@skysports.com
SEQUENCE:0
DTSTAMP:20260425T090308Z
DTSTART:20251220T150000Z
DTEND:20251220T170000Z
SUMMARY:Manchester City v West Ham United
LOCATION:Etihad Stadium
DESCRIPTION:Manchester City v West Ham United - Etihad Stadium - Premier L
 eague
STATUS:CONFIRMED
END:VEVENT
BEGIN:VEVENT
UID:d076dd9b84b06dd695ac54688e75fc2e@skysports.com
SEQUENCE:0
DTSTAMP:20260425T090308Z
DTSTART:20251227T123000Z
DTEND:20251227T143000Z
SUMMARY:Nottingham Forest v Manchester City
LOCATION:The City Ground
DESCRIPTION:Nottingham Forest v Manchester City - The City Ground - Premie
 r League
STATUS:CONFIRMED
END:VEVENT
BEGIN:VEVENT
UID:18c4806013e0c06a022b6297e581851a@skysports.com
SEQUENCE:0
DTSTAMP:20260425T090308Z
DTSTART:20260101T200000Z
DTEND:20260101T220000Z
SUMMARY:Sunderland v Manchester City
LOCATION:Stadium of Light
DESCRIPTION:Sunderland v Manchester City - Stadium of Light - Premier Leag
 ue - Live on Sky Sports Main Event
STATUS:CONFIRMED
END:VEVENT
BEGIN:VEVENT
UID:795b2fb08316b2bb76c0cc4a8b3882f9@skysports.com
SEQUENCE:0
DTSTAMP:20260425T090308Z
DTSTART:20260104T173000Z
DTEND:20260104T193000Z
SUMMARY:Manchester City v Chelsea
LOCATION:Etihad Stadium
DESCRIPTION:Manchester City v Chelsea - Etihad Stadium - Premier League - 
 Live on Sky Sports Premier League and Sky Sports Main Event
STATUS:CONFIRMED
END:VEVENT
BEGIN:VEVENT
UID:9881dd71621b5fb72da94ec32c8e3bed@skysports.com
SEQUENCE:0
DTSTAMP:20260425T090308Z
DTSTART:20260107T193000Z
DTEND:20260107T213000Z
SUMMARY:Manchester City v Brighton and Hove Albion
LOCATION:Etihad Stadium
DESCRIPTION:Manchester City v Brighton and Hove Albion - Etihad Stadium - 
 Premier League - Live on Sky Sports Main Event
STATUS:CONFIRMED
END:VEVENT
BEGIN:VEVENT
UID:58662fa00c2ff6d3c32483580716cb76@skysports.com
SEQUENCE:0
DTSTAMP:20260425T090308Z
DTSTART:20260117T123000Z
DTEND:20260117T143000Z
SUMMARY:Manchester United v Manchester City
LOCATION:Old Trafford
DESCRIPTION:Manchester United v Manchester City - Old Trafford - Premier L
 eague - Live on Sky Sports Main Event and Sky Sports Premier League
STATUS:CONFIRMED
END:VEVENT
BEGIN:VEVENT
UID:fd97eda5e01b307c4acc88992a8eac76@skysports.com
SEQUENCE:0
DTSTAMP:20260425T090308Z
DTSTART:20260124T150000Z
DTEND:20260124T170000Z
SUMMARY:Manchester City v Wolverhampton Wanderers
LOCATION:Etihad Stadium
DESCRIPTION:Manchester City v Wolverhampton Wanderers - Etihad Stadium - P
 remier League
STATUS:CONFIRMED
END:VEVENT
BEGIN:VEVENT
UID:1e53bd36644de0c9dcd998deab340bd8@skysports.com
SEQUENCE:0
DTSTAMP:20260425T090308Z
DTSTART:20260201T163000Z
DTEND:20260201T183000Z
SUMMARY:Tottenham Hotspur v Manchester City
LOCATION:Tottenham Hotspur Stadium
DESCRIPTION:Tottenham Hotspur v Manchester City - Tottenham Hotspur Stadiu
 m - Premier League - Live on Sky Sports Main Event and Sky Sports Premier 
 League
STATUS:CONFIRMED
END:VEVENT
BEGIN:VEVENT
UID:eb7dd667fb516eaf7165be3d7ecc4c2b@skysports.com
SEQUENCE:0
DTSTAMP:20260425T090308Z
DTSTART:20260208T163000Z
DTEND:20260208T183000Z
SUMMARY:Liverpool v Manchester City
LOCATION:Anfield
DESCRIPTION:Liverpool v Manchester City - Anfield - Premier League - Live 
 on Sky Sports Main Event and Sky Sports Premier League
STATUS:CONFIRMED
END:VEVENT
BEGIN:VEVENT
UID:b83156c50ef39cfe571ffc63dd81f6a9@skysports.com
SEQUENCE:0
DTSTAMP:20260425T090308Z
DTSTART:20260211T193000Z
DTEND:20260211T213000Z
SUMMARY:Manchester City v Fulham
LOCATION:Etihad Stadium
DESCRIPTION:Manchester City v Fulham - Etihad Stadium - Premier League
STATUS:CONFIRMED
END:VEVENT
BEGIN:VEVENT
UID:799be7a53cf71eddb8d90fdcfaaa3118@skysports.com
SEQUENCE:0
DTSTAMP:20260425T090308Z
DTSTART:20260221T200000Z
DTEND:20260221T220000Z
SUMMARY:Manchester City v Newcastle United
LOCATION:Etihad Stadium
DESCRIPTION:Manchester City v Newcastle United - Etihad Stadium - Premier 
 League
STATUS:CONFIRMED
END:VEVENT
BEGIN:VEVENT
UID:ea41e768e2ba705b49b95bdc7213708f@skysports.com
SEQUENCE:0
DTSTAMP:20260425T090308Z
DTSTART:20260228T173000Z
DTEND:20260228T193000Z
SUMMARY:Leeds United v Manchester City
LOCATION:Elland Road
DESCRIPTION:Leeds United v Manchester City - Elland Road - Premier League 
 - Live on Sky Sports Premier League and Sky Sports Main Event
STATUS:CONFIRMED
END:VEVENT
BEGIN:VEVENT
UID:afaba8562ef541e0da92ea100aa6b2dd@skysports.com
SEQUENCE:0
DTSTAMP:20260425T090308Z
DTSTART:20260304T193000Z
DTEND:20260304T213000Z
SUMMARY:Manchester City v Nottingham Forest
LOCATION:Etihad Stadium
DESCRIPTION:Manchester City v Nottingham Forest - Etihad Stadium - Premier
  League
STATUS:CONFIRMED
END:VEVENT
BEGIN:VEVENT
UID:bc57573dec2c7949d12a0b5abaad0ea8@skysports.com
SEQUENCE:0
DTSTAMP:20260425T090308Z
DTSTART:20260314T200000Z
DTEND:20260314T220000Z
SUMMARY:West Ham United v Manchester City
LOCATION:London Stadium
DESCRIPTION:West Ham United v Manchester City - London Stadium - Premier L
 eague
STATUS:CONFIRMED
END:VEVENT
BEGIN:VEVENT
UID:fe560c5330bcacd1d9bf7f5f120b1c66@skysports.com
SEQUENCE:0
DTSTAMP:20260425T090308Z
DTSTART:20260522T140000Z
DTEND:20260522T160000Z
SUMMARY:Manchester City v Crystal Palace - (MATCH POSTPONED)
LOCATION:Etihad Stadium - (POSTPONED)
DESCRIPTION:Manchester City v Crystal Palace - Etihad Stadium - Premier Le
 ague - ** MATCH POSTPONED **
STATUS:CANCELLED
END:VEVENT
BEGIN:VEVENT
UID:dfa2f7d1f0de69baa7f73d85176f78b6@skysports.com
SEQUENCE:0
DTSTAMP:20260425T090308Z
DTSTART:20260412T153000Z
DTEND:20260412T173000Z
SUMMARY:Chelsea v Manchester City
LOCATION:Stamford Bridge
DESCRIPTION:Chelsea v Manchester City - Stamford Bridge - Premier League -
  Live on Sky Sports Premier League and Sky Sports Main Event
STATUS:CONFIRMED
END:VEVENT
BEGIN:VEVENT
UID:6ce73e78ab20a9647179edce59cbcd2e@skysports.com
SEQUENCE:0
DTSTAMP:20260425T090308Z
DTSTART:20260419T153000Z
DTEND:20260419T173000Z
SUMMARY:Manchester City v Arsenal
LOCATION:Etihad Stadium
DESCRIPTION:Manchester City v Arsenal - Etihad Stadium - Premier League - 
 Live on Sky Sports Main Event and Sky Sports Premier League
STATUS:CONFIRMED
END:VEVENT
BEGIN:VEVENT
UID:a82b7dd5c50d61f4d0ab43c3db12e0c5@skysports.com
SEQUENCE:0
DTSTAMP:20260425T090308Z
DTSTART:20260422T190000Z
DTEND:20260422T210000Z
SUMMARY:Burnley v Manchester City
LOCATION:Turf Moor
DESCRIPTION:Burnley v Manchester City - Turf Moor - Premier League - Live 
 on Sky Sports Main Event
STATUS:CONFIRMED
END:VEVENT
BEGIN:VEVENT
UID:96fa7785690f154b5b537cc6b481aef6@skysports.com
SEQUENCE:0
DTSTAMP:20260425T090308Z
DTSTART:20260504T190000Z
DTEND:20260504T210000Z
SUMMARY:Everton v Manchester City
LOCATION:Hill Dickinson Stadium
DESCRIPTION:Everton v Manchester City - Hill Dickinson Stadium - Premier L
 eague - Live on Sky Sports Main Event and Sky Sports Premier League
STATUS:CONFIRMED
END:VEVENT
BEGIN:VEVENT
UID:0b5a45c599794a2a5f837404ec335ac4@skysports.com
SEQUENCE:0
DTSTAMP:20260425T090308Z
DTSTART:20260509T163000Z
DTEND:20260509T183000Z
SUMMARY:Manchester City v Brentford
LOCATION:Etihad Stadium
DESCRIPTION:Manchester City v Brentford - Etihad Stadium - Premier League 
 - Live on Sky Sports Premier League and Sky Sports Main Event
STATUS:CONFIRMED
END:VEVENT
BEGIN:VEVENT
UID:f25a57453febff9db6c57f2928a7f12d@skysports.com
SEQUENCE:0
DTSTAMP:20260425T090308Z
DTSTART:20260517T140000Z
DTEND:20260517T160000Z
SUMMARY:Bournemouth v Manchester City
LOCATION:Vitality Stadium
DESCRIPTION:Bournemouth v Manchester City - Vitality Stadium - Premier Lea
 gue
STATUS:CONFIRMED
END:VEVENT
BEGIN:VEVENT
UID:532b518d04e20fd0fb99a42454bdbcd1@skysports.com
SEQUENCE:0
DTSTAMP:20260425T090308Z
DTSTART:20260524T150000Z
DTEND:20260524T170000Z
SUMMARY:Manchester City v Aston Villa
LOCATION:Etihad Stadium
DESCRIPTION:Manchester City v Aston Villa - Etihad Stadium - Premier Leagu
 e
STATUS:CONFIRMED
END:VEVENT
BEGIN:VEVENT
UID:997af6542a773de05f8d6e00eed8444f@skysports.com
SEQUENCE:0
DTSTAMP:20260425T090308Z
DTSTART:20250809T190000Z
DTEND:20250809T210000Z
SUMMARY:Palermo v Manchester City
LOCATION:Renzo Barbera
DESCRIPTION:Palermo v Manchester City - Renzo Barbera - Friendly Match
STATUS:CONFIRMED
END:VEVENT
BEGIN:VEVENT
UID:562daa5147132132f6ebe23f608d969f@skysports.com
SEQUENCE:0
DTSTAMP:20260425T090308Z
DTSTART:20250918T190000Z
DTEND:20250918T210000Z
SUMMARY:Manchester City v Napoli
LOCATION:Etihad Stadium
DESCRIPTION:Manchester City v Napoli - Etihad Stadium - UEFA Champions Lea
 gue
STATUS:CONFIRMED
END:VEVENT
BEGIN:VEVENT
UID:6e18b43547439d2e7c54696eca3883b3@skysports.com
SEQUENCE:0
DTSTAMP:20260425T090308Z
DTSTART:20251001T190000Z
DTEND:20251001T210000Z
SUMMARY:Monaco v Manchester City
LOCATION:Stade Louis-II
DESCRIPTION:Monaco v Manchester City - Stade Louis-II - UEFA Champions Lea
 gue
STATUS:CONFIRMED
END:VEVENT
BEGIN:VEVENT
UID:683e07bb6b728640c872f6a7d3f280d3@skysports.com
SEQUENCE:0
DTSTAMP:20260425T090308Z
DTSTART:20251021T190000Z
DTEND:20251021T210000Z
SUMMARY:Villarreal v Manchester City
LOCATION:Estadio de la Ceramica
DESCRIPTION:Villarreal v Manchester City - Estadio de la Ceramica - UEFA C
 hampions League
STATUS:CONFIRMED
END:VEVENT
BEGIN:VEVENT
UID:5e2f7ed2401c6075683c54198f91394f@skysports.com
SEQUENCE:0
DTSTAMP:20260425T090308Z
DTSTART:20251105T200000Z
DTEND:20251105T220000Z
SUMMARY:Manchester City v Borussia Dortmund
LOCATION:Etihad Stadium
DESCRIPTION:Manchester City v Borussia Dortmund - Etihad Stadium - UEFA Ch
 ampions League
STATUS:CONFIRMED
END:VEVENT
BEGIN:VEVENT
UID:ee002bf2a37d25be15fda62a3db2a683@skysports.com
SEQUENCE:0
DTSTAMP:20260425T090308Z
DTSTART:20251125T200000Z
DTEND:20251125T220000Z
SUMMARY:Manchester City v Bayer Leverkusen
LOCATION:Etihad Stadium
DESCRIPTION:Manchester City v Bayer Leverkusen - Etihad Stadium - UEFA Cha
 mpions League
STATUS:CONFIRMED
END:VEVENT
BEGIN:VEVENT
UID:d38b2b2f2dad197c17847e3b85687807@skysports.com
SEQUENCE:0
DTSTAMP:20260425T090308Z
DTSTART:20251210T200000Z
DTEND:20251210T220000Z
SUMMARY:Real Madrid v Manchester City
LOCATION:Estadio Bernabeu
DESCRIPTION:Real Madrid v Manchester City - Estadio Bernabeu - UEFA Champi
 ons League
STATUS:CONFIRMED
END:VEVENT
BEGIN:VEVENT
UID:e1e01520559e3b1f8f2f894c415e7e92@skysports.com
SEQUENCE:0
DTSTAMP:20260425T090308Z
DTSTART:20260120T174500Z
DTEND:20260120T194500Z
SUMMARY:Bodo/Glimt v Manchester City
LOCATION:Aspmyra Stadion
DESCRIPTION:Bodo/Glimt v Manchester City - Aspmyra Stadion - UEFA Champion
 s League
STATUS:CONFIRMED
END:VEVENT
BEGIN:VEVENT
UID:adeb3d086b46c59f7b4c94804ec36b17@skysports.com
SEQUENCE:0
DTSTAMP:20260425T090308Z
DTSTART:20260128T200000Z
DTEND:20260128T220000Z
SUMMARY:Manchester City v Galatasaray
LOCATION:Etihad Stadium
DESCRIPTION:Manchester City v Galatasaray - Etihad Stadium - UEFA Champion
 s League
STATUS:CONFIRMED
END:VEVENT
BEGIN:VEVENT
UID:e78f99ee62a6e8581402dcd7e2f6f63b@skysports.com
SEQUENCE:0
DTSTAMP:20260425T090308Z
DTSTART:20250924T184500Z
DTEND:20250924T204500Z
SUMMARY:Huddersfield Town v Manchester City
LOCATION:The Accu Stadium
DESCRIPTION:Huddersfield Town v Manchester City - The Accu Stadium - Carab
 ao Cup - Live on Sky Sports Premier League
STATUS:CONFIRMED
END:VEVENT
BEGIN:VEVENT
UID:4fe27b49c3701536cb3df11b3f6f2f63@skysports.com
SEQUENCE:0
DTSTAMP:20260425T090308Z
DTSTART:20251029T194500Z
DTEND:20251029T214500Z
SUMMARY:Swansea City v Manchester City
LOCATION:Swansea.com Stadium
DESCRIPTION:Swansea City v Manchester City - Swansea.com Stadium - Carabao
  Cup - Live on Sky Sports+
STATUS:CONFIRMED
END:VEVENT
BEGIN:VEVENT
UID:e7abc1e5f2e11710d14ce3177e77d6cd@skysports.com
SEQUENCE:0
DTSTAMP:20260425T090308Z
DTSTART:20251217T193000Z
DTEND:20251217T213000Z
SUMMARY:Manchester City v Brentford
LOCATION:Etihad Stadium
DESCRIPTION:Manchester City v Brentford - Etihad Stadium - Carabao Cup - L
 ive on Sky Sports Main Event
STATUS:CONFIRMED
END:VEVENT
BEGIN:VEVENT
UID:55b7e09c5433a6f2ab232eb006cab427@skysports.com
SEQUENCE:0
DTSTAMP:20260425T090308Z
DTSTART:20260110T150000Z
DTEND:20260110T170000Z
SUMMARY:Manchester City v Exeter City
LOCATION:Etihad Stadium
DESCRIPTION:Manchester City v Exeter City - Etihad Stadium - The FA Cup
STATUS:CONFIRMED
END:VEVENT
BEGIN:VEVENT
UID:df8ebb5f8b06fe5a9200b17bc515dfb4@skysports.com
SEQUENCE:0
DTSTAMP:20260425T090308Z
DTSTART:20260113T200000Z
DTEND:20260113T220000Z
SUMMARY:Newcastle United v Manchester City
LOCATION:St James' Park\, Newcastle
DESCRIPTION:Newcastle United v Manchester City - St James' Park and Newcas
 tle - Carabao Cup - Live on Sky Sports Main Event
STATUS:CONFIRMED
END:VEVENT
BEGIN:VEVENT
UID:b28d0377fc23fb6581931870d2361aa7@skysports.com
SEQUENCE:0
DTSTAMP:20260425T090308Z
DTSTART:20260204T200000Z
DTEND:20260204T220000Z
SUMMARY:Manchester City v Newcastle United
LOCATION:Etihad Stadium
DESCRIPTION:Manchester City v Newcastle United - Etihad Stadium - Carabao 
 Cup - Live on Sky Sports Main Event
STATUS:CONFIRMED
END:VEVENT
BEGIN:VEVENT
UID:306193265e51e8ffea6b70e67a2c2c6e@skysports.com
SEQUENCE:0
DTSTAMP:20260425T090308Z
DTSTART:20260214T150000Z
DTEND:20260214T170000Z
SUMMARY:Manchester City v Salford City
LOCATION:Etihad Stadium
DESCRIPTION:Manchester City v Salford City - Etihad Stadium - The FA Cup
STATUS:CONFIRMED
END:VEVENT
BEGIN:VEVENT
UID:0278f9da55448097298e9c5e2151a093@skysports.com
SEQUENCE:0
DTSTAMP:20260425T090308Z
DTSTART:20260322T163000Z
DTEND:20260322T183000Z
SUMMARY:Arsenal v Manchester City
LOCATION:Wembley Stadium
DESCRIPTION:Arsenal v Manchester City - Wembley Stadium - Carabao Cup - Li
 ve on Sky Sports Football and Sky Sports Main Event
STATUS:CONFIRMED
END:VEVENT
BEGIN:VEVENT
UID:04a272b234a65ab9b32aa937f9f79ff2@skysports.com
SEQUENCE:0
DTSTAMP:20260425T090308Z
DTSTART:20260307T200000Z
DTEND:20260307T220000Z
SUMMARY:Newcastle United v Manchester City
LOCATION:St James' Park\, Newcastle
DESCRIPTION:Newcastle United v Manchester City - St James' Park\, Newcastl
 e - The FA Cup
STATUS:CONFIRMED
END:VEVENT
BEGIN:VEVENT
UID:1ea04362e5c01f29a27bf2b2d449ddfb@skysports.com
SEQUENCE:0
DTSTAMP:20260425T090308Z
DTSTART:20260311T200000Z
DTEND:20260311T220000Z
SUMMARY:Real Madrid v Manchester City
LOCATION:Estadio Bernabeu
DESCRIPTION:Real Madrid v Manchester City - Estadio Bernabeu - UEFA Champi
 ons League
STATUS:CONFIRMED
END:VEVENT
BEGIN:VEVENT
UID:979c721db740101dcc6c1c5fc31cbc79@skysports.com
SEQUENCE:0
DTSTAMP:20260425T090308Z
DTSTART:20260317T200000Z
DTEND:20260317T220000Z
SUMMARY:Manchester City v Real Madrid
LOCATION:Etihad Stadium
DESCRIPTION:Manchester City v Real Madrid - Etihad Stadium - UEFA Champion
 s League
STATUS:CONFIRMED
END:VEVENT
BEGIN:VEVENT
UID:449efb1d68b8820b4c9fe8209d5767cd@skysports.com
SEQUENCE:0
DTSTAMP:20260425T090308Z
DTSTART:20260404T114500Z
DTEND:20260404T134500Z
SUMMARY:Manchester City v Liverpool
LOCATION:Etihad Stadium
DESCRIPTION:Manchester City v Liverpool - Etihad Stadium - The FA Cup
STATUS:CONFIRMED
END:VEVENT
BEGIN:VEVENT
UID:f4c936dd6282ba7f51c748284f6e444b@skysports.com
SEQUENCE:0
DTSTAMP:20260425T090308Z
DTSTART:20260425T161500Z
DTEND:20260425T181500Z
SUMMARY:Manchester City v Southampton
LOCATION:Wembley Stadium
DESCRIPTION:Manchester City v Southampton - Wembley Stadium - The FA Cup
STATUS:CONFIRMED
END:VEVENT
END:VCALENDAR