BEGIN:VCALENDAR
VERSION:2.0
PRODID:-//Sky Sports SSDM//NONSGML Event Calendar//EN
URL:https://www.skysports.com/calendars/football/fixtures/teams/manchester
 -united
CALSCALE:GREGORIAN
METHOD:PUBLISH
NAME:Manchester United Fixtures
X-WR-CALNAME:Manchester United Fixtures
X-WR-CALDESC:Manchester United fixtures provided by Sky Sports (https://ww
 w.skysports.com)
REFRESH-INTERVAL;VALUE=DURATION:PT1H
X-PUBLISHED-TTL:PT1H
BEGIN:VEVENT
UID:d19618b5cb30aec86e0e27c9f6aa6e56@skysports.com
SEQUENCE:0
DTSTAMP:20260425T090105Z
DTSTART:20250726T230000Z
DTEND:20250727T010000Z
SUMMARY:Manchester United v West Ham United
LOCATION:MetLife Stadium
DESCRIPTION:Manchester United v West Ham United - MetLife Stadium - Premie
 r League Summer Series - Live on Sky Sports Premier League
STATUS:CONFIRMED
END:VEVENT
BEGIN:VEVENT
UID:8561019cfdf121df278c83c6a5b1d296@skysports.com
SEQUENCE:0
DTSTAMP:20260425T090105Z
DTSTART:20250731T013000Z
DTEND:20250731T033000Z
SUMMARY:Manchester United v Bournemouth
LOCATION:Soldier Field
DESCRIPTION:Manchester United v Bournemouth - Soldier Field - Premier Leag
 ue Summer Series - Live on Sky Sports Premier League
STATUS:CONFIRMED
END:VEVENT
BEGIN:VEVENT
UID:35b275898e63782331b817d6693d98ee@skysports.com
SEQUENCE:0
DTSTAMP:20260425T090105Z
DTSTART:20250803T210000Z
DTEND:20250803T230000Z
SUMMARY:Manchester United v Everton
LOCATION:Mercedes-Benz Stadium
DESCRIPTION:Manchester United v Everton - Mercedes-Benz Stadium - Premier 
 League Summer Series - Live on Sky Sports Premier League and Sky Sports Ma
 in Event
STATUS:CONFIRMED
END:VEVENT
BEGIN:VEVENT
UID:2a3bf79414aa036e3e18b09e25f1297e@skysports.com
SEQUENCE:0
DTSTAMP:20260425T090105Z
DTSTART:20250719T130000Z
DTEND:20250719T150000Z
SUMMARY:Manchester United v Leeds United
LOCATION:Friends Arena
DESCRIPTION:Manchester United v Leeds United - Friends Arena - Friendly Ma
 tch
STATUS:CONFIRMED
END:VEVENT
BEGIN:VEVENT
UID:98698486feb9dc49814bd7841338fb58@skysports.com
SEQUENCE:0
DTSTAMP:20260425T090105Z
DTSTART:20250809T114500Z
DTEND:20250809T134500Z
SUMMARY:Manchester United v Fiorentina
LOCATION:Old Trafford
DESCRIPTION:Manchester United v Fiorentina - Old Trafford - Friendly Match
STATUS:CONFIRMED
END:VEVENT
BEGIN:VEVENT
UID:0aa9bae6069105f5b76ddccb405e1446@skysports.com
SEQUENCE:0
DTSTAMP:20260425T090105Z
DTSTART:20250817T153000Z
DTEND:20250817T173000Z
SUMMARY:Manchester United v Arsenal
LOCATION:Old Trafford
DESCRIPTION:Manchester United v Arsenal - Old Trafford - Premier League - 
 Live on Sky Sports Premier League and Sky Sports Main Event
STATUS:CONFIRMED
END:VEVENT
BEGIN:VEVENT
UID:086802b0185e93f76cd5ad94e5fdfb44@skysports.com
SEQUENCE:0
DTSTAMP:20260425T090105Z
DTSTART:20250824T153000Z
DTEND:20250824T173000Z
SUMMARY:Fulham v Manchester United
LOCATION:Craven Cottage
DESCRIPTION:Fulham v Manchester United - Craven Cottage - Premier League -
  Live on Sky Sports Main Event and Sky Sports Premier League
STATUS:CONFIRMED
END:VEVENT
BEGIN:VEVENT
UID:2351dc4375db4a3f2dbb59116437f2ac@skysports.com
SEQUENCE:0
DTSTAMP:20260425T090105Z
DTSTART:20250830T140000Z
DTEND:20250830T160000Z
SUMMARY:Manchester United v Burnley
LOCATION:Old Trafford
DESCRIPTION:Manchester United v Burnley - Old Trafford - Premier League
STATUS:CONFIRMED
END:VEVENT
BEGIN:VEVENT
UID:b35ac84ceacad11bf5110c1e17ef9434@skysports.com
SEQUENCE:0
DTSTAMP:20260425T090105Z
DTSTART:20250914T153000Z
DTEND:20250914T173000Z
SUMMARY:Manchester City v Manchester United
LOCATION:Etihad Stadium
DESCRIPTION:Manchester City v Manchester United - Etihad Stadium - Premier
  League - Live on Sky Sports Premier League and Sky Sports Main Event
STATUS:CONFIRMED
END:VEVENT
BEGIN:VEVENT
UID:b6293b9dcb25767849eeb3d65a4b5151@skysports.com
SEQUENCE:0
DTSTAMP:20260425T090105Z
DTSTART:20250920T163000Z
DTEND:20250920T183000Z
SUMMARY:Manchester United v Chelsea
LOCATION:Old Trafford
DESCRIPTION:Manchester United v Chelsea - Old Trafford - Premier League - 
 Live on Sky Sports Main Event and Sky Sports Premier League
STATUS:CONFIRMED
END:VEVENT
BEGIN:VEVENT
UID:501fd7abe6d601f9b8b5b571d29904ed@skysports.com
SEQUENCE:0
DTSTAMP:20260425T090105Z
DTSTART:20250927T113000Z
DTEND:20250927T133000Z
SUMMARY:Brentford v Manchester United
LOCATION:Gtech Community Stadium
DESCRIPTION:Brentford v Manchester United - Gtech Community Stadium - Prem
 ier League
STATUS:CONFIRMED
END:VEVENT
BEGIN:VEVENT
UID:d7f57700eeca5d3e32317f1c8814c231@skysports.com
SEQUENCE:0
DTSTAMP:20260425T090105Z
DTSTART:20251004T140000Z
DTEND:20251004T160000Z
SUMMARY:Manchester United v Sunderland
LOCATION:Old Trafford
DESCRIPTION:Manchester United v Sunderland - Old Trafford - Premier League
STATUS:CONFIRMED
END:VEVENT
BEGIN:VEVENT
UID:a69e9a5607ec4975940a749674b08a64@skysports.com
SEQUENCE:0
DTSTAMP:20260425T090105Z
DTSTART:20251019T153000Z
DTEND:20251019T173000Z
SUMMARY:Liverpool v Manchester United
LOCATION:Anfield
DESCRIPTION:Liverpool v Manchester United - Anfield - Premier League - Liv
 e on Sky Sports Premier League and Sky Sports Main Event
STATUS:CONFIRMED
END:VEVENT
BEGIN:VEVENT
UID:bedf826a366236b1b41d854b500fcb00@skysports.com
SEQUENCE:0
DTSTAMP:20260425T090105Z
DTSTART:20251025T163000Z
DTEND:20251025T183000Z
SUMMARY:Manchester United v Brighton and Hove Albion
LOCATION:Old Trafford
DESCRIPTION:Manchester United v Brighton and Hove Albion - Old Trafford - 
 Premier League - Live on Sky Sports Premier League and Sky Sports Main Eve
 nt
STATUS:CONFIRMED
END:VEVENT
BEGIN:VEVENT
UID:a09d237ea6952e8b9b500edf6747836e@skysports.com
SEQUENCE:0
DTSTAMP:20260425T090105Z
DTSTART:20251101T150000Z
DTEND:20251101T170000Z
SUMMARY:Nottingham Forest v Manchester United
LOCATION:The City Ground
DESCRIPTION:Nottingham Forest v Manchester United - The City Ground - Prem
 ier League
STATUS:CONFIRMED
END:VEVENT
BEGIN:VEVENT
UID:36e1b57537c75bd957c9843b14a5ba6e@skysports.com
SEQUENCE:0
DTSTAMP:20260425T090105Z
DTSTART:20251108T123000Z
DTEND:20251108T143000Z
SUMMARY:Tottenham Hotspur v Manchester United
LOCATION:Tottenham Hotspur Stadium
DESCRIPTION:Tottenham Hotspur v Manchester United - Tottenham Hotspur Stad
 ium - Premier League
STATUS:CONFIRMED
END:VEVENT
BEGIN:VEVENT
UID:23d6565fb6ff8ff424bd0d7e006b4f07@skysports.com
SEQUENCE:0
DTSTAMP:20260425T090105Z
DTSTART:20251124T200000Z
DTEND:20251124T220000Z
SUMMARY:Manchester United v Everton
LOCATION:Old Trafford
DESCRIPTION:Manchester United v Everton - Old Trafford - Premier League - 
 Live on Sky Sports Premier League and Sky Sports Main Event
STATUS:CONFIRMED
END:VEVENT
BEGIN:VEVENT
UID:f56b84f5bab8657bedf63b7581731765@skysports.com
SEQUENCE:0
DTSTAMP:20260425T090105Z
DTSTART:20251130T120000Z
DTEND:20251130T140000Z
SUMMARY:Crystal Palace v Manchester United
LOCATION:Selhurst Park
DESCRIPTION:Crystal Palace v Manchester United - Selhurst Park - Premier L
 eague
STATUS:CONFIRMED
END:VEVENT
BEGIN:VEVENT
UID:b21442d4b5c6734f93a25a23d733f5c1@skysports.com
SEQUENCE:0
DTSTAMP:20260425T090105Z
DTSTART:20251204T200000Z
DTEND:20251204T220000Z
SUMMARY:Manchester United v West Ham United
LOCATION:Old Trafford
DESCRIPTION:Manchester United v West Ham United - Old Trafford - Premier L
 eague - Live on Sky Sports Main Event and Sky Sports Premier League
STATUS:CONFIRMED
END:VEVENT
BEGIN:VEVENT
UID:67d6a0c38c78ae247dc7c4f4c10f378b@skysports.com
SEQUENCE:0
DTSTAMP:20260425T090105Z
DTSTART:20251208T200000Z
DTEND:20251208T220000Z
SUMMARY:Wolverhampton Wanderers v Manchester United
LOCATION:Molineux
DESCRIPTION:Wolverhampton Wanderers v Manchester United - Molineux - Premi
 er League - Live on Sky Sports Main Event and Sky Sports Premier League
STATUS:CONFIRMED
END:VEVENT
BEGIN:VEVENT
UID:636b324b49ca50975744e0bea6222b48@skysports.com
SEQUENCE:0
DTSTAMP:20260425T090105Z
DTSTART:20251215T200000Z
DTEND:20251215T220000Z
SUMMARY:Manchester United v Bournemouth
LOCATION:Old Trafford
DESCRIPTION:Manchester United v Bournemouth - Old Trafford - Premier Leagu
 e - Live on Sky Sports Main Event and Sky Sports Premier League
STATUS:CONFIRMED
END:VEVENT
BEGIN:VEVENT
UID:6d228f26e2760a729708dc72628a16b3@skysports.com
SEQUENCE:0
DTSTAMP:20260425T090105Z
DTSTART:20251221T163000Z
DTEND:20251221T183000Z
SUMMARY:Aston Villa v Manchester United
LOCATION:Villa Park
DESCRIPTION:Aston Villa v Manchester United - Villa Park - Premier League 
 - Live on Sky Sports Main Event and Sky Sports Premier League
STATUS:CONFIRMED
END:VEVENT
BEGIN:VEVENT
UID:ed567ed6a2d0408226c6a5f0272caae5@skysports.com
SEQUENCE:0
DTSTAMP:20260425T090105Z
DTSTART:20251226T200000Z
DTEND:20251226T220000Z
SUMMARY:Manchester United v Newcastle United
LOCATION:Old Trafford
DESCRIPTION:Manchester United v Newcastle United - Old Trafford - Premier 
 League - Live on Sky Sports Main Event and Sky Sports Premier League
STATUS:CONFIRMED
END:VEVENT
BEGIN:VEVENT
UID:509661ea3d9b6296ae64baf7cc014075@skysports.com
SEQUENCE:0
DTSTAMP:20260425T090105Z
DTSTART:20251230T201500Z
DTEND:20251230T221500Z
SUMMARY:Manchester United v Wolverhampton Wanderers
LOCATION:Old Trafford
DESCRIPTION:Manchester United v Wolverhampton Wanderers - Old Trafford - P
 remier League - Live on Sky Sports Football
STATUS:CONFIRMED
END:VEVENT
BEGIN:VEVENT
UID:efa5812b84f3fdee56f93936b238097d@skysports.com
SEQUENCE:0
DTSTAMP:20260425T090105Z
DTSTART:20260104T123000Z
DTEND:20260104T143000Z
SUMMARY:Leeds United v Manchester United
LOCATION:Elland Road
DESCRIPTION:Leeds United v Manchester United - Elland Road - Premier Leagu
 e
STATUS:CONFIRMED
END:VEVENT
BEGIN:VEVENT
UID:8280942e4056f694f89e1943a3513721@skysports.com
SEQUENCE:0
DTSTAMP:20260425T090105Z
DTSTART:20260107T201500Z
DTEND:20260107T221500Z
SUMMARY:Burnley v Manchester United
LOCATION:Turf Moor
DESCRIPTION:Burnley v Manchester United - Turf Moor - Premier League - Liv
 e on Sky Sports Premier League
STATUS:CONFIRMED
END:VEVENT
BEGIN:VEVENT
UID:58662fa00c2ff6d3c32483580716cb76@skysports.com
SEQUENCE:0
DTSTAMP:20260425T090105Z
DTSTART:20260117T123000Z
DTEND:20260117T143000Z
SUMMARY:Manchester United v Manchester City
LOCATION:Old Trafford
DESCRIPTION:Manchester United v Manchester City - Old Trafford - Premier L
 eague - Live on Sky Sports Main Event and Sky Sports Premier League
STATUS:CONFIRMED
END:VEVENT
BEGIN:VEVENT
UID:52227479960fe29845f2d096f8df08f1@skysports.com
SEQUENCE:0
DTSTAMP:20260425T090105Z
DTSTART:20260125T163000Z
DTEND:20260125T183000Z
SUMMARY:Arsenal v Manchester United
LOCATION:Emirates Stadium
DESCRIPTION:Arsenal v Manchester United - Emirates Stadium - Premier Leagu
 e - Live on Sky Sports Premier League and Sky Sports Main Event
STATUS:CONFIRMED
END:VEVENT
BEGIN:VEVENT
UID:eba3521e726b7bc3b26082b96fb93673@skysports.com
SEQUENCE:0
DTSTAMP:20260425T090105Z
DTSTART:20260201T140000Z
DTEND:20260201T160000Z
SUMMARY:Manchester United v Fulham
LOCATION:Old Trafford
DESCRIPTION:Manchester United v Fulham - Old Trafford - Premier League - L
 ive on Sky Sports Main Event
STATUS:CONFIRMED
END:VEVENT
BEGIN:VEVENT
UID:67a51ce0bb935fa04b04388804006138@skysports.com
SEQUENCE:0
DTSTAMP:20260425T090105Z
DTSTART:20260207T123000Z
DTEND:20260207T143000Z
SUMMARY:Manchester United v Tottenham Hotspur
LOCATION:Old Trafford
DESCRIPTION:Manchester United v Tottenham Hotspur - Old Trafford - Premier
  League
STATUS:CONFIRMED
END:VEVENT
BEGIN:VEVENT
UID:127a161bf57729ed2a2ff031e15b5b82@skysports.com
SEQUENCE:0
DTSTAMP:20260425T090105Z
DTSTART:20260210T201500Z
DTEND:20260210T221500Z
SUMMARY:West Ham United v Manchester United
LOCATION:London Stadium
DESCRIPTION:West Ham United v Manchester United - London Stadium - Premier
  League
STATUS:CONFIRMED
END:VEVENT
BEGIN:VEVENT
UID:a720ec02cc9320176f22883f52931745@skysports.com
SEQUENCE:0
DTSTAMP:20260425T090105Z
DTSTART:20260223T200000Z
DTEND:20260223T220000Z
SUMMARY:Everton v Manchester United
LOCATION:Hill Dickinson Stadium
DESCRIPTION:Everton v Manchester United - Hill Dickinson Stadium - Premier
  League - Live on Sky Sports Main Event and Sky Sports Premier League
STATUS:CONFIRMED
END:VEVENT
BEGIN:VEVENT
UID:75c28e35fbda7cb495567d2782753e75@skysports.com
SEQUENCE:0
DTSTAMP:20260425T090105Z
DTSTART:20260301T140000Z
DTEND:20260301T160000Z
SUMMARY:Manchester United v Crystal Palace
LOCATION:Old Trafford
DESCRIPTION:Manchester United v Crystal Palace - Old Trafford - Premier Le
 ague - Live on Sky Sports Main Event and Sky Sports Premier League
STATUS:CONFIRMED
END:VEVENT
BEGIN:VEVENT
UID:a6bf60c11e8f3abc3367b39ecbb70439@skysports.com
SEQUENCE:0
DTSTAMP:20260425T090105Z
DTSTART:20260304T201500Z
DTEND:20260304T221500Z
SUMMARY:Newcastle United v Manchester United
LOCATION:St James' Park\, Newcastle
DESCRIPTION:Newcastle United v Manchester United - St James' Park\, Newcas
 tle - Premier League
STATUS:CONFIRMED
END:VEVENT
BEGIN:VEVENT
UID:242101833882100acda970a9ca653614@skysports.com
SEQUENCE:0
DTSTAMP:20260425T090105Z
DTSTART:20260315T140000Z
DTEND:20260315T160000Z
SUMMARY:Manchester United v Aston Villa
LOCATION:Old Trafford
DESCRIPTION:Manchester United v Aston Villa - Old Trafford - Premier Leagu
 e - Live on Sky Sports Main Event
STATUS:CONFIRMED
END:VEVENT
BEGIN:VEVENT
UID:0475f0884f54ba32293df117bd3b4d12@skysports.com
SEQUENCE:0
DTSTAMP:20260425T090105Z
DTSTART:20260320T200000Z
DTEND:20260320T220000Z
SUMMARY:Bournemouth v Manchester United
LOCATION:Vitality Stadium
DESCRIPTION:Bournemouth v Manchester United - Vitality Stadium - Premier L
 eague - Live on Sky Sports Main Event and Sky Sports Premier League
STATUS:CONFIRMED
END:VEVENT
BEGIN:VEVENT
UID:f16702eb1da3b92069b766919192eb84@skysports.com
SEQUENCE:0
DTSTAMP:20260425T090105Z
DTSTART:20260413T190000Z
DTEND:20260413T210000Z
SUMMARY:Manchester United v Leeds United
LOCATION:Old Trafford
DESCRIPTION:Manchester United v Leeds United - Old Trafford - Premier Leag
 ue - Live on Sky Sports Premier League and Sky Sports Main Event
STATUS:CONFIRMED
END:VEVENT
BEGIN:VEVENT
UID:4ef09611d296b8ce66a671fa3cebe6e1@skysports.com
SEQUENCE:0
DTSTAMP:20260425T090105Z
DTSTART:20260418T190000Z
DTEND:20260418T210000Z
SUMMARY:Chelsea v Manchester United
LOCATION:Stamford Bridge
DESCRIPTION:Chelsea v Manchester United - Stamford Bridge - Premier League
STATUS:CONFIRMED
END:VEVENT
BEGIN:VEVENT
UID:b83e34bbef4f3453e7d66a2435288c89@skysports.com
SEQUENCE:0
DTSTAMP:20260425T090105Z
DTSTART:20260427T190000Z
DTEND:20260427T210000Z
SUMMARY:Manchester United v Brentford
LOCATION:Old Trafford
DESCRIPTION:Manchester United v Brentford - Old Trafford - Premier League 
 - Live on Sky Sports Premier League and Sky Sports Main Event
STATUS:CONFIRMED
END:VEVENT
BEGIN:VEVENT
UID:c8ce0939e8400188edc0f7d871a528f7@skysports.com
SEQUENCE:0
DTSTAMP:20260425T090105Z
DTSTART:20260503T143000Z
DTEND:20260503T163000Z
SUMMARY:Manchester United v Liverpool
LOCATION:Old Trafford
DESCRIPTION:Manchester United v Liverpool - Old Trafford - Premier League 
 - Live on Sky Sports Premier League and Sky Sports Main Event
STATUS:CONFIRMED
END:VEVENT
BEGIN:VEVENT
UID:53d507095c9c36d2a8a604424185e745@skysports.com
SEQUENCE:0
DTSTAMP:20260425T090105Z
DTSTART:20260509T140000Z
DTEND:20260509T160000Z
SUMMARY:Sunderland v Manchester United
LOCATION:Stadium of Light
DESCRIPTION:Sunderland v Manchester United - Stadium of Light - Premier Le
 ague
STATUS:CONFIRMED
END:VEVENT
BEGIN:VEVENT
UID:71751a25b69a858114b16b66e5b62a5e@skysports.com
SEQUENCE:0
DTSTAMP:20260425T090105Z
DTSTART:20260517T140000Z
DTEND:20260517T160000Z
SUMMARY:Manchester United v Nottingham Forest
LOCATION:Old Trafford
DESCRIPTION:Manchester United v Nottingham Forest - Old Trafford - Premier
  League
STATUS:CONFIRMED
END:VEVENT
BEGIN:VEVENT
UID:edf2bbc32bcaade65bfe7f0a5bb12796@skysports.com
SEQUENCE:0
DTSTAMP:20260425T090105Z
DTSTART:20260524T150000Z
DTEND:20260524T170000Z
SUMMARY:Brighton and Hove Albion v Manchester United
LOCATION:Amex Stadium
DESCRIPTION:Brighton and Hove Albion v Manchester United - Amex Stadium - 
 Premier League
STATUS:CONFIRMED
END:VEVENT
BEGIN:VEVENT
UID:2820c67c13bc81f690f26a01af889a51@skysports.com
SEQUENCE:0
DTSTAMP:20260425T090105Z
DTSTART:20250827T190000Z
DTEND:20250827T210000Z
SUMMARY:Grimsby Town v Manchester United
LOCATION:Blundell Park
DESCRIPTION:Grimsby Town v Manchester United - Blundell Park - Carabao Cup
  - Live on Sky Sports Football and Sky Sports Main Event
STATUS:CONFIRMED
END:VEVENT
BEGIN:VEVENT
UID:eb140390b0bc6590f83002851454f164@skysports.com
SEQUENCE:0
DTSTAMP:20260425T090105Z
DTSTART:20260111T163000Z
DTEND:20260111T183000Z
SUMMARY:Manchester United v Brighton and Hove Albion
LOCATION:Old Trafford
DESCRIPTION:Manchester United v Brighton and Hove Albion - Old Trafford - 
 The FA Cup
STATUS:CONFIRMED
END:VEVENT
BEGIN:VEVENT
UID:e96acba4040d7a8f134b2416c0e13969@skysports.com
SEQUENCE:0
DTSTAMP:20260425T090105Z
DTSTART:20260812T183000Z
DTEND:20260812T203000Z
SUMMARY:Leeds United v Manchester United
LOCATION:Croke Park
DESCRIPTION:Leeds United v Manchester United - Croke Park - Friendly Match
STATUS:CONFIRMED
END:VEVENT
BEGIN:VEVENT
UID:451fc80725b070527640a0f9f602fe33@skysports.com
SEQUENCE:0
DTSTAMP:20260425T090105Z
DTSTART:20260808T150000Z
DTEND:20260808T170000Z
SUMMARY:Paris Saint-Germain v Manchester United
LOCATION:Ullevi Stadium
DESCRIPTION:Paris Saint-Germain v Manchester United - Ullevi Stadium - Fri
 endly Match
STATUS:CONFIRMED
END:VEVENT
END:VCALENDAR