BEGIN:VCALENDAR
VERSION:2.0
PRODID:-//Sky Sports SSDM//NONSGML Event Calendar//EN
URL:https://www.skysports.com/calendars/football/fixtures/teams/monchengla
 dbach
CALSCALE:GREGORIAN
METHOD:PUBLISH
NAME:Mönchengladbach Fixtures
X-WR-CALNAME:Mönchengladbach Fixtures
X-WR-CALDESC:Mönchengladbach fixtures provided by Sky Sports (https://www
 .skysports.com)
REFRESH-INTERVAL;VALUE=DURATION:PT1H
X-PUBLISHED-TTL:PT1H
BEGIN:VEVENT
UID:ae8a8094095c6e34e69d937030772f24@skysports.com
SEQUENCE:0
DTSTAMP:20260421T090019Z
DTSTART:20250817T133000Z
DTEND:20250817T153000Z
SUMMARY:SV Atlas Delmenhorst v Mönchengladbach
LOCATION:Marschwegstadion
DESCRIPTION:SV Atlas Delmenhorst v Mönchengladbach - Marschwegstadion - G
 erman DFB Cup
STATUS:CONFIRMED
END:VEVENT
BEGIN:VEVENT
UID:48c54fc22327f1509a0422fd63cf7d3d@skysports.com
SEQUENCE:0
DTSTAMP:20260421T090019Z
DTSTART:20250824T153000Z
DTEND:20250824T173000Z
SUMMARY:Mönchengladbach v Hamburg
LOCATION:BORUSSIA-PARK
DESCRIPTION:Mönchengladbach v Hamburg - BORUSSIA-PARK - German Bundesliga
STATUS:CONFIRMED
END:VEVENT
BEGIN:VEVENT
UID:afd2df7ca3e329a98bd89d0a7e9ec99b@skysports.com
SEQUENCE:0
DTSTAMP:20260421T090019Z
DTSTART:20250830T133000Z
DTEND:20250830T153000Z
SUMMARY:Stuttgart v Mönchengladbach
LOCATION:MHP Arena
DESCRIPTION:Stuttgart v Mönchengladbach - MHP Arena - German Bundesliga
STATUS:CONFIRMED
END:VEVENT
BEGIN:VEVENT
UID:51a5cdc37cfed76c14ba1237e89cb2b8@skysports.com
SEQUENCE:0
DTSTAMP:20260421T090019Z
DTSTART:20250914T153000Z
DTEND:20250914T173000Z
SUMMARY:Mönchengladbach v Werder Bremen
LOCATION:BORUSSIA-PARK
DESCRIPTION:Mönchengladbach v Werder Bremen - BORUSSIA-PARK - German Bund
 esliga
STATUS:CONFIRMED
END:VEVENT
BEGIN:VEVENT
UID:bc2eda38a0f90c352ab81b8ee066dd1d@skysports.com
SEQUENCE:0
DTSTAMP:20260421T090019Z
DTSTART:20250921T153000Z
DTEND:20250921T173000Z
SUMMARY:Bayer Leverkusen v Mönchengladbach
LOCATION:BayArena
DESCRIPTION:Bayer Leverkusen v Mönchengladbach - BayArena - German Bundes
 liga
STATUS:CONFIRMED
END:VEVENT
BEGIN:VEVENT
UID:a688f4f44101790488b2aa745327adc3@skysports.com
SEQUENCE:0
DTSTAMP:20260421T090019Z
DTSTART:20250927T163000Z
DTEND:20250927T183000Z
SUMMARY:Mönchengladbach v Eintracht Frankfurt
LOCATION:BORUSSIA-PARK
DESCRIPTION:Mönchengladbach v Eintracht Frankfurt - BORUSSIA-PARK - Germa
 n Bundesliga - Live on Sky Sports Football HD and Sky Sports Football
STATUS:CONFIRMED
END:VEVENT
BEGIN:VEVENT
UID:506726521ba0fbf29d0a7af063e148ee@skysports.com
SEQUENCE:0
DTSTAMP:20260421T090019Z
DTSTART:20251005T173000Z
DTEND:20251005T193000Z
SUMMARY:Mönchengladbach v SC Freiburg
LOCATION:BORUSSIA-PARK
DESCRIPTION:Mönchengladbach v SC Freiburg - BORUSSIA-PARK - German Bundes
 liga
STATUS:CONFIRMED
END:VEVENT
BEGIN:VEVENT
UID:6fbd2fa64d47584e8e7e7185c697e2e9@skysports.com
SEQUENCE:0
DTSTAMP:20260421T090019Z
DTSTART:20251017T183000Z
DTEND:20251017T203000Z
SUMMARY:1. FC Union Berlin v Mönchengladbach
LOCATION:An der Alten Forsterei
DESCRIPTION:1. FC Union Berlin v Mönchengladbach - An der Alten Forsterei
  - German Bundesliga
STATUS:CONFIRMED
END:VEVENT
BEGIN:VEVENT
UID:9dbf6c40730fd4c1246cef275f777a4e@skysports.com
SEQUENCE:0
DTSTAMP:20260421T090019Z
DTSTART:20251025T133000Z
DTEND:20251025T153000Z
SUMMARY:Mönchengladbach v Bayern Munich
LOCATION:BORUSSIA-PARK
DESCRIPTION:Mönchengladbach v Bayern Munich - BORUSSIA-PARK - German Bund
 esliga
STATUS:CONFIRMED
END:VEVENT
BEGIN:VEVENT
UID:6dc05cb25d1636d01d3441c0c36a57d4@skysports.com
SEQUENCE:0
DTSTAMP:20260421T090019Z
DTSTART:20251101T143000Z
DTEND:20251101T163000Z
SUMMARY:St Pauli v Mönchengladbach
LOCATION:Millerntor-Stadion
DESCRIPTION:St Pauli v Mönchengladbach - Millerntor-Stadion - German Bund
 esliga
STATUS:CONFIRMED
END:VEVENT
BEGIN:VEVENT
UID:68250a459c7b1f31f942378aba706008@skysports.com
SEQUENCE:0
DTSTAMP:20260421T090019Z
DTSTART:20251108T173000Z
DTEND:20251108T193000Z
SUMMARY:Mönchengladbach v Cologne
LOCATION:BORUSSIA-PARK
DESCRIPTION:Mönchengladbach v Cologne - BORUSSIA-PARK - German Bundesliga
  - Live on Sky Sports Football
STATUS:CONFIRMED
END:VEVENT
BEGIN:VEVENT
UID:ed26e7042125c677ac8f501cc260e63f@skysports.com
SEQUENCE:0
DTSTAMP:20260421T090019Z
DTSTART:20251122T143000Z
DTEND:20251122T163000Z
SUMMARY:1. FC Heidenheim 1846 v Mönchengladbach
LOCATION:Voith-Arena
DESCRIPTION:1. FC Heidenheim 1846 v Mönchengladbach - Voith-Arena - Germa
 n Bundesliga
STATUS:CONFIRMED
END:VEVENT
BEGIN:VEVENT
UID:bf058d631edf4dc39b820bef5c2a59c4@skysports.com
SEQUENCE:0
DTSTAMP:20260421T090019Z
DTSTART:20251128T193000Z
DTEND:20251128T213000Z
SUMMARY:Mönchengladbach v RB Leipzig
LOCATION:BORUSSIA-PARK
DESCRIPTION:Mönchengladbach v RB Leipzig - BORUSSIA-PARK - German Bundesl
 iga
STATUS:CONFIRMED
END:VEVENT
BEGIN:VEVENT
UID:0f5bd4a48cb2f6623d6192a2f21e4d1a@skysports.com
SEQUENCE:0
DTSTAMP:20260421T090019Z
DTSTART:20251205T193000Z
DTEND:20251205T213000Z
SUMMARY:Mainz v Mönchengladbach
LOCATION:Coface Arena
DESCRIPTION:Mainz v Mönchengladbach - Coface Arena - German Bundesliga
STATUS:CONFIRMED
END:VEVENT
BEGIN:VEVENT
UID:d13b7cee0ea901d95d241999bd7fa407@skysports.com
SEQUENCE:0
DTSTAMP:20260421T090019Z
DTSTART:20251213T143000Z
DTEND:20251213T163000Z
SUMMARY:Mönchengladbach v Wolfsburg
LOCATION:BORUSSIA-PARK
DESCRIPTION:Mönchengladbach v Wolfsburg - BORUSSIA-PARK - German Bundesli
 ga
STATUS:CONFIRMED
END:VEVENT
BEGIN:VEVENT
UID:f1bec4637527688244faa6780a70a837@skysports.com
SEQUENCE:0
DTSTAMP:20260421T090019Z
DTSTART:20251219T193000Z
DTEND:20251219T213000Z
SUMMARY:Borussia Dortmund v Mönchengladbach
LOCATION:Signal Iduna Park
DESCRIPTION:Borussia Dortmund v Mönchengladbach - Signal Iduna Park - Ger
 man Bundesliga
STATUS:CONFIRMED
END:VEVENT
BEGIN:VEVENT
UID:adb5e7c9289c9b9a4e819c814c17aef1@skysports.com
SEQUENCE:0
DTSTAMP:20260421T090019Z
DTSTART:20260111T143000Z
DTEND:20260111T163000Z
SUMMARY:Mönchengladbach v FC Augsburg
LOCATION:BORUSSIA-PARK
DESCRIPTION:Mönchengladbach v FC Augsburg - BORUSSIA-PARK - German Bundes
 liga
STATUS:CONFIRMED
END:VEVENT
BEGIN:VEVENT
UID:82b06e1370ff4fadf7098eb50c195d6e@skysports.com
SEQUENCE:0
DTSTAMP:20260421T090019Z
DTSTART:20260114T193000Z
DTEND:20260114T213000Z
SUMMARY:TSG Hoffenheim v Mönchengladbach
LOCATION:PreZero Arena
DESCRIPTION:TSG Hoffenheim v Mönchengladbach - PreZero Arena - German Bun
 desliga
STATUS:CONFIRMED
END:VEVENT
BEGIN:VEVENT
UID:84b757091a7f34af26c35446156d5a4e@skysports.com
SEQUENCE:0
DTSTAMP:20260421T090019Z
DTSTART:20260117T143000Z
DTEND:20260117T163000Z
SUMMARY:Hamburg v Mönchengladbach
LOCATION:Volksparkstadion
DESCRIPTION:Hamburg v Mönchengladbach - Volksparkstadion - German Bundesl
 iga
STATUS:CONFIRMED
END:VEVENT
BEGIN:VEVENT
UID:2141c63fddeb6b15941c21acce43d7cb@skysports.com
SEQUENCE:0
DTSTAMP:20260421T090019Z
DTSTART:20260125T143000Z
DTEND:20260125T163000Z
SUMMARY:Mönchengladbach v Stuttgart
LOCATION:BORUSSIA-PARK
DESCRIPTION:Mönchengladbach v Stuttgart - BORUSSIA-PARK - German Bundesli
 ga
STATUS:CONFIRMED
END:VEVENT
BEGIN:VEVENT
UID:6857f7737f27647d302f27f4192c26ec@skysports.com
SEQUENCE:0
DTSTAMP:20260421T090019Z
DTSTART:20260131T143000Z
DTEND:20260131T163000Z
SUMMARY:Werder Bremen v Mönchengladbach
LOCATION:Weser-Stadion
DESCRIPTION:Werder Bremen v Mönchengladbach - Weser-Stadion - German Bund
 esliga
STATUS:CONFIRMED
END:VEVENT
BEGIN:VEVENT
UID:effc469d932cfa904a08f2f44a5d681e@skysports.com
SEQUENCE:0
DTSTAMP:20260421T090019Z
DTSTART:20260207T173000Z
DTEND:20260207T193000Z
SUMMARY:Mönchengladbach v Bayer Leverkusen
LOCATION:BORUSSIA-PARK
DESCRIPTION:Mönchengladbach v Bayer Leverkusen - BORUSSIA-PARK - German B
 undesliga - Live on Sky Sports Football
STATUS:CONFIRMED
END:VEVENT
BEGIN:VEVENT
UID:282b6550e9adc49c4ae534ef18cf7088@skysports.com
SEQUENCE:0
DTSTAMP:20260421T090019Z
DTSTART:20260214T143000Z
DTEND:20260214T163000Z
SUMMARY:Eintracht Frankfurt v Mönchengladbach
LOCATION:Commerzbank-Arena
DESCRIPTION:Eintracht Frankfurt v Mönchengladbach - Commerzbank-Arena - G
 erman Bundesliga
STATUS:CONFIRMED
END:VEVENT
BEGIN:VEVENT
UID:01394e3b7107d7d76528b06af5c859de@skysports.com
SEQUENCE:0
DTSTAMP:20260421T090019Z
DTSTART:20260222T143000Z
DTEND:20260222T163000Z
SUMMARY:SC Freiburg v Mönchengladbach
LOCATION:Europa-Park Stadion
DESCRIPTION:SC Freiburg v Mönchengladbach - Europa-Park Stadion - German 
 Bundesliga
STATUS:CONFIRMED
END:VEVENT
BEGIN:VEVENT
UID:057c46dadcb0894eaccce3d31ec297ea@skysports.com
SEQUENCE:0
DTSTAMP:20260421T090019Z
DTSTART:20260228T143000Z
DTEND:20260228T163000Z
SUMMARY:Mönchengladbach v 1. FC Union Berlin
LOCATION:BORUSSIA-PARK
DESCRIPTION:Mönchengladbach v 1. FC Union Berlin - BORUSSIA-PARK - German
  Bundesliga
STATUS:CONFIRMED
END:VEVENT
BEGIN:VEVENT
UID:5974bc1328c1b75057820313953042ff@skysports.com
SEQUENCE:0
DTSTAMP:20260421T090019Z
DTSTART:20260306T193000Z
DTEND:20260306T213000Z
SUMMARY:Bayern Munich v Mönchengladbach
LOCATION:Allianz Arena
DESCRIPTION:Bayern Munich v Mönchengladbach - Allianz Arena - German Bund
 esliga
STATUS:CONFIRMED
END:VEVENT
BEGIN:VEVENT
UID:b509d775710f0672c9fa0bee9008df3c@skysports.com
SEQUENCE:0
DTSTAMP:20260421T090019Z
DTSTART:20260313T193000Z
DTEND:20260313T213000Z
SUMMARY:Mönchengladbach v St Pauli
LOCATION:BORUSSIA-PARK
DESCRIPTION:Mönchengladbach v St Pauli - BORUSSIA-PARK - German Bundeslig
 a
STATUS:CONFIRMED
END:VEVENT
BEGIN:VEVENT
UID:9386d6a22eb2c188602c164f4a80c4d7@skysports.com
SEQUENCE:0
DTSTAMP:20260421T090019Z
DTSTART:20260321T143000Z
DTEND:20260321T163000Z
SUMMARY:Cologne v Mönchengladbach
LOCATION:RheinEnergieStadion
DESCRIPTION:Cologne v Mönchengladbach - RheinEnergieStadion - German Bund
 esliga
STATUS:CONFIRMED
END:VEVENT
BEGIN:VEVENT
UID:2f4c88d49353a7d4b1598ea69b70837c@skysports.com
SEQUENCE:0
DTSTAMP:20260421T090019Z
DTSTART:20260404T133000Z
DTEND:20260404T153000Z
SUMMARY:Mönchengladbach v 1. FC Heidenheim 1846
LOCATION:BORUSSIA-PARK
DESCRIPTION:Mönchengladbach v 1. FC Heidenheim 1846 - BORUSSIA-PARK - Ger
 man Bundesliga
STATUS:CONFIRMED
END:VEVENT
BEGIN:VEVENT
UID:16ed6ac3d80f523791107bb2b5010a94@skysports.com
SEQUENCE:0
DTSTAMP:20260421T090019Z
DTSTART:20260411T133000Z
DTEND:20260411T153000Z
SUMMARY:RB Leipzig v Mönchengladbach
LOCATION:Leipzig Stadium
DESCRIPTION:RB Leipzig v Mönchengladbach - Leipzig Stadium - German Bunde
 sliga
STATUS:CONFIRMED
END:VEVENT
BEGIN:VEVENT
UID:844a7a92ebe50cb34f5e8aa523ec5bb8@skysports.com
SEQUENCE:0
DTSTAMP:20260421T090019Z
DTSTART:20260419T173000Z
DTEND:20260419T193000Z
SUMMARY:Mönchengladbach v Mainz
LOCATION:BORUSSIA-PARK
DESCRIPTION:Mönchengladbach v Mainz - BORUSSIA-PARK - German Bundesliga
STATUS:CONFIRMED
END:VEVENT
BEGIN:VEVENT
UID:873483404496930de9dd7d8c47f34db5@skysports.com
SEQUENCE:0
DTSTAMP:20260421T090019Z
DTSTART:20260425T133000Z
DTEND:20260425T153000Z
SUMMARY:Wolfsburg v Mönchengladbach
LOCATION:Volkswagen Arena
DESCRIPTION:Wolfsburg v Mönchengladbach - Volkswagen Arena - German Bunde
 sliga
STATUS:CONFIRMED
END:VEVENT
BEGIN:VEVENT
UID:3ff316fddbbb2ae123c170f8bc26485c@skysports.com
SEQUENCE:0
DTSTAMP:20260421T090019Z
DTSTART:20260503T153000Z
DTEND:20260503T173000Z
SUMMARY:Mönchengladbach v Borussia Dortmund
LOCATION:BORUSSIA-PARK
DESCRIPTION:Mönchengladbach v Borussia Dortmund - BORUSSIA-PARK - German 
 Bundesliga
STATUS:CONFIRMED
END:VEVENT
BEGIN:VEVENT
UID:d038736309ddd861119639cb176af1e6@skysports.com
SEQUENCE:0
DTSTAMP:20260421T090019Z
DTSTART:20260509T133000Z
DTEND:20260509T153000Z
SUMMARY:FC Augsburg v Mönchengladbach
LOCATION:SGL Arena
DESCRIPTION:FC Augsburg v Mönchengladbach - SGL Arena - German Bundesliga
STATUS:CONFIRMED
END:VEVENT
BEGIN:VEVENT
UID:d4127ad2bbc71425f211d49bda69b780@skysports.com
SEQUENCE:0
DTSTAMP:20260421T090019Z
DTSTART:20260516T133000Z
DTEND:20260516T153000Z
SUMMARY:Mönchengladbach v TSG Hoffenheim
LOCATION:BORUSSIA-PARK
DESCRIPTION:Mönchengladbach v TSG Hoffenheim - BORUSSIA-PARK - German Bun
 desliga
STATUS:CONFIRMED
END:VEVENT
BEGIN:VEVENT
UID:dbdec093c78ed0cb603368417fd66c2f@skysports.com
SEQUENCE:0
DTSTAMP:20260421T090019Z
DTSTART:20250808T183000Z
DTEND:20250808T203000Z
SUMMARY:Brentford v Mönchengladbach
LOCATION:Gtech Community Stadium
DESCRIPTION:Brentford v Mönchengladbach - Gtech Community Stadium - Frien
 dly Matches
STATUS:CONFIRMED
END:VEVENT
BEGIN:VEVENT
UID:4cb23e67cf1d7a7c3fe80c2ba8dea138@skysports.com
SEQUENCE:0
DTSTAMP:20260421T090019Z
DTSTART:20251028T194500Z
DTEND:20251028T214500Z
SUMMARY:Mönchengladbach v Karlsruher SC
LOCATION:BORUSSIA-PARK
DESCRIPTION:Mönchengladbach v Karlsruher SC - BORUSSIA-PARK - German DFB 
 Cup
STATUS:CONFIRMED
END:VEVENT
BEGIN:VEVENT
UID:f4c3e573a1944b6fd7315ba17021f889@skysports.com
SEQUENCE:0
DTSTAMP:20260421T090019Z
DTSTART:20251202T170000Z
DTEND:20251202T190000Z
SUMMARY:Mönchengladbach v St Pauli
LOCATION:BORUSSIA-PARK
DESCRIPTION:Mönchengladbach v St Pauli - BORUSSIA-PARK - German DFB Cup
STATUS:CONFIRMED
END:VEVENT
END:VCALENDAR