BEGIN:VCALENDAR
VERSION:2.0
PRODID:-//Sky Sports SSDM//NONSGML Event Calendar//EN
URL:https://www.skysports.com/calendars/football/fixtures/teams/motherwell
CALSCALE:GREGORIAN
METHOD:PUBLISH
NAME:Motherwell Fixtures
X-WR-CALNAME:Motherwell Fixtures
X-WR-CALDESC:Motherwell fixtures provided by Sky Sports (https://www.skysp
 orts.com)
REFRESH-INTERVAL;VALUE=DURATION:PT1H
X-PUBLISHED-TTL:PT1H
BEGIN:VEVENT
UID:45791b61400418159812c61b73cf1a87@skysports.com
SEQUENCE:0
DTSTAMP:20260425T090307Z
DTSTART:20250712T140000Z
DTEND:20250712T160000Z
SUMMARY:Clyde v Motherwell
LOCATION:The HopeCBD Stadium
DESCRIPTION:Clyde v Motherwell - The HopeCBD Stadium - Premier Sports Cup
STATUS:CONFIRMED
END:VEVENT
BEGIN:VEVENT
UID:9c6eff7b9f41fb611eb55f2ffe05e98e@skysports.com
SEQUENCE:0
DTSTAMP:20260425T090307Z
DTSTART:20250715T184500Z
DTEND:20250715T204500Z
SUMMARY:Motherwell v Peterhead
LOCATION:Fir Park
DESCRIPTION:Motherwell v Peterhead - Fir Park - Premier Sports Cup
STATUS:CONFIRMED
END:VEVENT
BEGIN:VEVENT
UID:cc92c6b9b4361ecb8144104f3f0dab3a@skysports.com
SEQUENCE:0
DTSTAMP:20260425T090307Z
DTSTART:20250719T140000Z
DTEND:20250719T160000Z
SUMMARY:Stenhousemuir v Motherwell
LOCATION:Ochilview Park
DESCRIPTION:Stenhousemuir v Motherwell - Ochilview Park - Premier Sports C
 up
STATUS:CONFIRMED
END:VEVENT
BEGIN:VEVENT
UID:7e00c1b60f80a831ca9f73385d1a5e72@skysports.com
SEQUENCE:0
DTSTAMP:20260425T090307Z
DTSTART:20250722T184500Z
DTEND:20250722T204500Z
SUMMARY:Motherwell v Morton
LOCATION:Fir Park
DESCRIPTION:Motherwell v Morton - Fir Park - Premier Sports Cup
STATUS:CONFIRMED
END:VEVENT
BEGIN:VEVENT
UID:a7fa2b81f1c7763ef14604f84fc93438@skysports.com
SEQUENCE:0
DTSTAMP:20260425T090307Z
DTSTART:20250802T163000Z
DTEND:20250802T183000Z
SUMMARY:Motherwell v Rangers
LOCATION:Fir Park
DESCRIPTION:Motherwell v Rangers - Fir Park - Scottish Premiership - Live 
 on Sky Sports Main Event and Sky Sports Football
STATUS:CONFIRMED
END:VEVENT
BEGIN:VEVENT
UID:80e61c90d4c4b1e6711479d45c94569e@skysports.com
SEQUENCE:0
DTSTAMP:20260425T090307Z
DTSTART:20250809T140000Z
DTEND:20250809T160000Z
SUMMARY:St Mirren v Motherwell
LOCATION:The SMiSA Stadium
DESCRIPTION:St Mirren v Motherwell - The SMiSA Stadium - Scottish Premiers
 hip
STATUS:CONFIRMED
END:VEVENT
BEGIN:VEVENT
UID:d739c7e8c4e25bc5a13ba38e36b25984@skysports.com
SEQUENCE:0
DTSTAMP:20260425T090307Z
DTSTART:20250823T140000Z
DTEND:20250823T160000Z
SUMMARY:Hearts v Motherwell
LOCATION:Tynecastle
DESCRIPTION:Hearts v Motherwell - Tynecastle - Scottish Premiership
STATUS:CONFIRMED
END:VEVENT
BEGIN:VEVENT
UID:997de9785a12c2a01e14e3d896ae454d@skysports.com
SEQUENCE:0
DTSTAMP:20260425T090307Z
DTSTART:20250830T140000Z
DTEND:20250830T160000Z
SUMMARY:Motherwell v Kilmarnock
LOCATION:Fir Park
DESCRIPTION:Motherwell v Kilmarnock - Fir Park - Scottish Premiership
STATUS:CONFIRMED
END:VEVENT
BEGIN:VEVENT
UID:195984fde0d5c1436561e40345a7b4ef@skysports.com
SEQUENCE:0
DTSTAMP:20260425T090307Z
DTSTART:20250913T140000Z
DTEND:20250913T160000Z
SUMMARY:Dundee v Motherwell
LOCATION:The Scot Foam Stadium at Dens Park
DESCRIPTION:Dundee v Motherwell - The Scot Foam Stadium at Dens Park - Sco
 ttish Premiership
STATUS:CONFIRMED
END:VEVENT
BEGIN:VEVENT
UID:9139a8b6e3cf0be2507ed909b412e3c2@skysports.com
SEQUENCE:0
DTSTAMP:20260425T090307Z
DTSTART:20250927T164500Z
DTEND:20250927T184500Z
SUMMARY:Motherwell v Aberdeen
LOCATION:Fir Park
DESCRIPTION:Motherwell v Aberdeen - Fir Park - Scottish Premiership
STATUS:CONFIRMED
END:VEVENT
BEGIN:VEVENT
UID:b44288921769d002a3c8295ba8b93dde@skysports.com
SEQUENCE:0
DTSTAMP:20260425T090307Z
DTSTART:20251005T140000Z
DTEND:20251005T160000Z
SUMMARY:Celtic v Motherwell
LOCATION:Celtic Park
DESCRIPTION:Celtic v Motherwell - Celtic Park - Scottish Premiership
STATUS:CONFIRMED
END:VEVENT
BEGIN:VEVENT
UID:c81238677380f26522a3f840565cbac4@skysports.com
SEQUENCE:0
DTSTAMP:20260425T090307Z
DTSTART:20251018T140000Z
DTEND:20251018T160000Z
SUMMARY:Motherwell v Falkirk
LOCATION:Fir Park
DESCRIPTION:Motherwell v Falkirk - Fir Park - Scottish Premiership
STATUS:CONFIRMED
END:VEVENT
BEGIN:VEVENT
UID:909fedaee1c5a20f0c1c4f9e73dec3f1@skysports.com
SEQUENCE:0
DTSTAMP:20260425T090307Z
DTSTART:20251025T140000Z
DTEND:20251025T160000Z
SUMMARY:Livingston v Motherwell
LOCATION:Tony Macaroni Arena
DESCRIPTION:Livingston v Motherwell - Tony Macaroni Arena - Scottish Premi
 ership
STATUS:CONFIRMED
END:VEVENT
BEGIN:VEVENT
UID:186939ffc23c3b27764810ac9ef01281@skysports.com
SEQUENCE:0
DTSTAMP:20260425T090307Z
DTSTART:20251029T194500Z
DTEND:20251029T214500Z
SUMMARY:Motherwell v Dundee United
LOCATION:Fir Park
DESCRIPTION:Motherwell v Dundee United - Fir Park - Scottish Premiership
STATUS:CONFIRMED
END:VEVENT
BEGIN:VEVENT
UID:578da3414032d650d328d5f26157ae0c@skysports.com
SEQUENCE:0
DTSTAMP:20260425T090307Z
DTSTART:20251125T194500Z
DTEND:20251125T214500Z
SUMMARY:Motherwell v Hibernian
LOCATION:Fir Park
DESCRIPTION:Motherwell v Hibernian - Fir Park - Scottish Premiership
STATUS:CONFIRMED
END:VEVENT
BEGIN:VEVENT
UID:34c3a984a5716265e27a44eab231ede9@skysports.com
SEQUENCE:0
DTSTAMP:20260425T090307Z
DTSTART:20251109T150000Z
DTEND:20251109T170000Z
SUMMARY:Aberdeen v Motherwell
LOCATION:Pittodrie
DESCRIPTION:Aberdeen v Motherwell - Pittodrie - Scottish Premiership
STATUS:CONFIRMED
END:VEVENT
BEGIN:VEVENT
UID:00d1ed1e6c33fbe49ba19a01f8377450@skysports.com
SEQUENCE:0
DTSTAMP:20260425T090307Z
DTSTART:20251122T150000Z
DTEND:20251122T170000Z
SUMMARY:Kilmarnock v Motherwell
LOCATION:The BBSP Stadium\, Rugby Park
DESCRIPTION:Kilmarnock v Motherwell - The BBSP Stadium\, Rugby Park - Scot
 tish Premiership
STATUS:CONFIRMED
END:VEVENT
BEGIN:VEVENT
UID:18df3c1cce16c2e5a36229b6aaa9230d@skysports.com
SEQUENCE:0
DTSTAMP:20260425T090307Z
DTSTART:20251129T150000Z
DTEND:20251129T170000Z
SUMMARY:Motherwell v Hearts
LOCATION:Fir Park
DESCRIPTION:Motherwell v Hearts - Fir Park - Scottish Premiership
STATUS:CONFIRMED
END:VEVENT
BEGIN:VEVENT
UID:4db48a0dae2b496f3c56fb59674f89c0@skysports.com
SEQUENCE:0
DTSTAMP:20260425T090307Z
DTSTART:20251203T194500Z
DTEND:20251203T214500Z
SUMMARY:Falkirk v Motherwell
LOCATION:Falkirk Stadium
DESCRIPTION:Falkirk v Motherwell - Falkirk Stadium - Scottish Premiership
STATUS:CONFIRMED
END:VEVENT
BEGIN:VEVENT
UID:08d9e876c7c5fe777bc13b24d4340bb7@skysports.com
SEQUENCE:0
DTSTAMP:20260425T090307Z
DTSTART:20251206T150000Z
DTEND:20251206T170000Z
SUMMARY:Motherwell v Livingston
LOCATION:Fir Park
DESCRIPTION:Motherwell v Livingston - Fir Park - Scottish Premiership
STATUS:CONFIRMED
END:VEVENT
BEGIN:VEVENT
UID:9948d08a05409aafb1b984f1557de750@skysports.com
SEQUENCE:0
DTSTAMP:20260425T090307Z
DTSTART:20251213T150000Z
DTEND:20251213T170000Z
SUMMARY:Dundee United v Motherwell
LOCATION:CalForth Construction Arena at Tannadice Park
DESCRIPTION:Dundee United v Motherwell - CalForth Construction Arena at Ta
 nnadice Park - Scottish Premiership
STATUS:CONFIRMED
END:VEVENT
BEGIN:VEVENT
UID:c268af24a315ca040e02cb660ae9aeec@skysports.com
SEQUENCE:0
DTSTAMP:20260425T090307Z
DTSTART:20251220T150000Z
DTEND:20251220T170000Z
SUMMARY:Motherwell v Dundee
LOCATION:Fir Park
DESCRIPTION:Motherwell v Dundee - Fir Park - Scottish Premiership
STATUS:CONFIRMED
END:VEVENT
BEGIN:VEVENT
UID:442add2a3c6310476bdb0ae654b7635c@skysports.com
SEQUENCE:0
DTSTAMP:20260425T090307Z
DTSTART:20251227T150000Z
DTEND:20251227T170000Z
SUMMARY:Rangers v Motherwell
LOCATION:Ibrox Stadium
DESCRIPTION:Rangers v Motherwell - Ibrox Stadium - Scottish Premiership
STATUS:CONFIRMED
END:VEVENT
BEGIN:VEVENT
UID:2f5bd061a3b27598d505c07ba8343a16@skysports.com
SEQUENCE:0
DTSTAMP:20260425T090307Z
DTSTART:20251230T200000Z
DTEND:20251230T220000Z
SUMMARY:Motherwell v Celtic
LOCATION:Fir Park
DESCRIPTION:Motherwell v Celtic - Fir Park - Scottish Premiership
STATUS:CONFIRMED
END:VEVENT
BEGIN:VEVENT
UID:dd08c475d13667ccfb694022a4c33d6f@skysports.com
SEQUENCE:0
DTSTAMP:20260425T090307Z
DTSTART:20260103T150000Z
DTEND:20260103T170000Z
SUMMARY:Motherwell v St Mirren
LOCATION:Fir Park
DESCRIPTION:Motherwell v St Mirren - Fir Park - Scottish Premiership
STATUS:CONFIRMED
END:VEVENT
BEGIN:VEVENT
UID:d90cd0ca78f3133da2cc4d5090e52c27@skysports.com
SEQUENCE:0
DTSTAMP:20260425T090307Z
DTSTART:20260110T150000Z
DTEND:20260110T170000Z
SUMMARY:Hibernian v Motherwell
LOCATION:Easter Road
DESCRIPTION:Hibernian v Motherwell - Easter Road - Scottish Premiership
STATUS:CONFIRMED
END:VEVENT
BEGIN:VEVENT
UID:d9cd543e0ee03b0542c47e49b8c8b7ba@skysports.com
SEQUENCE:0
DTSTAMP:20260425T090307Z
DTSTART:20260124T150000Z
DTEND:20260124T170000Z
SUMMARY:Motherwell v Kilmarnock
LOCATION:Fir Park
DESCRIPTION:Motherwell v Kilmarnock - Fir Park - Scottish Premiership
STATUS:CONFIRMED
END:VEVENT
BEGIN:VEVENT
UID:c763bd40bb48a5cdd1ebf081d7a73b07@skysports.com
SEQUENCE:0
DTSTAMP:20260425T090307Z
DTSTART:20260131T150000Z
DTEND:20260131T170000Z
SUMMARY:Livingston v Motherwell
LOCATION:Tony Macaroni Arena
DESCRIPTION:Livingston v Motherwell - Tony Macaroni Arena - Scottish Premi
 ership
STATUS:CONFIRMED
END:VEVENT
BEGIN:VEVENT
UID:a8bd5a340c46a8f68ba19bf146656a5e@skysports.com
SEQUENCE:0
DTSTAMP:20260425T090307Z
DTSTART:20260307T150000Z
DTEND:20260307T170000Z
SUMMARY:Dundee v Motherwell
LOCATION:The Scot Foam Stadium at Dens Park
DESCRIPTION:Dundee v Motherwell - The Scot Foam Stadium at Dens Park - Sco
 ttish Premiership
STATUS:CONFIRMED
END:VEVENT
BEGIN:VEVENT
UID:17e88ba2ee2ecf77df10245ece558bd9@skysports.com
SEQUENCE:0
DTSTAMP:20260425T090307Z
DTSTART:20260211T200000Z
DTEND:20260211T220000Z
SUMMARY:Motherwell v Rangers
LOCATION:Fir Park
DESCRIPTION:Motherwell v Rangers - Fir Park - Scottish Premiership - Live 
 on Sky Sports Main Event and Sky Sports Football
STATUS:CONFIRMED
END:VEVENT
BEGIN:VEVENT
UID:4dee7952c30afc61f75711c0834c606f@skysports.com
SEQUENCE:0
DTSTAMP:20260425T090307Z
DTSTART:20260215T143000Z
DTEND:20260215T163000Z
SUMMARY:Motherwell v Aberdeen
LOCATION:Fir Park
DESCRIPTION:Motherwell v Aberdeen - Fir Park - Scottish Premiership
STATUS:CONFIRMED
END:VEVENT
BEGIN:VEVENT
UID:53cb82efdda4b64388811139bdd93bb6@skysports.com
SEQUENCE:0
DTSTAMP:20260425T090307Z
DTSTART:20260221T193000Z
DTEND:20260221T213000Z
SUMMARY:St Mirren v Motherwell
LOCATION:The SMiSA Stadium
DESCRIPTION:St Mirren v Motherwell - The SMiSA Stadium - Scottish Premiers
 hip
STATUS:CONFIRMED
END:VEVENT
BEGIN:VEVENT
UID:b421b6d25b74042cd81c50c63b5db097@skysports.com
SEQUENCE:0
DTSTAMP:20260425T090307Z
DTSTART:20260228T150000Z
DTEND:20260228T170000Z
SUMMARY:Motherwell v Dundee United
LOCATION:Fir Park
DESCRIPTION:Motherwell v Dundee United - Fir Park - Scottish Premiership
STATUS:CONFIRMED
END:VEVENT
BEGIN:VEVENT
UID:c8e8eb628b1a0e1364b073c1f21d0ff1@skysports.com
SEQUENCE:0
DTSTAMP:20260425T090307Z
DTSTART:20260314T150000Z
DTEND:20260314T170000Z
SUMMARY:Celtic v Motherwell
LOCATION:Celtic Park
DESCRIPTION:Celtic v Motherwell - Celtic Park - Scottish Premiership
STATUS:CONFIRMED
END:VEVENT
BEGIN:VEVENT
UID:f0d1a416b110f05a3eddfb5c698d32ef@skysports.com
SEQUENCE:0
DTSTAMP:20260425T090307Z
DTSTART:20260321T150000Z
DTEND:20260321T170000Z
SUMMARY:Motherwell v Hibernian
LOCATION:Fir Park
DESCRIPTION:Motherwell v Hibernian - Fir Park - Scottish Premiership
STATUS:CONFIRMED
END:VEVENT
BEGIN:VEVENT
UID:12f98453f31c61c25ae104dc7ecae115@skysports.com
SEQUENCE:0
DTSTAMP:20260425T090307Z
DTSTART:20260404T140000Z
DTEND:20260404T160000Z
SUMMARY:Motherwell v Falkirk
LOCATION:Fir Park
DESCRIPTION:Motherwell v Falkirk - Fir Park - Scottish Premiership
STATUS:CONFIRMED
END:VEVENT
BEGIN:VEVENT
UID:1703a7d4285d5f59179268a7827f34d9@skysports.com
SEQUENCE:0
DTSTAMP:20260425T090307Z
DTSTART:20260411T140000Z
DTEND:20260411T160000Z
SUMMARY:Hearts v Motherwell
LOCATION:Tynecastle
DESCRIPTION:Hearts v Motherwell - Tynecastle - Scottish Premiership
STATUS:CONFIRMED
END:VEVENT
BEGIN:VEVENT
UID:d7172144a68219852d200485d63f20ba@skysports.com
SEQUENCE:0
DTSTAMP:20260425T090307Z
DTSTART:20250816T140000Z
DTEND:20250816T160000Z
SUMMARY:St Johnstone v Motherwell
LOCATION:McDiarmid Park
DESCRIPTION:St Johnstone v Motherwell - McDiarmid Park - Premier Sports Cu
 p
STATUS:CONFIRMED
END:VEVENT
BEGIN:VEVENT
UID:442e11e3471b2758c97ef31ba740bafb@skysports.com
SEQUENCE:0
DTSTAMP:20260425T090307Z
DTSTART:20250920T140000Z
DTEND:20250920T160000Z
SUMMARY:Aberdeen v Motherwell
LOCATION:Pittodrie
DESCRIPTION:Aberdeen v Motherwell - Pittodrie - Premier Sports Cup
STATUS:CONFIRMED
END:VEVENT
BEGIN:VEVENT
UID:325b33f6f311038b034e3a48511435b9@skysports.com
SEQUENCE:0
DTSTAMP:20260425T090307Z
DTSTART:20251101T173000Z
DTEND:20251101T193000Z
SUMMARY:Motherwell v St Mirren
LOCATION:Hampden Park
DESCRIPTION:Motherwell v St Mirren - Hampden Park - Premier Sports Cup
STATUS:CONFIRMED
END:VEVENT
BEGIN:VEVENT
UID:1b11b1ff9a3b0219a781f6645617112c@skysports.com
SEQUENCE:0
DTSTAMP:20260425T090307Z
DTSTART:20260117T150000Z
DTEND:20260117T170000Z
SUMMARY:Motherwell v Ross County
LOCATION:Fir Park
DESCRIPTION:Motherwell v Ross County - Fir Park - Scottish Cup
STATUS:CONFIRMED
END:VEVENT
BEGIN:VEVENT
UID:db0ed9499bcd75a2351af788799ab9e9@skysports.com
SEQUENCE:0
DTSTAMP:20260425T090307Z
DTSTART:20260218T194500Z
DTEND:20260218T214500Z
SUMMARY:Aberdeen v Motherwell
LOCATION:Pittodrie
DESCRIPTION:Aberdeen v Motherwell - Pittodrie - Scottish Cup
STATUS:CONFIRMED
END:VEVENT
BEGIN:VEVENT
UID:dde64915e0757379cf9ba6fa613a3592@skysports.com
SEQUENCE:0
DTSTAMP:20260425T090307Z
DTSTART:20260426T140000Z
DTEND:20260426T160000Z
SUMMARY:Rangers v Motherwell
LOCATION:Ibrox Stadium
DESCRIPTION:Rangers v Motherwell - Ibrox Stadium - Scottish Premiership
STATUS:CONFIRMED
END:VEVENT
BEGIN:VEVENT
UID:e2eedf2b8124ce91b392ce982b191d1f@skysports.com
SEQUENCE:0
DTSTAMP:20260425T090307Z
DTSTART:20260502T140000Z
DTEND:20260502T160000Z
SUMMARY:Falkirk v Motherwell
LOCATION:Falkirk Stadium
DESCRIPTION:Falkirk v Motherwell - Falkirk Stadium - Scottish Premiership
STATUS:CONFIRMED
END:VEVENT
BEGIN:VEVENT
UID:732905f0de9a5cd3d11c1e6d71ff2f9a@skysports.com
SEQUENCE:0
DTSTAMP:20260425T090307Z
DTSTART:20260509T190000Z
DTEND:20260509T210000Z
SUMMARY:Motherwell v Hearts
LOCATION:Fir Park
DESCRIPTION:Motherwell v Hearts - Fir Park - Scottish Premiership - Live o
 n Sky Sports Football
STATUS:CONFIRMED
END:VEVENT
BEGIN:VEVENT
UID:45b32bd310fae658000a42f3f0fa5243@skysports.com
SEQUENCE:0
DTSTAMP:20260425T090307Z
DTSTART:20260513T190000Z
DTEND:20260513T210000Z
SUMMARY:Motherwell v Celtic
LOCATION:Fir Park
DESCRIPTION:Motherwell v Celtic - Fir Park - Scottish Premiership
STATUS:CONFIRMED
END:VEVENT
BEGIN:VEVENT
UID:c1ee64d4e87f3f6b1c6bebba518fd61d@skysports.com
SEQUENCE:0
DTSTAMP:20260425T090307Z
DTSTART:20260516T113000Z
DTEND:20260516T133000Z
SUMMARY:Hibernian v Motherwell
LOCATION:Easter Road
DESCRIPTION:Hibernian v Motherwell - Easter Road - Scottish Premiership
STATUS:CONFIRMED
END:VEVENT
END:VCALENDAR