BEGIN:VCALENDAR
VERSION:2.0
PRODID:-//Sky Sports SSDM//NONSGML Event Calendar//EN
URL:https://www.skysports.com/calendars/football/fixtures/teams/nac-breda
CALSCALE:GREGORIAN
METHOD:PUBLISH
NAME:NAC Breda Fixtures
X-WR-CALNAME:NAC Breda Fixtures
X-WR-CALDESC:NAC Breda fixtures provided by Sky Sports (https://www.skyspo
 rts.com)
REFRESH-INTERVAL;VALUE=DURATION:PT1H
X-PUBLISHED-TTL:PT1H
BEGIN:VEVENT
UID:f4e978e62fce8954807eb2dcfefdd2ae@skysports.com
SEQUENCE:0
DTSTAMP:20260425T092305Z
DTSTART:20250809T164500Z
DTEND:20250809T184500Z
SUMMARY:Feyenoord v NAC Breda
LOCATION:De Kuip
DESCRIPTION:Feyenoord v NAC Breda - De Kuip - Dutch Eredivisie
STATUS:CONFIRMED
END:VEVENT
BEGIN:VEVENT
UID:4fe07150cdea561f22fdbe0034f562cb@skysports.com
SEQUENCE:0
DTSTAMP:20260425T092305Z
DTSTART:20250817T180000Z
DTEND:20250817T200000Z
SUMMARY:NAC Breda v Fortuna Sittard
LOCATION:Rat Verlegh Stadion
DESCRIPTION:NAC Breda v Fortuna Sittard - Rat Verlegh Stadion - Dutch Ered
 ivisie
STATUS:CONFIRMED
END:VEVENT
BEGIN:VEVENT
UID:9545fb642e5b1ae9fc3be339d9366fd1@skysports.com
SEQUENCE:0
DTSTAMP:20260425T092305Z
DTSTART:20250824T123000Z
DTEND:20250824T143000Z
SUMMARY:NEC Nijmegen v NAC Breda
LOCATION:Stadion De Goffert
DESCRIPTION:NEC Nijmegen v NAC Breda - Stadion De Goffert - Dutch Eredivis
 ie
STATUS:CONFIRMED
END:VEVENT
BEGIN:VEVENT
UID:992aa45c9728a975581ce7d99d1b2b1f@skysports.com
SEQUENCE:0
DTSTAMP:20260425T092305Z
DTSTART:20250831T144500Z
DTEND:20250831T164500Z
SUMMARY:NAC Breda v AZ Alkmaar
LOCATION:Rat Verlegh Stadion
DESCRIPTION:NAC Breda v AZ Alkmaar - Rat Verlegh Stadion - Dutch Eredivisi
 e
STATUS:CONFIRMED
END:VEVENT
BEGIN:VEVENT
UID:9ebba3f537faf72603f880c4393fa008@skysports.com
SEQUENCE:0
DTSTAMP:20260425T092305Z
DTSTART:20250913T190000Z
DTEND:20250913T210000Z
SUMMARY:FC Twente v NAC Breda
LOCATION:De Grolsch Veste
DESCRIPTION:FC Twente v NAC Breda - De Grolsch Veste - Dutch Eredivisie
STATUS:CONFIRMED
END:VEVENT
BEGIN:VEVENT
UID:b29b4a7ae17d98e10ca9db3801337fca@skysports.com
SEQUENCE:0
DTSTAMP:20260425T092305Z
DTSTART:20250920T190000Z
DTEND:20250920T210000Z
SUMMARY:NAC Breda v Heracles Almelo
LOCATION:Rat Verlegh Stadion
DESCRIPTION:NAC Breda v Heracles Almelo - Rat Verlegh Stadion - Dutch Ered
 ivisie
STATUS:CONFIRMED
END:VEVENT
BEGIN:VEVENT
UID:289a9af5a14dbe2ed538571b11c352ab@skysports.com
SEQUENCE:0
DTSTAMP:20260425T092305Z
DTSTART:20250927T143000Z
DTEND:20250927T163000Z
SUMMARY:Ajax v NAC Breda
LOCATION:Amsterdam ArenA
DESCRIPTION:Ajax v NAC Breda - Amsterdam ArenA - Dutch Eredivisie
STATUS:CONFIRMED
END:VEVENT
BEGIN:VEVENT
UID:ecd680a7bd3eeb92ccf9a863fe1d7529@skysports.com
SEQUENCE:0
DTSTAMP:20260425T092305Z
DTSTART:20251003T180000Z
DTEND:20251003T200000Z
SUMMARY:NAC Breda v Groningen
LOCATION:Rat Verlegh Stadion
DESCRIPTION:NAC Breda v Groningen - Rat Verlegh Stadion - Dutch Eredivisie
STATUS:CONFIRMED
END:VEVENT
BEGIN:VEVENT
UID:c8913a441ef30bc8d997af7b9d857e25@skysports.com
SEQUENCE:0
DTSTAMP:20260425T092305Z
DTSTART:20251018T190000Z
DTEND:20251018T210000Z
SUMMARY:NAC Breda v PEC Zwolle
LOCATION:Rat Verlegh Stadion
DESCRIPTION:NAC Breda v PEC Zwolle - Rat Verlegh Stadion - Dutch Eredivisi
 e
STATUS:CONFIRMED
END:VEVENT
BEGIN:VEVENT
UID:eed89d7927884c8e4c7310f154996e10@skysports.com
SEQUENCE:0
DTSTAMP:20260425T092305Z
DTSTART:20251024T180000Z
DTEND:20251024T200000Z
SUMMARY:Heerenveen v NAC Breda
LOCATION:Abe Lenstra Stadion
DESCRIPTION:Heerenveen v NAC Breda - Abe Lenstra Stadion - Dutch Eredivisi
 e
STATUS:CONFIRMED
END:VEVENT
BEGIN:VEVENT
UID:76e8dc6a976f1d16db5789d928a1dc1b@skysports.com
SEQUENCE:0
DTSTAMP:20260425T092305Z
DTSTART:20251101T174500Z
DTEND:20251101T194500Z
SUMMARY:NAC Breda v Go Ahead Eagles
LOCATION:Rat Verlegh Stadion
DESCRIPTION:NAC Breda v Go Ahead Eagles - Rat Verlegh Stadion - Dutch Ered
 ivisie
STATUS:CONFIRMED
END:VEVENT
BEGIN:VEVENT
UID:3ea284d882edd9e3c1cf7b6edb9441f6@skysports.com
SEQUENCE:0
DTSTAMP:20260425T092305Z
DTSTART:20251108T174500Z
DTEND:20251108T194500Z
SUMMARY:FC Volendam v NAC Breda
LOCATION:Kras Stadion
DESCRIPTION:FC Volendam v NAC Breda - Kras Stadion - Dutch Eredivisie
STATUS:CONFIRMED
END:VEVENT
BEGIN:VEVENT
UID:9d16ca6ed3fd106f93963326418750e7@skysports.com
SEQUENCE:0
DTSTAMP:20260425T092305Z
DTSTART:20251122T153000Z
DTEND:20251122T173000Z
SUMMARY:NAC Breda v PSV Eindhoven
LOCATION:Rat Verlegh Stadion
DESCRIPTION:NAC Breda v PSV Eindhoven - Rat Verlegh Stadion - Dutch Erediv
 isie
STATUS:CONFIRMED
END:VEVENT
BEGIN:VEVENT
UID:8878a6f735ca9b88238b9c5f5bec4d30@skysports.com
SEQUENCE:0
DTSTAMP:20260425T092305Z
DTSTART:20251129T153000Z
DTEND:20251129T173000Z
SUMMARY:Excelsior v NAC Breda
LOCATION:Stadion Woudestein
DESCRIPTION:Excelsior v NAC Breda - Stadion Woudestein - Dutch Eredivisie
STATUS:CONFIRMED
END:VEVENT
BEGIN:VEVENT
UID:da1eb328f0bc38dfe8c1864c6a716176@skysports.com
SEQUENCE:0
DTSTAMP:20260425T092305Z
DTSTART:20251207T154500Z
DTEND:20251207T174500Z
SUMMARY:Sparta Rotterdam v NAC Breda
LOCATION:Sparta-Stadion
DESCRIPTION:Sparta Rotterdam v NAC Breda - Sparta-Stadion - Dutch Eredivis
 ie
STATUS:CONFIRMED
END:VEVENT
BEGIN:VEVENT
UID:4eab22b17141710fa5855f0b914b8a23@skysports.com
SEQUENCE:0
DTSTAMP:20260425T092305Z
DTSTART:20251214T154500Z
DTEND:20251214T174500Z
SUMMARY:NAC Breda v FC Utrecht
LOCATION:Rat Verlegh Stadion
DESCRIPTION:NAC Breda v FC Utrecht - Rat Verlegh Stadion - Dutch Eredivisi
 e
STATUS:CONFIRMED
END:VEVENT
BEGIN:VEVENT
UID:3582714c79821b89b1e9e14d199cea4e@skysports.com
SEQUENCE:0
DTSTAMP:20260425T092305Z
DTSTART:20251220T200000Z
DTEND:20251220T220000Z
SUMMARY:NAC Breda v Telstar
LOCATION:Rat Verlegh Stadion
DESCRIPTION:NAC Breda v Telstar - Rat Verlegh Stadion - Dutch Eredivisie
STATUS:CONFIRMED
END:VEVENT
BEGIN:VEVENT
UID:bd4be8cb6cb54368d05fdf5c45345d86@skysports.com
SEQUENCE:0
DTSTAMP:20260425T092305Z
DTSTART:20260110T200000Z
DTEND:20260110T220000Z
SUMMARY:Groningen v NAC Breda
LOCATION:Noordlease Stadion
DESCRIPTION:Groningen v NAC Breda - Noordlease Stadion - Dutch Eredivisie
STATUS:CONFIRMED
END:VEVENT
BEGIN:VEVENT
UID:f0796495adc8b574537e9c6633ed934b@skysports.com
SEQUENCE:0
DTSTAMP:20260425T092305Z
DTSTART:20260117T200000Z
DTEND:20260117T220000Z
SUMMARY:NAC Breda v NEC Nijmegen
LOCATION:Rat Verlegh Stadion
DESCRIPTION:NAC Breda v NEC Nijmegen - Rat Verlegh Stadion - Dutch Eredivi
 sie
STATUS:CONFIRMED
END:VEVENT
BEGIN:VEVENT
UID:fd446e79b6be0f996725494285a6d260@skysports.com
SEQUENCE:0
DTSTAMP:20260425T092305Z
DTSTART:20260124T190000Z
DTEND:20260124T210000Z
SUMMARY:PSV Eindhoven v NAC Breda
LOCATION:Philips Stadion
DESCRIPTION:PSV Eindhoven v NAC Breda - Philips Stadion - Dutch Eredivisie
STATUS:CONFIRMED
END:VEVENT
BEGIN:VEVENT
UID:c7268143e16a0c751ccc2eebb5677b90@skysports.com
SEQUENCE:0
DTSTAMP:20260425T092305Z
DTSTART:20260130T190000Z
DTEND:20260130T210000Z
SUMMARY:NAC Breda v FC Twente
LOCATION:Rat Verlegh Stadion
DESCRIPTION:NAC Breda v FC Twente - Rat Verlegh Stadion - Dutch Eredivisie
STATUS:CONFIRMED
END:VEVENT
BEGIN:VEVENT
UID:015121a73dfa25a35a80b0dfaccc7d4d@skysports.com
SEQUENCE:0
DTSTAMP:20260425T092305Z
DTSTART:20260206T190000Z
DTEND:20260206T210000Z
SUMMARY:NAC Breda v Excelsior
LOCATION:Rat Verlegh Stadion
DESCRIPTION:NAC Breda v Excelsior - Rat Verlegh Stadion - Dutch Eredivisie
STATUS:CONFIRMED
END:VEVENT
BEGIN:VEVENT
UID:4370a7ce03777463e456b9926a285de6@skysports.com
SEQUENCE:0
DTSTAMP:20260425T092305Z
DTSTART:20260214T153000Z
DTEND:20260214T173000Z
SUMMARY:Heracles Almelo v NAC Breda
LOCATION:Erve Asito
DESCRIPTION:Heracles Almelo v NAC Breda - Erve Asito - Dutch Eredivisie
STATUS:CONFIRMED
END:VEVENT
BEGIN:VEVENT
UID:c5f0e8a403e067d355407210dbce02a9@skysports.com
SEQUENCE:0
DTSTAMP:20260425T092305Z
DTSTART:20260221T190000Z
DTEND:20260221T210000Z
SUMMARY:NAC Breda v FC Volendam
LOCATION:Rat Verlegh Stadion
DESCRIPTION:NAC Breda v FC Volendam - Rat Verlegh Stadion - Dutch Eredivis
 ie
STATUS:CONFIRMED
END:VEVENT
BEGIN:VEVENT
UID:b6c781fd2035bc9b0a00fcd17f743f90@skysports.com
SEQUENCE:0
DTSTAMP:20260425T092305Z
DTSTART:20260227T190000Z
DTEND:20260227T210000Z
SUMMARY:Telstar v NAC Breda
LOCATION:Rabobank IJmond Stadion
DESCRIPTION:Telstar v NAC Breda - Rabobank IJmond Stadion - Dutch Eredivis
 ie
STATUS:CONFIRMED
END:VEVENT
BEGIN:VEVENT
UID:dd2b20dbdc1262265bc6b94427f4cd32@skysports.com
SEQUENCE:0
DTSTAMP:20260425T092305Z
DTSTART:20260308T154500Z
DTEND:20260308T174500Z
SUMMARY:NAC Breda v Feyenoord
LOCATION:Rat Verlegh Stadion
DESCRIPTION:NAC Breda v Feyenoord - Rat Verlegh Stadion - Dutch Eredivisie
STATUS:CONFIRMED
END:VEVENT
BEGIN:VEVENT
UID:95fd9991b04d5ab728295c52583af132@skysports.com
SEQUENCE:0
DTSTAMP:20260425T092305Z
DTSTART:20260315T154500Z
DTEND:20260315T174500Z
SUMMARY:Go Ahead Eagles v NAC Breda
LOCATION:De Adelaarshorst
DESCRIPTION:Go Ahead Eagles v NAC Breda - De Adelaarshorst - Dutch Eredivi
 sie
STATUS:CONFIRMED
END:VEVENT
BEGIN:VEVENT
UID:84bf1937eb6b2f670c86a51ce55294aa@skysports.com
SEQUENCE:0
DTSTAMP:20260425T092305Z
DTSTART:20260321T200000Z
DTEND:20260321T220000Z
SUMMARY:PEC Zwolle v NAC Breda
LOCATION:IJsseldelta Stadion
DESCRIPTION:PEC Zwolle v NAC Breda - IJsseldelta Stadion - Dutch Eredivisi
 e
STATUS:CONFIRMED
END:VEVENT
BEGIN:VEVENT
UID:f1b15c77f3e215eabed36019e4268631@skysports.com
SEQUENCE:0
DTSTAMP:20260425T092305Z
DTSTART:20260405T144500Z
DTEND:20260405T164500Z
SUMMARY:NAC Breda v Sparta Rotterdam
LOCATION:Rat Verlegh Stadion
DESCRIPTION:NAC Breda v Sparta Rotterdam - Rat Verlegh Stadion - Dutch Ere
 divisie
STATUS:CONFIRMED
END:VEVENT
BEGIN:VEVENT
UID:ff180d934b1b7bf2944d4994fdf190d3@skysports.com
SEQUENCE:0
DTSTAMP:20260425T092305Z
DTSTART:20260412T101500Z
DTEND:20260412T121500Z
SUMMARY:Fortuna Sittard v NAC Breda
LOCATION:Fortuna Sittard Stadion
DESCRIPTION:Fortuna Sittard v NAC Breda - Fortuna Sittard Stadion - Dutch 
 Eredivisie
STATUS:CONFIRMED
END:VEVENT
BEGIN:VEVENT
UID:32555cda44a75f56779abbdd79271187@skysports.com
SEQUENCE:0
DTSTAMP:20260425T092305Z
DTSTART:20260425T180000Z
DTEND:20260425T200000Z
SUMMARY:NAC Breda v Ajax
LOCATION:Rat Verlegh Stadion
DESCRIPTION:NAC Breda v Ajax - Rat Verlegh Stadion - Dutch Eredivisie
STATUS:CONFIRMED
END:VEVENT
BEGIN:VEVENT
UID:006aebeb4a6684896be27e10717cb2a8@skysports.com
SEQUENCE:0
DTSTAMP:20260425T092305Z
DTSTART:20260502T143000Z
DTEND:20260502T163000Z
SUMMARY:FC Utrecht v NAC Breda
LOCATION:Stadion Galgenwaard
DESCRIPTION:FC Utrecht v NAC Breda - Stadion Galgenwaard - Dutch Eredivisi
 e
STATUS:CONFIRMED
END:VEVENT
BEGIN:VEVENT
UID:4e6eb463963eb9915985ca04c23edffc@skysports.com
SEQUENCE:0
DTSTAMP:20260425T092305Z
DTSTART:20260510T144500Z
DTEND:20260510T164500Z
SUMMARY:NAC Breda v Heerenveen
LOCATION:Rat Verlegh Stadion
DESCRIPTION:NAC Breda v Heerenveen - Rat Verlegh Stadion - Dutch Eredivisi
 e
STATUS:CONFIRMED
END:VEVENT
BEGIN:VEVENT
UID:a07ce802c1381f286ea81863e145299a@skysports.com
SEQUENCE:0
DTSTAMP:20260425T092305Z
DTSTART:20260517T123000Z
DTEND:20260517T143000Z
SUMMARY:AZ Alkmaar v NAC Breda
LOCATION:AFAS Stadion
DESCRIPTION:AZ Alkmaar v NAC Breda - AFAS Stadion - Dutch Eredivisie
STATUS:CONFIRMED
END:VEVENT
END:VCALENDAR