BEGIN:VCALENDAR
VERSION:2.0
PRODID:-//Sky Sports SSDM//NONSGML Event Calendar//EN
URL:https://www.skysports.com/calendars/football/fixtures/teams/nec-nijmeg
 en
CALSCALE:GREGORIAN
METHOD:PUBLISH
NAME:NEC Nijmegen Fixtures
X-WR-CALNAME:NEC Nijmegen Fixtures
X-WR-CALDESC:NEC Nijmegen fixtures provided by Sky Sports (https://www.sky
 sports.com)
REFRESH-INTERVAL;VALUE=DURATION:PT1H
X-PUBLISHED-TTL:PT1H
BEGIN:VEVENT
UID:9d0cf93fb03679f437db583fabf95849@skysports.com
SEQUENCE:0
DTSTAMP:20260425T091111Z
DTSTART:20250809T143000Z
DTEND:20250809T163000Z
SUMMARY:NEC Nijmegen v Excelsior
LOCATION:Stadion De Goffert
DESCRIPTION:NEC Nijmegen v Excelsior - Stadion De Goffert - Dutch Eredivis
 ie
STATUS:CONFIRMED
END:VEVENT
BEGIN:VEVENT
UID:5d58fb582aa945354c5c23e4630a5e35@skysports.com
SEQUENCE:0
DTSTAMP:20260425T091111Z
DTSTART:20250816T180000Z
DTEND:20250816T200000Z
SUMMARY:Heracles Almelo v NEC Nijmegen
LOCATION:Erve Asito
DESCRIPTION:Heracles Almelo v NEC Nijmegen - Erve Asito - Dutch Eredivisie
STATUS:CONFIRMED
END:VEVENT
BEGIN:VEVENT
UID:9545fb642e5b1ae9fc3be339d9366fd1@skysports.com
SEQUENCE:0
DTSTAMP:20260425T091111Z
DTSTART:20250824T123000Z
DTEND:20250824T143000Z
SUMMARY:NEC Nijmegen v NAC Breda
LOCATION:Stadion De Goffert
DESCRIPTION:NEC Nijmegen v NAC Breda - Stadion De Goffert - Dutch Eredivis
 ie
STATUS:CONFIRMED
END:VEVENT
BEGIN:VEVENT
UID:ac5701d09cc5ec529acd5c87e599c6ec@skysports.com
SEQUENCE:0
DTSTAMP:20260425T091111Z
DTSTART:20250831T101500Z
DTEND:20250831T121500Z
SUMMARY:Fortuna Sittard v NEC Nijmegen
LOCATION:Fortuna Sittard Stadion
DESCRIPTION:Fortuna Sittard v NEC Nijmegen - Fortuna Sittard Stadion - Dut
 ch Eredivisie
STATUS:CONFIRMED
END:VEVENT
BEGIN:VEVENT
UID:daa5563591f8c52b9d83e478764f35f6@skysports.com
SEQUENCE:0
DTSTAMP:20260425T091111Z
DTSTART:20250913T164500Z
DTEND:20250913T184500Z
SUMMARY:NEC Nijmegen v PSV Eindhoven
LOCATION:Stadion De Goffert
DESCRIPTION:NEC Nijmegen v PSV Eindhoven - Stadion De Goffert - Dutch Ered
 ivisie
STATUS:CONFIRMED
END:VEVENT
BEGIN:VEVENT
UID:8c09a0305dbbdfc04cf58efd80306044@skysports.com
SEQUENCE:0
DTSTAMP:20260425T091111Z
DTSTART:20250921T123000Z
DTEND:20250921T143000Z
SUMMARY:Heerenveen v NEC Nijmegen
LOCATION:Abe Lenstra Stadion
DESCRIPTION:Heerenveen v NEC Nijmegen - Abe Lenstra Stadion - Dutch Erediv
 isie
STATUS:CONFIRMED
END:VEVENT
BEGIN:VEVENT
UID:3d05ba8a3200d9c8f0d0a2c8c6d6b6d5@skysports.com
SEQUENCE:0
DTSTAMP:20260425T091111Z
DTSTART:20250928T101500Z
DTEND:20250928T121500Z
SUMMARY:NEC Nijmegen v AZ Alkmaar
LOCATION:Stadion De Goffert
DESCRIPTION:NEC Nijmegen v AZ Alkmaar - Stadion De Goffert - Dutch Eredivi
 sie
STATUS:CONFIRMED
END:VEVENT
BEGIN:VEVENT
UID:74e42d3ac4fe0bb2d8f6b28589842c4a@skysports.com
SEQUENCE:0
DTSTAMP:20260425T091111Z
DTSTART:20251005T180000Z
DTEND:20251005T200000Z
SUMMARY:Go Ahead Eagles v NEC Nijmegen
LOCATION:De Adelaarshorst
DESCRIPTION:Go Ahead Eagles v NEC Nijmegen - De Adelaarshorst - Dutch Ered
 ivisie
STATUS:CONFIRMED
END:VEVENT
BEGIN:VEVENT
UID:9e8e31b3fda260e7bf6c8eabf9e8b13d@skysports.com
SEQUENCE:0
DTSTAMP:20260425T091111Z
DTSTART:20251018T143000Z
DTEND:20251018T163000Z
SUMMARY:NEC Nijmegen v FC Twente
LOCATION:Stadion De Goffert
DESCRIPTION:NEC Nijmegen v FC Twente - Stadion De Goffert - Dutch Eredivis
 ie
STATUS:CONFIRMED
END:VEVENT
BEGIN:VEVENT
UID:60f1f964481156ebc35612cda3b14195@skysports.com
SEQUENCE:0
DTSTAMP:20260425T091111Z
DTSTART:20251025T190000Z
DTEND:20251025T210000Z
SUMMARY:PEC Zwolle v NEC Nijmegen
LOCATION:IJsseldelta Stadion
DESCRIPTION:PEC Zwolle v NEC Nijmegen - IJsseldelta Stadion - Dutch Erediv
 isie
STATUS:CONFIRMED
END:VEVENT
BEGIN:VEVENT
UID:6bcb4e67c1f12ec2e0d5c6a00f5a7830@skysports.com
SEQUENCE:0
DTSTAMP:20260425T091111Z
DTSTART:20251102T154500Z
DTEND:20251102T174500Z
SUMMARY:FC Utrecht v NEC Nijmegen
LOCATION:Stadion Galgenwaard
DESCRIPTION:FC Utrecht v NEC Nijmegen - Stadion Galgenwaard - Dutch Erediv
 isie
STATUS:CONFIRMED
END:VEVENT
BEGIN:VEVENT
UID:59fae526de5dde445dc112df59c10874@skysports.com
SEQUENCE:0
DTSTAMP:20260425T091111Z
DTSTART:20251109T133000Z
DTEND:20251109T153000Z
SUMMARY:NEC Nijmegen v Groningen
LOCATION:Stadion De Goffert
DESCRIPTION:NEC Nijmegen v Groningen - Stadion De Goffert - Dutch Eredivis
 ie
STATUS:CONFIRMED
END:VEVENT
BEGIN:VEVENT
UID:797afc016e7ad8b18939ae52f326e036@skysports.com
SEQUENCE:0
DTSTAMP:20260425T091111Z
DTSTART:20251123T133000Z
DTEND:20251123T153000Z
SUMMARY:Feyenoord v NEC Nijmegen
LOCATION:De Kuip
DESCRIPTION:Feyenoord v NEC Nijmegen - De Kuip - Dutch Eredivisie
STATUS:CONFIRMED
END:VEVENT
BEGIN:VEVENT
UID:402a3b4aa54049071c3b9a6ccb1c08b0@skysports.com
SEQUENCE:0
DTSTAMP:20260425T091111Z
DTSTART:20251129T200000Z
DTEND:20251129T220000Z
SUMMARY:NEC Nijmegen v Sparta Rotterdam
LOCATION:Stadion De Goffert
DESCRIPTION:NEC Nijmegen v Sparta Rotterdam - Stadion De Goffert - Dutch E
 redivisie
STATUS:CONFIRMED
END:VEVENT
BEGIN:VEVENT
UID:da3123eca64ea08dd583428bd750a766@skysports.com
SEQUENCE:0
DTSTAMP:20260425T091111Z
DTSTART:20251207T133000Z
DTEND:20251207T153000Z
SUMMARY:FC Volendam v NEC Nijmegen
LOCATION:Kras Stadion
DESCRIPTION:FC Volendam v NEC Nijmegen - Kras Stadion - Dutch Eredivisie
STATUS:CONFIRMED
END:VEVENT
BEGIN:VEVENT
UID:798446c606598c64b8e5eb59b7b844ec@skysports.com
SEQUENCE:0
DTSTAMP:20260425T091111Z
DTSTART:20251213T153000Z
DTEND:20251213T173000Z
SUMMARY:Telstar v NEC Nijmegen
LOCATION:Rabobank IJmond Stadion
DESCRIPTION:Telstar v NEC Nijmegen - Rabobank IJmond Stadion - Dutch Eredi
 visie
STATUS:CONFIRMED
END:VEVENT
BEGIN:VEVENT
UID:59993592c91f6f205fa3a5752f16a06f@skysports.com
SEQUENCE:0
DTSTAMP:20260425T091111Z
DTSTART:20251220T190000Z
DTEND:20251220T210000Z
SUMMARY:NEC Nijmegen v Ajax
LOCATION:Stadion De Goffert
DESCRIPTION:NEC Nijmegen v Ajax - Stadion De Goffert - Dutch Eredivisie
STATUS:CONFIRMED
END:VEVENT
BEGIN:VEVENT
UID:59c57e9f591aaf0c16d6471dcb8a9167@skysports.com
SEQUENCE:0
DTSTAMP:20260425T091111Z
DTSTART:20260211T200000Z
DTEND:20260211T220000Z
SUMMARY:NEC Nijmegen v FC Utrecht
LOCATION:Stadion De Goffert
DESCRIPTION:NEC Nijmegen v FC Utrecht - Stadion De Goffert - Dutch Eredivi
 sie
STATUS:CONFIRMED
END:VEVENT
BEGIN:VEVENT
UID:f0796495adc8b574537e9c6633ed934b@skysports.com
SEQUENCE:0
DTSTAMP:20260425T091111Z
DTSTART:20260117T200000Z
DTEND:20260117T220000Z
SUMMARY:NAC Breda v NEC Nijmegen
LOCATION:Rat Verlegh Stadion
DESCRIPTION:NAC Breda v NEC Nijmegen - Rat Verlegh Stadion - Dutch Eredivi
 sie
STATUS:CONFIRMED
END:VEVENT
BEGIN:VEVENT
UID:530c90f2fe5b85cb9082380eca2e1bef@skysports.com
SEQUENCE:0
DTSTAMP:20260425T091111Z
DTSTART:20260124T174500Z
DTEND:20260124T194500Z
SUMMARY:NEC Nijmegen v PEC Zwolle
LOCATION:Stadion De Goffert
DESCRIPTION:NEC Nijmegen v PEC Zwolle - Stadion De Goffert - Dutch Eredivi
 sie
STATUS:CONFIRMED
END:VEVENT
BEGIN:VEVENT
UID:ce614e6c0ed0cbb9d6997aa952f96d18@skysports.com
SEQUENCE:0
DTSTAMP:20260425T091111Z
DTSTART:20260131T153000Z
DTEND:20260131T173000Z
SUMMARY:AZ Alkmaar v NEC Nijmegen
LOCATION:AFAS Stadion
DESCRIPTION:AZ Alkmaar v NEC Nijmegen - AFAS Stadion - Dutch Eredivisie
STATUS:CONFIRMED
END:VEVENT
BEGIN:VEVENT
UID:965cb720f4ec02c016c4bb345db1405a@skysports.com
SEQUENCE:0
DTSTAMP:20260425T091111Z
DTSTART:20260207T153000Z
DTEND:20260207T173000Z
SUMMARY:NEC Nijmegen v Heracles Almelo
LOCATION:Stadion De Goffert
DESCRIPTION:NEC Nijmegen v Heracles Almelo - Stadion De Goffert - Dutch Er
 edivisie
STATUS:CONFIRMED
END:VEVENT
BEGIN:VEVENT
UID:3a3a7730130a85fe601ebad32a426c35@skysports.com
SEQUENCE:0
DTSTAMP:20260425T091111Z
DTSTART:20260217T190000Z
DTEND:20260217T210000Z
SUMMARY:Sparta Rotterdam v NEC Nijmegen
LOCATION:Sparta-Stadion
DESCRIPTION:Sparta Rotterdam v NEC Nijmegen - Sparta-Stadion - Dutch Eredi
 visie
STATUS:CONFIRMED
END:VEVENT
BEGIN:VEVENT
UID:164b7a37bb3f26420896521d739e49b8@skysports.com
SEQUENCE:0
DTSTAMP:20260425T091111Z
DTSTART:20260221T200000Z
DTEND:20260221T220000Z
SUMMARY:Ajax v NEC Nijmegen
LOCATION:Amsterdam ArenA
DESCRIPTION:Ajax v NEC Nijmegen - Amsterdam ArenA - Dutch Eredivisie
STATUS:CONFIRMED
END:VEVENT
BEGIN:VEVENT
UID:9e753dfd19320b6a9abcbdda30c3d5af@skysports.com
SEQUENCE:0
DTSTAMP:20260425T091111Z
DTSTART:20260228T200000Z
DTEND:20260228T220000Z
SUMMARY:NEC Nijmegen v Fortuna Sittard
LOCATION:Stadion De Goffert
DESCRIPTION:NEC Nijmegen v Fortuna Sittard - Stadion De Goffert - Dutch Er
 edivisie
STATUS:CONFIRMED
END:VEVENT
BEGIN:VEVENT
UID:3b1027058633add357210d040bf525b3@skysports.com
SEQUENCE:0
DTSTAMP:20260425T091111Z
DTSTART:20260308T190000Z
DTEND:20260308T210000Z
SUMMARY:NEC Nijmegen v FC Volendam
LOCATION:Stadion De Goffert
DESCRIPTION:NEC Nijmegen v FC Volendam - Stadion De Goffert - Dutch Erediv
 isie
STATUS:CONFIRMED
END:VEVENT
BEGIN:VEVENT
UID:e28e0968fd6d6fdf0217cdbd67685b55@skysports.com
SEQUENCE:0
DTSTAMP:20260425T091111Z
DTSTART:20260314T174500Z
DTEND:20260314T194500Z
SUMMARY:PSV Eindhoven v NEC Nijmegen
LOCATION:Philips Stadion
DESCRIPTION:PSV Eindhoven v NEC Nijmegen - Philips Stadion - Dutch Eredivi
 sie
STATUS:CONFIRMED
END:VEVENT
BEGIN:VEVENT
UID:9700cae8f0b3936744ddf432e08b267b@skysports.com
SEQUENCE:0
DTSTAMP:20260425T091111Z
DTSTART:20260322T111500Z
DTEND:20260322T131500Z
SUMMARY:NEC Nijmegen v Heerenveen
LOCATION:Stadion De Goffert
DESCRIPTION:NEC Nijmegen v Heerenveen - Stadion De Goffert - Dutch Eredivi
 sie
STATUS:CONFIRMED
END:VEVENT
BEGIN:VEVENT
UID:ed3934c0bec1509e6df03c8616057d29@skysports.com
SEQUENCE:0
DTSTAMP:20260425T091111Z
DTSTART:20260404T190000Z
DTEND:20260404T210000Z
SUMMARY:Excelsior v NEC Nijmegen
LOCATION:Stadion Woudestein
DESCRIPTION:Excelsior v NEC Nijmegen - Stadion Woudestein - Dutch Eredivis
 ie
STATUS:CONFIRMED
END:VEVENT
BEGIN:VEVENT
UID:c1942fc57e66913d57fbb3922864ee85@skysports.com
SEQUENCE:0
DTSTAMP:20260425T091111Z
DTSTART:20260412T123000Z
DTEND:20260412T143000Z
SUMMARY:NEC Nijmegen v Feyenoord
LOCATION:Stadion De Goffert
DESCRIPTION:NEC Nijmegen v Feyenoord - Stadion De Goffert - Dutch Eredivis
 ie
STATUS:CONFIRMED
END:VEVENT
BEGIN:VEVENT
UID:514571a7fc44837c4afbc6fcb435a6bf@skysports.com
SEQUENCE:0
DTSTAMP:20260425T091111Z
DTSTART:20260425T190000Z
DTEND:20260425T210000Z
SUMMARY:FC Twente v NEC Nijmegen
LOCATION:De Grolsch Veste
DESCRIPTION:FC Twente v NEC Nijmegen - De Grolsch Veste - Dutch Eredivisie
STATUS:CONFIRMED
END:VEVENT
BEGIN:VEVENT
UID:df56788301c0229f84041896f95d60ee@skysports.com
SEQUENCE:0
DTSTAMP:20260425T091111Z
DTSTART:20260502T190000Z
DTEND:20260502T210000Z
SUMMARY:NEC Nijmegen v Telstar
LOCATION:Stadion De Goffert
DESCRIPTION:NEC Nijmegen v Telstar - Stadion De Goffert - Dutch Eredivisie
STATUS:CONFIRMED
END:VEVENT
BEGIN:VEVENT
UID:14a9ae9e36f8365f821612015b95b6c7@skysports.com
SEQUENCE:0
DTSTAMP:20260425T091111Z
DTSTART:20260510T144500Z
DTEND:20260510T164500Z
SUMMARY:Groningen v NEC Nijmegen
LOCATION:Noordlease Stadion
DESCRIPTION:Groningen v NEC Nijmegen - Noordlease Stadion - Dutch Eredivis
 ie
STATUS:CONFIRMED
END:VEVENT
BEGIN:VEVENT
UID:62bf145d8abba2bcc09538782cf4d10f@skysports.com
SEQUENCE:0
DTSTAMP:20260425T091111Z
DTSTART:20260517T123000Z
DTEND:20260517T143000Z
SUMMARY:NEC Nijmegen v Go Ahead Eagles
LOCATION:Stadion De Goffert
DESCRIPTION:NEC Nijmegen v Go Ahead Eagles - Stadion De Goffert - Dutch Er
 edivisie
STATUS:CONFIRMED
END:VEVENT
END:VCALENDAR