BEGIN:VCALENDAR
VERSION:2.0
PRODID:-//Sky Sports SSDM//NONSGML Event Calendar//EN
URL:https://www.skysports.com/calendars/football/fixtures/teams/northampto
 n-town
CALSCALE:GREGORIAN
METHOD:PUBLISH
NAME:Northampton Town Fixtures
X-WR-CALNAME:Northampton Town Fixtures
X-WR-CALDESC:Northampton Town fixtures provided by Sky Sports (https://www
 .skysports.com)
REFRESH-INTERVAL;VALUE=DURATION:PT1H
X-PUBLISHED-TTL:PT1H
BEGIN:VEVENT
UID:c696aa026b850f6165761f5cb8543516@skysports.com
SEQUENCE:0
DTSTAMP:20260425T090605Z
DTSTART:20250802T140000Z
DTEND:20250802T160000Z
SUMMARY:Wigan Athletic v Northampton Town
LOCATION:DW Stadium
DESCRIPTION:Wigan Athletic v Northampton Town - DW Stadium - Sky Bet Leagu
 e One - Live on Sky Sports+
STATUS:CONFIRMED
END:VEVENT
BEGIN:VEVENT
UID:aca6531e3a25f36bafabb1288678d31c@skysports.com
SEQUENCE:0
DTSTAMP:20260425T090605Z
DTSTART:20250809T140000Z
DTEND:20250809T160000Z
SUMMARY:Northampton Town v Bradford City
LOCATION:Sixfields Stadium
DESCRIPTION:Northampton Town v Bradford City - Sixfields Stadium - Sky Bet
  League One
STATUS:CONFIRMED
END:VEVENT
BEGIN:VEVENT
UID:ae1f5c79d235bad32f24b563fb7c7187@skysports.com
SEQUENCE:0
DTSTAMP:20260425T090605Z
DTSTART:20250816T140000Z
DTEND:20250816T160000Z
SUMMARY:Stevenage v Northampton Town
LOCATION:Lamex Stadium
DESCRIPTION:Stevenage v Northampton Town - Lamex Stadium - Sky Bet League 
 One
STATUS:CONFIRMED
END:VEVENT
BEGIN:VEVENT
UID:dd3b29d214751f9ab9ec6fa618e8f63b@skysports.com
SEQUENCE:0
DTSTAMP:20260425T090605Z
DTSTART:20250819T184500Z
DTEND:20250819T204500Z
SUMMARY:Northampton Town v Lincoln City
LOCATION:Sixfields Stadium
DESCRIPTION:Northampton Town v Lincoln City - Sixfields Stadium - Sky Bet 
 League One - Live on Sky Sports+
STATUS:CONFIRMED
END:VEVENT
BEGIN:VEVENT
UID:6c1ac84e9059f8be0e284a1bc48fde58@skysports.com
SEQUENCE:0
DTSTAMP:20260425T090605Z
DTSTART:20250823T140000Z
DTEND:20250823T160000Z
SUMMARY:Northampton Town v Exeter City
LOCATION:Sixfields Stadium
DESCRIPTION:Northampton Town v Exeter City - Sixfields Stadium - Sky Bet L
 eague One
STATUS:CONFIRMED
END:VEVENT
BEGIN:VEVENT
UID:1d909dee48adc4f81490b6934b549263@skysports.com
SEQUENCE:0
DTSTAMP:20260425T090605Z
DTSTART:20250830T140000Z
DTEND:20250830T160000Z
SUMMARY:Leyton Orient v Northampton Town
LOCATION:BetWright Stadium
DESCRIPTION:Leyton Orient v Northampton Town - BetWright Stadium - Sky Bet
  League One
STATUS:CONFIRMED
END:VEVENT
BEGIN:VEVENT
UID:aa7b6620e87da9e4ba01108ca4966133@skysports.com
SEQUENCE:0
DTSTAMP:20260425T090605Z
DTSTART:20251021T190000Z
DTEND:20251021T210000Z
SUMMARY:Reading v Northampton Town
LOCATION:Select Car Leasing Stadium
DESCRIPTION:Reading v Northampton Town - Select Car Leasing Stadium - Sky 
 Bet League One - Live on Sky Sports+
STATUS:CONFIRMED
END:VEVENT
BEGIN:VEVENT
UID:5edfc375a50d8eb6b6f29cfbaedcfd11@skysports.com
SEQUENCE:0
DTSTAMP:20260425T090605Z
DTSTART:20250913T113000Z
DTEND:20250913T133000Z
SUMMARY:Northampton Town v Blackpool
LOCATION:Sixfields Stadium
DESCRIPTION:Northampton Town v Blackpool - Sixfields Stadium - Sky Bet Lea
 gue One - Live on Sky Sports+
STATUS:CONFIRMED
END:VEVENT
BEGIN:VEVENT
UID:6982982f5e45f7e50674c137a248aa83@skysports.com
SEQUENCE:0
DTSTAMP:20260425T090605Z
DTSTART:20250920T140000Z
DTEND:20250920T160000Z
SUMMARY:Wycombe Wanderers v Northampton Town
LOCATION:Adams Park
DESCRIPTION:Wycombe Wanderers v Northampton Town - Adams Park - Sky Bet Le
 ague One
STATUS:CONFIRMED
END:VEVENT
BEGIN:VEVENT
UID:083576cbdb0f261330e05b43d305f77b@skysports.com
SEQUENCE:0
DTSTAMP:20260425T090605Z
DTSTART:20250927T140000Z
DTEND:20250927T160000Z
SUMMARY:Northampton Town v Bolton Wanderers
LOCATION:Sixfields Stadium
DESCRIPTION:Northampton Town v Bolton Wanderers - Sixfields Stadium - Sky 
 Bet League One
STATUS:CONFIRMED
END:VEVENT
BEGIN:VEVENT
UID:0dd414f6c2d867f00c2e744a1a4f37db@skysports.com
SEQUENCE:0
DTSTAMP:20260425T090605Z
DTSTART:20251004T140000Z
DTEND:20251004T160000Z
SUMMARY:Port Vale v Northampton Town
LOCATION:Vale Park
DESCRIPTION:Port Vale v Northampton Town - Vale Park - Sky Bet League One
STATUS:CONFIRMED
END:VEVENT
BEGIN:VEVENT
UID:beafb1cbd4ff2ffda7e0180c289f5905@skysports.com
SEQUENCE:0
DTSTAMP:20260425T090605Z
DTSTART:20251011T130000Z
DTEND:20251011T150000Z
SUMMARY:Northampton Town v Rotherham United
LOCATION:Sixfields Stadium
DESCRIPTION:Northampton Town v Rotherham United - Sixfields Stadium - Sky 
 Bet League One - Live on Sky Sports+
STATUS:CONFIRMED
END:VEVENT
BEGIN:VEVENT
UID:3729fa2e85e933dbb1465454eeb3d987@skysports.com
SEQUENCE:0
DTSTAMP:20260425T090605Z
DTSTART:20251018T140000Z
DTEND:20251018T160000Z
SUMMARY:Doncaster Rovers v Northampton Town
LOCATION:Eco-Power Stadium
DESCRIPTION:Doncaster Rovers v Northampton Town - Eco-Power Stadium - Sky 
 Bet League One
STATUS:CONFIRMED
END:VEVENT
BEGIN:VEVENT
UID:c5632ca290adf60fc001aa881249dc8c@skysports.com
SEQUENCE:0
DTSTAMP:20260425T090605Z
DTSTART:20251025T140000Z
DTEND:20251025T160000Z
SUMMARY:Northampton Town v Luton Town
LOCATION:Sixfields Stadium
DESCRIPTION:Northampton Town v Luton Town - Sixfields Stadium - Sky Bet Le
 ague One
STATUS:CONFIRMED
END:VEVENT
BEGIN:VEVENT
UID:99ec12c8eead95417dab663a0a9daf0b@skysports.com
SEQUENCE:0
DTSTAMP:20260425T090605Z
DTSTART:20251108T123000Z
DTEND:20251108T143000Z
SUMMARY:Northampton Town v Mansfield Town
LOCATION:Sixfields Stadium
DESCRIPTION:Northampton Town v Mansfield Town - Sixfields Stadium - Sky Be
 t League One - Live on Sky Sports+
STATUS:CONFIRMED
END:VEVENT
BEGIN:VEVENT
UID:74b3d82f4df606346a9e8a237159236f@skysports.com
SEQUENCE:0
DTSTAMP:20260425T090605Z
DTSTART:20260203T194500Z
DTEND:20260203T214500Z
SUMMARY:Barnsley v Northampton Town
LOCATION:Oakwell Stadium
DESCRIPTION:Barnsley v Northampton Town - Oakwell Stadium - Sky Bet League
  One - Live on Sky Sports+
STATUS:CONFIRMED
END:VEVENT
BEGIN:VEVENT
UID:d63d656d32db3e0c8fc3a908833d48de@skysports.com
SEQUENCE:0
DTSTAMP:20260425T090605Z
DTSTART:20251122T150000Z
DTEND:20251122T170000Z
SUMMARY:Northampton Town v Cardiff City
LOCATION:Sixfields Stadium
DESCRIPTION:Northampton Town v Cardiff City - Sixfields Stadium - Sky Bet 
 League One
STATUS:CONFIRMED
END:VEVENT
BEGIN:VEVENT
UID:117249badce134df40fa002ae4f0325e@skysports.com
SEQUENCE:0
DTSTAMP:20260425T090605Z
DTSTART:20251129T150000Z
DTEND:20251129T170000Z
SUMMARY:Plymouth Argyle v Northampton Town
LOCATION:Home Park
DESCRIPTION:Plymouth Argyle v Northampton Town - Home Park - Sky Bet Leagu
 e One
STATUS:CONFIRMED
END:VEVENT
BEGIN:VEVENT
UID:620201bd43fada9271922e6964061f36@skysports.com
SEQUENCE:0
DTSTAMP:20260425T090605Z
DTSTART:20251209T194500Z
DTEND:20251209T214500Z
SUMMARY:Northampton Town v Huddersfield Town
LOCATION:Sixfields Stadium
DESCRIPTION:Northampton Town v Huddersfield Town - Sixfields Stadium - Sky
  Bet League One - Live on Sky Sports+
STATUS:CONFIRMED
END:VEVENT
BEGIN:VEVENT
UID:af166a9a33237d0d711617dbd3c3833b@skysports.com
SEQUENCE:0
DTSTAMP:20260425T090605Z
DTSTART:20251213T150000Z
DTEND:20251213T170000Z
SUMMARY:Peterborough United v Northampton Town
LOCATION:Weston Homes Stadium
DESCRIPTION:Peterborough United v Northampton Town - Weston Homes Stadium 
 - Sky Bet League One
STATUS:CONFIRMED
END:VEVENT
BEGIN:VEVENT
UID:c0dbcfbf3234f2470ce36d44beaee80d@skysports.com
SEQUENCE:0
DTSTAMP:20260425T090605Z
DTSTART:20251219T194500Z
DTEND:20251219T214500Z
SUMMARY:Northampton Town v AFC Wimbledon
LOCATION:Sixfields Stadium
DESCRIPTION:Northampton Town v AFC Wimbledon - Sixfields Stadium - Sky Bet
  League One - Live on Sky Sports+
STATUS:CONFIRMED
END:VEVENT
BEGIN:VEVENT
UID:9ee23c7715d5b37ca5492ea47056ebef@skysports.com
SEQUENCE:0
DTSTAMP:20260425T090605Z
DTSTART:20251226T150000Z
DTEND:20251226T170000Z
SUMMARY:Burton Albion v Northampton Town
LOCATION:Pirelli Stadium
DESCRIPTION:Burton Albion v Northampton Town - Pirelli Stadium - Sky Bet L
 eague One - Live on Sky Sports+
STATUS:CONFIRMED
END:VEVENT
BEGIN:VEVENT
UID:5a54abafe636ac602b1bb47d698392cb@skysports.com
SEQUENCE:0
DTSTAMP:20260425T090605Z
DTSTART:20251229T194500Z
DTEND:20251229T214500Z
SUMMARY:Huddersfield Town v Northampton Town
LOCATION:The Accu Stadium
DESCRIPTION:Huddersfield Town v Northampton Town - The Accu Stadium - Sky 
 Bet League One
STATUS:CONFIRMED
END:VEVENT
BEGIN:VEVENT
UID:eb6c7346716e5c56191c6f2092b955f4@skysports.com
SEQUENCE:0
DTSTAMP:20260425T090605Z
DTSTART:20260101T150000Z
DTEND:20260101T170000Z
SUMMARY:Northampton Town v Stockport County
LOCATION:Sixfields Stadium
DESCRIPTION:Northampton Town v Stockport County - Sixfields Stadium - Sky 
 Bet League One - Live on Sky Sports+
STATUS:CONFIRMED
END:VEVENT
BEGIN:VEVENT
UID:df095aaab12c551944933e90a70864d7@skysports.com
SEQUENCE:0
DTSTAMP:20260425T090605Z
DTSTART:20260104T120000Z
DTEND:20260104T140000Z
SUMMARY:Bolton Wanderers v Northampton Town
LOCATION:University of Bolton Stadium
DESCRIPTION:Bolton Wanderers v Northampton Town - University of Bolton Sta
 dium - Sky Bet League One - Live on Sky Sports+
STATUS:CONFIRMED
END:VEVENT
BEGIN:VEVENT
UID:305b992a12650ce9cffc57858100d6a1@skysports.com
SEQUENCE:0
DTSTAMP:20260425T090605Z
DTSTART:20260224T194500Z
DTEND:20260224T214500Z
SUMMARY:Northampton Town v Port Vale
LOCATION:Sixfields Stadium
DESCRIPTION:Northampton Town v Port Vale - Sixfields Stadium - Sky Bet Lea
 gue One - Live on Sky Sports+
STATUS:CONFIRMED
END:VEVENT
BEGIN:VEVENT
UID:a9caa9b6db6917add7e370561783a181@skysports.com
SEQUENCE:0
DTSTAMP:20260425T090605Z
DTSTART:20260117T150000Z
DTEND:20260117T170000Z
SUMMARY:Northampton Town v Wycombe Wanderers
LOCATION:Sixfields Stadium
DESCRIPTION:Northampton Town v Wycombe Wanderers - Sixfields Stadium - Sky
  Bet League One
STATUS:CONFIRMED
END:VEVENT
BEGIN:VEVENT
UID:86524459db5e73312a6b9d4bd6684dcb@skysports.com
SEQUENCE:0
DTSTAMP:20260425T090605Z
DTSTART:20260124T150000Z
DTEND:20260124T170000Z
SUMMARY:Blackpool v Northampton Town
LOCATION:Bloomfield Road
DESCRIPTION:Blackpool v Northampton Town - Bloomfield Road - Sky Bet Leagu
 e One
STATUS:CONFIRMED
END:VEVENT
BEGIN:VEVENT
UID:41bed126bd93e02336151e6ea2d651f1@skysports.com
SEQUENCE:0
DTSTAMP:20260425T090605Z
DTSTART:20260127T194500Z
DTEND:20260127T214500Z
SUMMARY:Rotherham United v Northampton Town
LOCATION:New York Stadium
DESCRIPTION:Rotherham United v Northampton Town - New York Stadium - Sky B
 et League One - Live on Sky Sports+
STATUS:CONFIRMED
END:VEVENT
BEGIN:VEVENT
UID:847c09e5b52b2c688023a0ff8133f63e@skysports.com
SEQUENCE:0
DTSTAMP:20260425T090605Z
DTSTART:20260131T140000Z
DTEND:20260131T160000Z
SUMMARY:Northampton Town v Reading
LOCATION:Sixfields Stadium
DESCRIPTION:Northampton Town v Reading - Sixfields Stadium - Sky Bet Leagu
 e One
STATUS:CONFIRMED
END:VEVENT
BEGIN:VEVENT
UID:92d5cdfcfa6d6a41bf81e3dce0af7de5@skysports.com
SEQUENCE:0
DTSTAMP:20260425T090605Z
DTSTART:20260207T150100Z
DTEND:20260207T170100Z
SUMMARY:Northampton Town v Stevenage
LOCATION:Sixfields Stadium
DESCRIPTION:Northampton Town v Stevenage - Sixfields Stadium - Sky Bet Lea
 gue One
STATUS:CONFIRMED
END:VEVENT
BEGIN:VEVENT
UID:fac97717819ba0b204d039c3933bf3a6@skysports.com
SEQUENCE:0
DTSTAMP:20260425T090605Z
DTSTART:20260214T150000Z
DTEND:20260214T170000Z
SUMMARY:Exeter City v Northampton Town
LOCATION:St James Park
DESCRIPTION:Exeter City v Northampton Town - St James Park - Sky Bet Leagu
 e One
STATUS:CONFIRMED
END:VEVENT
BEGIN:VEVENT
UID:c268ac5124f0182f28dd43d296bad054@skysports.com
SEQUENCE:0
DTSTAMP:20260425T090605Z
DTSTART:20260217T194500Z
DTEND:20260217T214500Z
SUMMARY:Lincoln City v Northampton Town
LOCATION:LNER Stadium
DESCRIPTION:Lincoln City v Northampton Town - LNER Stadium - Sky Bet Leagu
 e One - Live on Sky Sports+
STATUS:CONFIRMED
END:VEVENT
BEGIN:VEVENT
UID:933289c1b508173b88c6f4e3a1ff69de@skysports.com
SEQUENCE:0
DTSTAMP:20260425T090605Z
DTSTART:20260221T150000Z
DTEND:20260221T170000Z
SUMMARY:Northampton Town v Leyton Orient
LOCATION:Sixfields Stadium
DESCRIPTION:Northampton Town v Leyton Orient - Sixfields Stadium - Sky Bet
  League One
STATUS:CONFIRMED
END:VEVENT
BEGIN:VEVENT
UID:8d415cf27592872f2b95ca5469cd51f2@skysports.com
SEQUENCE:0
DTSTAMP:20260425T090605Z
DTSTART:20260228T123000Z
DTEND:20260228T143000Z
SUMMARY:Northampton Town v Peterborough United
LOCATION:Sixfields Stadium
DESCRIPTION:Northampton Town v Peterborough United - Sixfields Stadium - S
 ky Bet League One - Live on Sky Sports+
STATUS:CONFIRMED
END:VEVENT
BEGIN:VEVENT
UID:3745b6a14170eeabcef3dc5632ef20fe@skysports.com
SEQUENCE:0
DTSTAMP:20260425T090605Z
DTSTART:20260308T120000Z
DTEND:20260308T140000Z
SUMMARY:AFC Wimbledon v Northampton Town
LOCATION:The Cherry Red Records Stadium
DESCRIPTION:AFC Wimbledon v Northampton Town - The Cherry Red Records Stad
 ium - Sky Bet League One - Live on Sky Sports Football
STATUS:CONFIRMED
END:VEVENT
BEGIN:VEVENT
UID:9b86e3cfd6ed203d6cbe4ed6f564f67b@skysports.com
SEQUENCE:0
DTSTAMP:20260425T090605Z
DTSTART:20260314T150000Z
DTEND:20260314T170000Z
SUMMARY:Northampton Town v Burton Albion
LOCATION:Sixfields Stadium
DESCRIPTION:Northampton Town v Burton Albion - Sixfields Stadium - Sky Bet
  League One
STATUS:CONFIRMED
END:VEVENT
BEGIN:VEVENT
UID:ea490241ccba7d955a7337d1001aed78@skysports.com
SEQUENCE:0
DTSTAMP:20260425T090605Z
DTSTART:20260317T194500Z
DTEND:20260317T214500Z
SUMMARY:Stockport County v Northampton Town
LOCATION:Edgeley Park
DESCRIPTION:Stockport County v Northampton Town - Edgeley Park - Sky Bet L
 eague One - Live on Sky Sports+
STATUS:CONFIRMED
END:VEVENT
BEGIN:VEVENT
UID:1587c3fb0e9d52b851acdcfbb231669f@skysports.com
SEQUENCE:0
DTSTAMP:20260425T090605Z
DTSTART:20260321T150000Z
DTEND:20260321T170000Z
SUMMARY:Mansfield Town v Northampton Town
LOCATION:One Call Stadium
DESCRIPTION:Mansfield Town v Northampton Town - One Call Stadium - Sky Bet
  League One
STATUS:CONFIRMED
END:VEVENT
BEGIN:VEVENT
UID:d2f418e877bcd82014beccd9ff19b5c7@skysports.com
SEQUENCE:0
DTSTAMP:20260425T090605Z
DTSTART:20260428T184500Z
DTEND:20260428T204500Z
SUMMARY:Northampton Town v Barnsley
LOCATION:Sixfields Stadium
DESCRIPTION:Northampton Town v Barnsley - Sixfields Stadium - Sky Bet Leag
 ue One - Live on Sky Sports+
STATUS:CONFIRMED
END:VEVENT
BEGIN:VEVENT
UID:6944fde775218240082e3490ab08dbbc@skysports.com
SEQUENCE:0
DTSTAMP:20260425T090605Z
DTSTART:20260403T140000Z
DTEND:20260403T160000Z
SUMMARY:Bradford City v Northampton Town
LOCATION:University of Bradford Stadium
DESCRIPTION:Bradford City v Northampton Town - University of Bradford Stad
 ium - Sky Bet League One - Live on Sky Sports+
STATUS:CONFIRMED
END:VEVENT
BEGIN:VEVENT
UID:68a54abb07e2645bde3a813fd4db2382@skysports.com
SEQUENCE:0
DTSTAMP:20260425T090605Z
DTSTART:20260406T140000Z
DTEND:20260406T160000Z
SUMMARY:Northampton Town v Wigan Athletic
LOCATION:Sixfields Stadium
DESCRIPTION:Northampton Town v Wigan Athletic - Sixfields Stadium - Sky Be
 t League One - Live on Sky Sports+
STATUS:CONFIRMED
END:VEVENT
BEGIN:VEVENT
UID:5a372691e99cfde4f70c89ec92c9023a@skysports.com
SEQUENCE:0
DTSTAMP:20260425T090605Z
DTSTART:20260415T184500Z
DTEND:20260415T204500Z
SUMMARY:Luton Town v Northampton Town
LOCATION:Kenilworth Road
DESCRIPTION:Luton Town v Northampton Town - Kenilworth Road - Sky Bet Leag
 ue One
STATUS:CONFIRMED
END:VEVENT
BEGIN:VEVENT
UID:8c8bf083681b0f5fa17cc8923b48c68f@skysports.com
SEQUENCE:0
DTSTAMP:20260425T090605Z
DTSTART:20260418T140000Z
DTEND:20260418T160000Z
SUMMARY:Northampton Town v Doncaster Rovers
LOCATION:Sixfields Stadium
DESCRIPTION:Northampton Town v Doncaster Rovers - Sixfields Stadium - Sky 
 Bet League One
STATUS:CONFIRMED
END:VEVENT
BEGIN:VEVENT
UID:8f7b4fffbfd1b506aafc353c22705155@skysports.com
SEQUENCE:0
DTSTAMP:20260425T090605Z
DTSTART:20260425T140000Z
DTEND:20260425T160000Z
SUMMARY:Cardiff City v Northampton Town
LOCATION:Cardiff City Stadium
DESCRIPTION:Cardiff City v Northampton Town - Cardiff City Stadium - Sky B
 et League One
STATUS:CONFIRMED
END:VEVENT
BEGIN:VEVENT
UID:5f13d567790f94caa424c9ee1601c2ab@skysports.com
SEQUENCE:0
DTSTAMP:20260425T090605Z
DTSTART:20260502T140000Z
DTEND:20260502T160000Z
SUMMARY:Northampton Town v Plymouth Argyle
LOCATION:Sixfields Stadium
DESCRIPTION:Northampton Town v Plymouth Argyle - Sixfields Stadium - Sky B
 et League One
STATUS:CONFIRMED
END:VEVENT
BEGIN:VEVENT
UID:809a45a3c4e3f4ab7152141753afb287@skysports.com
SEQUENCE:0
DTSTAMP:20260425T090605Z
DTSTART:20250812T184500Z
DTEND:20250812T204500Z
SUMMARY:Northampton Town v Southampton
LOCATION:Sixfields Stadium
DESCRIPTION:Northampton Town v Southampton - Sixfields Stadium - Carabao C
 up - Live on Sky Sports+
STATUS:CONFIRMED
END:VEVENT
BEGIN:VEVENT
UID:4dfb7c6550d30d89a691ce923315dc29@skysports.com
SEQUENCE:0
DTSTAMP:20260425T090605Z
DTSTART:20250923T180000Z
DTEND:20250923T200000Z
SUMMARY:Northampton Town v Chelsea U21
LOCATION:Sixfields Stadium
DESCRIPTION:Northampton Town v Chelsea U21 - Sixfields Stadium - Vertu Tro
 phy - Live on Sky Sports+
STATUS:CONFIRMED
END:VEVENT
BEGIN:VEVENT
UID:682f59f75caf9771eca63b8107d4da15@skysports.com
SEQUENCE:0
DTSTAMP:20260425T090605Z
DTSTART:20251111T190000Z
DTEND:20251111T210000Z
SUMMARY:Northampton Town v Shrewsbury Town
LOCATION:Sixfields Stadium
DESCRIPTION:Northampton Town v Shrewsbury Town - Sixfields Stadium - Vertu
  Trophy - Live on Sky Sports+
STATUS:CONFIRMED
END:VEVENT
BEGIN:VEVENT
UID:197aa18aba0ade1f8e2e30dc68e7010e@skysports.com
SEQUENCE:0
DTSTAMP:20260425T090605Z
DTSTART:20251007T180000Z
DTEND:20251007T200000Z
SUMMARY:Walsall v Northampton Town
LOCATION:Poundland Bescot Stadium
DESCRIPTION:Walsall v Northampton Town - Poundland Bescot Stadium - Vertu 
 Trophy - Live on Sky Sports+
STATUS:CONFIRMED
END:VEVENT
BEGIN:VEVENT
UID:b1df21da5760b24ee19b3d68a91ec5ee@skysports.com
SEQUENCE:0
DTSTAMP:20260425T090605Z
DTSTART:20251101T150000Z
DTEND:20251101T170000Z
SUMMARY:Oldham Athletic v Northampton Town
LOCATION:Boundary Park
DESCRIPTION:Oldham Athletic v Northampton Town - Boundary Park - The FA Cu
 p
STATUS:CONFIRMED
END:VEVENT
BEGIN:VEVENT
UID:436aaa3ab37c69bd08f5637fa3342232@skysports.com
SEQUENCE:0
DTSTAMP:20260425T090605Z
DTSTART:20251202T190000Z
DTEND:20251202T210000Z
SUMMARY:Northampton Town v Wycombe Wanderers
LOCATION:Sixfields Stadium
DESCRIPTION:Northampton Town v Wycombe Wanderers - Sixfields Stadium - Ver
 tu Trophy - Live on Sky Sports+
STATUS:CONFIRMED
END:VEVENT
BEGIN:VEVENT
UID:b806483799c8746d134a3d9c2132f66c@skysports.com
SEQUENCE:0
DTSTAMP:20260425T090605Z
DTSTART:20260114T190000Z
DTEND:20260114T210000Z
SUMMARY:Northampton Town v Walsall
LOCATION:Sixfields Stadium
DESCRIPTION:Northampton Town v Walsall - Sixfields Stadium - Vertu Trophy 
 - Live on Sky Sports+
STATUS:CONFIRMED
END:VEVENT
BEGIN:VEVENT
UID:1ad4f36a15aae16af185a76d1c0715bd@skysports.com
SEQUENCE:0
DTSTAMP:20260425T090605Z
DTSTART:20260210T190000Z
DTEND:20260210T210000Z
SUMMARY:AFC Wimbledon v Northampton Town
LOCATION:The Cherry Red Records Stadium
DESCRIPTION:AFC Wimbledon v Northampton Town - The Cherry Red Records Stad
 ium - Vertu Trophy - Live on Sky Sports+
STATUS:CONFIRMED
END:VEVENT
BEGIN:VEVENT
UID:a0f98c7e372add6bb7cc1e14463c2636@skysports.com
SEQUENCE:0
DTSTAMP:20260425T090605Z
DTSTART:20260304T193000Z
DTEND:20260304T213000Z
SUMMARY:Luton Town v Northampton Town
LOCATION:Kenilworth Road
DESCRIPTION:Luton Town v Northampton Town - Kenilworth Road - Vertu Trophy
  - Live on Sky Sports+
STATUS:CONFIRMED
END:VEVENT
END:VCALENDAR