BEGIN:VCALENDAR
VERSION:2.0
PRODID:-//Sky Sports SSDM//NONSGML Event Calendar//EN
URL:https://www.skysports.com/calendars/football/fixtures/teams/peru
CALSCALE:GREGORIAN
METHOD:PUBLISH
NAME:Peru Fixtures
X-WR-CALNAME:Peru Fixtures
X-WR-CALDESC:Peru fixtures provided by Sky Sports (https://www.skysports.c
 om)
REFRESH-INTERVAL;VALUE=DURATION:PT1H
X-PUBLISHED-TTL:PT1H
BEGIN:VEVENT
UID:982d1ff8587834d33a6f9645cdb2487e@skysports.com
SEQUENCE:0
DTSTAMP:20260425T092006Z
DTSTART:20260328T160000Z
DTEND:20260328T180000Z
SUMMARY:Senegal v Peru
LOCATION:Stade De France
DESCRIPTION:Senegal v Peru - Stade De France - International Match
STATUS:CONFIRMED
END:VEVENT
BEGIN:VEVENT
UID:877a8acaf79025ea42a365e67f73e00a@skysports.com
SEQUENCE:0
DTSTAMP:20260425T092006Z
DTSTART:20260331T180000Z
DTEND:20260331T200000Z
SUMMARY:Peru v Honduras
LOCATION:Butarque
DESCRIPTION:Peru v Honduras - Butarque - International Match
STATUS:CONFIRMED
END:VEVENT
BEGIN:VEVENT
UID:ca49e7c029b60cbf92e231742e6c3e72@skysports.com
SEQUENCE:0
DTSTAMP:20260425T092006Z
DTSTART:20260607T230000Z
DTEND:20260608T010000Z
SUMMARY:Peru v Spain
LOCATION:Estadio Cuauhtemoc
DESCRIPTION:Peru v Spain - Estadio Cuauhtemoc - International Match
STATUS:CONFIRMED
END:VEVENT
END:VCALENDAR