BEGIN:VCALENDAR
VERSION:2.0
PRODID:-//Sky Sports SSDM//NONSGML Event Calendar//EN
URL:https://www.skysports.com/calendars/football/fixtures/teams/peterborou
 gh-united
CALSCALE:GREGORIAN
METHOD:PUBLISH
NAME:Peterborough United Fixtures
X-WR-CALNAME:Peterborough United Fixtures
X-WR-CALDESC:Peterborough United fixtures provided by Sky Sports (https://
 www.skysports.com)
REFRESH-INTERVAL;VALUE=DURATION:PT1H
X-PUBLISHED-TTL:PT1H
BEGIN:VEVENT
UID:e98af50103f31750abf5db59e7c03de9@skysports.com
SEQUENCE:0
DTSTAMP:20260425T090807Z
DTSTART:20250802T113000Z
DTEND:20250802T133000Z
SUMMARY:Cardiff City v Peterborough United
LOCATION:Cardiff City Stadium
DESCRIPTION:Cardiff City v Peterborough United - Cardiff City Stadium - Sk
 y Bet League One - Live on Sky Sports Football
STATUS:CONFIRMED
END:VEVENT
BEGIN:VEVENT
UID:bde8b1dc6e5d763d016a7d8761baac2e@skysports.com
SEQUENCE:0
DTSTAMP:20260425T090807Z
DTSTART:20250809T113000Z
DTEND:20250809T133000Z
SUMMARY:Peterborough United v Luton Town
LOCATION:Weston Homes Stadium
DESCRIPTION:Peterborough United v Luton Town - Weston Homes Stadium - Sky 
 Bet League One - Live on Sky Sports+
STATUS:CONFIRMED
END:VEVENT
BEGIN:VEVENT
UID:beb94abccfbd294f69fae889158aad64@skysports.com
SEQUENCE:0
DTSTAMP:20260425T090807Z
DTSTART:20250816T140000Z
DTEND:20250816T160000Z
SUMMARY:Wigan Athletic v Peterborough United
LOCATION:DW Stadium
DESCRIPTION:Wigan Athletic v Peterborough United - DW Stadium - Sky Bet Le
 ague One
STATUS:CONFIRMED
END:VEVENT
BEGIN:VEVENT
UID:b72e7270d40dfe15f0b7fd599aa241b3@skysports.com
SEQUENCE:0
DTSTAMP:20260425T090807Z
DTSTART:20250819T184500Z
DTEND:20250819T204500Z
SUMMARY:Peterborough United v Barnsley
LOCATION:Weston Homes Stadium
DESCRIPTION:Peterborough United v Barnsley - Weston Homes Stadium - Sky Be
 t League One - Live on Sky Sports+
STATUS:CONFIRMED
END:VEVENT
BEGIN:VEVENT
UID:88e9568a49f8e508c70e8d786421ecd2@skysports.com
SEQUENCE:0
DTSTAMP:20260425T090807Z
DTSTART:20250823T140000Z
DTEND:20250823T160000Z
SUMMARY:Peterborough United v Bradford City
LOCATION:Weston Homes Stadium
DESCRIPTION:Peterborough United v Bradford City - Weston Homes Stadium - S
 ky Bet League One
STATUS:CONFIRMED
END:VEVENT
BEGIN:VEVENT
UID:b9d68ef1b6581bd2f8b3e4fa177f862c@skysports.com
SEQUENCE:0
DTSTAMP:20260425T090807Z
DTSTART:20250830T140000Z
DTEND:20250830T160000Z
SUMMARY:Exeter City v Peterborough United
LOCATION:St James Park
DESCRIPTION:Exeter City v Peterborough United - St James Park - Sky Bet Le
 ague One
STATUS:CONFIRMED
END:VEVENT
BEGIN:VEVENT
UID:264d57578cf4848a379b478bd884bf13@skysports.com
SEQUENCE:0
DTSTAMP:20260425T090807Z
DTSTART:20250906T140000Z
DTEND:20250906T160000Z
SUMMARY:Huddersfield Town v Peterborough United
LOCATION:The Accu Stadium
DESCRIPTION:Huddersfield Town v Peterborough United - The Accu Stadium - S
 ky Bet League One - Live on Sky Sports+
STATUS:CONFIRMED
END:VEVENT
BEGIN:VEVENT
UID:93be825ddf68fd751150a1db8b465a4e@skysports.com
SEQUENCE:0
DTSTAMP:20260425T090807Z
DTSTART:20250913T140000Z
DTEND:20250913T160000Z
SUMMARY:Peterborough United v Wycombe Wanderers
LOCATION:Weston Homes Stadium
DESCRIPTION:Peterborough United v Wycombe Wanderers - Weston Homes Stadium
  - Sky Bet League One
STATUS:CONFIRMED
END:VEVENT
BEGIN:VEVENT
UID:8a1129ead89e9d29fac94186e5429422@skysports.com
SEQUENCE:0
DTSTAMP:20260425T090807Z
DTSTART:20250920T140000Z
DTEND:20250920T160000Z
SUMMARY:Plymouth Argyle v Peterborough United
LOCATION:Home Park
DESCRIPTION:Plymouth Argyle v Peterborough United - Home Park - Sky Bet Le
 ague One
STATUS:CONFIRMED
END:VEVENT
BEGIN:VEVENT
UID:c807e93aa766633ede216cea7c7fd6f5@skysports.com
SEQUENCE:0
DTSTAMP:20260425T090807Z
DTSTART:20250927T140000Z
DTEND:20250927T160000Z
SUMMARY:Peterborough United v Lincoln City
LOCATION:Weston Homes Stadium
DESCRIPTION:Peterborough United v Lincoln City - Weston Homes Stadium - Sk
 y Bet League One
STATUS:CONFIRMED
END:VEVENT
BEGIN:VEVENT
UID:91840552f22717afcb69a9cca5a97ff1@skysports.com
SEQUENCE:0
DTSTAMP:20260425T090807Z
DTSTART:20251004T140000Z
DTEND:20251004T160000Z
SUMMARY:Bolton Wanderers v Peterborough United
LOCATION:University of Bolton Stadium
DESCRIPTION:Bolton Wanderers v Peterborough United - University of Bolton 
 Stadium - Sky Bet League One
STATUS:CONFIRMED
END:VEVENT
BEGIN:VEVENT
UID:06bf97a3061eed3d9bc809c5f661c843@skysports.com
SEQUENCE:0
DTSTAMP:20260425T090807Z
DTSTART:20251125T194500Z
DTEND:20251125T214500Z
SUMMARY:Peterborough United v Stevenage
LOCATION:Weston Homes Stadium
DESCRIPTION:Peterborough United v Stevenage - Weston Homes Stadium - Sky B
 et League One - Live on Sky Sports+
STATUS:CONFIRMED
END:VEVENT
BEGIN:VEVENT
UID:1c16ca185a43a8971f3125e1225be14e@skysports.com
SEQUENCE:0
DTSTAMP:20260425T090807Z
DTSTART:20251018T113000Z
DTEND:20251018T133000Z
SUMMARY:Burton Albion v Peterborough United
LOCATION:Pirelli Stadium
DESCRIPTION:Burton Albion v Peterborough United - Pirelli Stadium - Sky Be
 t League One - Live on Sky Sports+
STATUS:CONFIRMED
END:VEVENT
BEGIN:VEVENT
UID:e395d3b43e9689db40256bb05c126395@skysports.com
SEQUENCE:0
DTSTAMP:20260425T090807Z
DTSTART:20251025T140000Z
DTEND:20251025T160000Z
SUMMARY:Peterborough United v Blackpool
LOCATION:Weston Homes Stadium
DESCRIPTION:Peterborough United v Blackpool - Weston Homes Stadium - Sky B
 et League One
STATUS:CONFIRMED
END:VEVENT
BEGIN:VEVENT
UID:3e23037315b536f5127745ed60ee8a8c@skysports.com
SEQUENCE:0
DTSTAMP:20260425T090807Z
DTSTART:20251108T150000Z
DTEND:20251108T170000Z
SUMMARY:Peterborough United v AFC Wimbledon
LOCATION:Weston Homes Stadium
DESCRIPTION:Peterborough United v AFC Wimbledon - Weston Homes Stadium - S
 ky Bet League One
STATUS:CONFIRMED
END:VEVENT
BEGIN:VEVENT
UID:8698267eed7469cc9abecf8d5bcbe8ac@skysports.com
SEQUENCE:0
DTSTAMP:20260425T090807Z
DTSTART:20260210T194500Z
DTEND:20260210T214500Z
SUMMARY:Mansfield Town v Peterborough United
LOCATION:One Call Stadium
DESCRIPTION:Mansfield Town v Peterborough United - One Call Stadium - Sky 
 Bet League One - Live on Sky Sports+
STATUS:CONFIRMED
END:VEVENT
BEGIN:VEVENT
UID:e4d24ab9ce0b246786b7b443640d4ec9@skysports.com
SEQUENCE:0
DTSTAMP:20260425T090807Z
DTSTART:20251120T200000Z
DTEND:20251120T220000Z
SUMMARY:Peterborough United v Stockport County
LOCATION:Weston Homes Stadium
DESCRIPTION:Peterborough United v Stockport County - Weston Homes Stadium 
 - Sky Bet League One - Live on Sky Sports Main Event and Sky Sports Footba
 ll
STATUS:CONFIRMED
END:VEVENT
BEGIN:VEVENT
UID:f309a2454cc1477f7d3de14fede7dd68@skysports.com
SEQUENCE:0
DTSTAMP:20260425T090807Z
DTSTART:20251129T150000Z
DTEND:20251129T170000Z
SUMMARY:Doncaster Rovers v Peterborough United
LOCATION:Eco-Power Stadium
DESCRIPTION:Doncaster Rovers v Peterborough United - Eco-Power Stadium - S
 ky Bet League One
STATUS:CONFIRMED
END:VEVENT
BEGIN:VEVENT
UID:35a215e49fba4a11b816ec9c69e2f67e@skysports.com
SEQUENCE:0
DTSTAMP:20260425T090807Z
DTSTART:20251209T200000Z
DTEND:20251209T220000Z
SUMMARY:Reading v Peterborough United
LOCATION:Select Car Leasing Stadium
DESCRIPTION:Reading v Peterborough United - Select Car Leasing Stadium - S
 ky Bet League One - Live on Sky Sports+
STATUS:CONFIRMED
END:VEVENT
BEGIN:VEVENT
UID:af166a9a33237d0d711617dbd3c3833b@skysports.com
SEQUENCE:0
DTSTAMP:20260425T090807Z
DTSTART:20251213T150000Z
DTEND:20251213T170000Z
SUMMARY:Peterborough United v Northampton Town
LOCATION:Weston Homes Stadium
DESCRIPTION:Peterborough United v Northampton Town - Weston Homes Stadium 
 - Sky Bet League One
STATUS:CONFIRMED
END:VEVENT
BEGIN:VEVENT
UID:52a3dc90d06ab972c707611aa8f7f33c@skysports.com
SEQUENCE:0
DTSTAMP:20260425T090807Z
DTSTART:20251220T150000Z
DTEND:20251220T170000Z
SUMMARY:Port Vale v Peterborough United
LOCATION:Vale Park
DESCRIPTION:Port Vale v Peterborough United - Vale Park - Sky Bet League O
 ne
STATUS:CONFIRMED
END:VEVENT
BEGIN:VEVENT
UID:11bfa2e8a51600d3a6c51a0a91165729@skysports.com
SEQUENCE:0
DTSTAMP:20260425T090807Z
DTSTART:20251226T150000Z
DTEND:20251226T170000Z
SUMMARY:Peterborough United v Leyton Orient
LOCATION:Weston Homes Stadium
DESCRIPTION:Peterborough United v Leyton Orient - Weston Homes Stadium - S
 ky Bet League One - Live on Sky Sports+
STATUS:CONFIRMED
END:VEVENT
BEGIN:VEVENT
UID:125ddc43822918091c82214c9d1de3ff@skysports.com
SEQUENCE:0
DTSTAMP:20260425T090807Z
DTSTART:20251229T194500Z
DTEND:20251229T214500Z
SUMMARY:Peterborough United v Reading
LOCATION:Weston Homes Stadium
DESCRIPTION:Peterborough United v Reading - Weston Homes Stadium - Sky Bet
  League One
STATUS:CONFIRMED
END:VEVENT
BEGIN:VEVENT
UID:871cc298f70b8d0218402673169b0e4c@skysports.com
SEQUENCE:0
DTSTAMP:20260425T090807Z
DTSTART:20260101T150000Z
DTEND:20260101T170000Z
SUMMARY:Rotherham United v Peterborough United
LOCATION:New York Stadium
DESCRIPTION:Rotherham United v Peterborough United - New York Stadium - Sk
 y Bet League One - Live on Sky Sports+
STATUS:CONFIRMED
END:VEVENT
BEGIN:VEVENT
UID:2dd4a972eb30e13527e7739f5c328beb@skysports.com
SEQUENCE:0
DTSTAMP:20260425T090807Z
DTSTART:20260104T120000Z
DTEND:20260104T140000Z
SUMMARY:Lincoln City v Peterborough United
LOCATION:LNER Stadium
DESCRIPTION:Lincoln City v Peterborough United - LNER Stadium - Sky Bet Le
 ague One - Live on Sky Sports+
STATUS:CONFIRMED
END:VEVENT
BEGIN:VEVENT
UID:b54b469d0ed585212ab170b1465e5231@skysports.com
SEQUENCE:0
DTSTAMP:20260425T090807Z
DTSTART:20260110T150000Z
DTEND:20260110T170000Z
SUMMARY:Peterborough United v Bolton Wanderers
LOCATION:Weston Homes Stadium
DESCRIPTION:Peterborough United v Bolton Wanderers - Weston Homes Stadium 
 - Sky Bet League One
STATUS:CONFIRMED
END:VEVENT
BEGIN:VEVENT
UID:d37743bb13c43a076810257d1d256440@skysports.com
SEQUENCE:0
DTSTAMP:20260425T090807Z
DTSTART:20260117T150000Z
DTEND:20260117T170000Z
SUMMARY:Peterborough United v Plymouth Argyle
LOCATION:Weston Homes Stadium
DESCRIPTION:Peterborough United v Plymouth Argyle - Weston Homes Stadium -
  Sky Bet League One
STATUS:CONFIRMED
END:VEVENT
BEGIN:VEVENT
UID:b7a9e2007af742e67fb6b9ac435dbb4f@skysports.com
SEQUENCE:0
DTSTAMP:20260425T090807Z
DTSTART:20260124T150000Z
DTEND:20260124T170000Z
SUMMARY:Wycombe Wanderers v Peterborough United
LOCATION:Adams Park
DESCRIPTION:Wycombe Wanderers v Peterborough United - Adams Park - Sky Bet
  League One
STATUS:CONFIRMED
END:VEVENT
BEGIN:VEVENT
UID:14bb28ee43c075f5b39d6116541f06fa@skysports.com
SEQUENCE:0
DTSTAMP:20260425T090807Z
DTSTART:20260127T194500Z
DTEND:20260127T214500Z
SUMMARY:Stevenage v Peterborough United
LOCATION:Lamex Stadium
DESCRIPTION:Stevenage v Peterborough United - Lamex Stadium - Sky Bet Leag
 ue One - Live on Sky Sports+
STATUS:CONFIRMED
END:VEVENT
BEGIN:VEVENT
UID:281d1924292c652457250f96e6d6a0af@skysports.com
SEQUENCE:0
DTSTAMP:20260425T090807Z
DTSTART:20260131T150000Z
DTEND:20260131T170000Z
SUMMARY:Peterborough United v Huddersfield Town
LOCATION:Weston Homes Stadium
DESCRIPTION:Peterborough United v Huddersfield Town - Weston Homes Stadium
  - Sky Bet League One
STATUS:CONFIRMED
END:VEVENT
BEGIN:VEVENT
UID:9ea04e818a08d80b119eee1e00f7318e@skysports.com
SEQUENCE:0
DTSTAMP:20260425T090807Z
DTSTART:20260207T150100Z
DTEND:20260207T170100Z
SUMMARY:Peterborough United v Wigan Athletic
LOCATION:Weston Homes Stadium
DESCRIPTION:Peterborough United v Wigan Athletic - Weston Homes Stadium - 
 Sky Bet League One
STATUS:CONFIRMED
END:VEVENT
BEGIN:VEVENT
UID:5fe70c7e68d39ea37928265c626609ef@skysports.com
SEQUENCE:0
DTSTAMP:20260425T090807Z
DTSTART:20260214T150000Z
DTEND:20260214T170000Z
SUMMARY:Bradford City v Peterborough United
LOCATION:University of Bradford Stadium
DESCRIPTION:Bradford City v Peterborough United - University of Bradford S
 tadium - Sky Bet League One
STATUS:CONFIRMED
END:VEVENT
BEGIN:VEVENT
UID:feba926e43ddb526af9202728cf9ba8d@skysports.com
SEQUENCE:0
DTSTAMP:20260425T090807Z
DTSTART:20260217T194500Z
DTEND:20260217T214500Z
SUMMARY:Barnsley v Peterborough United
LOCATION:Oakwell Stadium
DESCRIPTION:Barnsley v Peterborough United - Oakwell Stadium - Sky Bet Lea
 gue One - Live on Sky Sports+
STATUS:CONFIRMED
END:VEVENT
BEGIN:VEVENT
UID:62e9130902f90a773540ccd4c287e4d9@skysports.com
SEQUENCE:0
DTSTAMP:20260425T090807Z
DTSTART:20260221T150000Z
DTEND:20260221T170000Z
SUMMARY:Peterborough United v Exeter City
LOCATION:Weston Homes Stadium
DESCRIPTION:Peterborough United v Exeter City - Weston Homes Stadium - Sky
  Bet League One
STATUS:CONFIRMED
END:VEVENT
BEGIN:VEVENT
UID:8d415cf27592872f2b95ca5469cd51f2@skysports.com
SEQUENCE:0
DTSTAMP:20260425T090807Z
DTSTART:20260228T123000Z
DTEND:20260228T143000Z
SUMMARY:Northampton Town v Peterborough United
LOCATION:Sixfields Stadium
DESCRIPTION:Northampton Town v Peterborough United - Sixfields Stadium - S
 ky Bet League One - Live on Sky Sports+
STATUS:CONFIRMED
END:VEVENT
BEGIN:VEVENT
UID:b68db3908e02aeb81a9f5b8b473f67fb@skysports.com
SEQUENCE:0
DTSTAMP:20260425T090807Z
DTSTART:20260416T184500Z
DTEND:20260416T204500Z
SUMMARY:Peterborough United v Port Vale
LOCATION:Weston Homes Stadium
DESCRIPTION:Peterborough United v Port Vale - Weston Homes Stadium - Sky B
 et League One
STATUS:CONFIRMED
END:VEVENT
BEGIN:VEVENT
UID:68e1508a7600228acfde71359b034089@skysports.com
SEQUENCE:0
DTSTAMP:20260425T090807Z
DTSTART:20260314T150000Z
DTEND:20260314T170000Z
SUMMARY:Leyton Orient v Peterborough United
LOCATION:BetWright Stadium
DESCRIPTION:Leyton Orient v Peterborough United - BetWright Stadium - Sky 
 Bet League One
STATUS:CONFIRMED
END:VEVENT
BEGIN:VEVENT
UID:c9c020acf18a50448e7ecaef66c249a1@skysports.com
SEQUENCE:0
DTSTAMP:20260425T090807Z
DTSTART:20260317T194500Z
DTEND:20260317T214500Z
SUMMARY:Peterborough United v Rotherham United
LOCATION:Weston Homes Stadium
DESCRIPTION:Peterborough United v Rotherham United - Weston Homes Stadium 
 - Sky Bet League One - Live on Sky Sports+
STATUS:CONFIRMED
END:VEVENT
BEGIN:VEVENT
UID:b73b50f4a6071f5964f6a640c99d4472@skysports.com
SEQUENCE:0
DTSTAMP:20260425T090807Z
DTSTART:20260321T150000Z
DTEND:20260321T170000Z
SUMMARY:AFC Wimbledon v Peterborough United
LOCATION:The Cherry Red Records Stadium
DESCRIPTION:AFC Wimbledon v Peterborough United - The Cherry Red Records S
 tadium - Sky Bet League One
STATUS:CONFIRMED
END:VEVENT
BEGIN:VEVENT
UID:07331aec94c19e5be9574cdc41d72873@skysports.com
SEQUENCE:0
DTSTAMP:20260425T090807Z
DTSTART:20260428T184500Z
DTEND:20260428T204500Z
SUMMARY:Peterborough United v Mansfield Town
LOCATION:Weston Homes Stadium
DESCRIPTION:Peterborough United v Mansfield Town - Weston Homes Stadium - 
 Sky Bet League One - Live on Sky Sports+
STATUS:CONFIRMED
END:VEVENT
BEGIN:VEVENT
UID:913cb49a1a4e8abeda450d67f7d99bf0@skysports.com
SEQUENCE:0
DTSTAMP:20260425T090807Z
DTSTART:20260403T140000Z
DTEND:20260403T160000Z
SUMMARY:Luton Town v Peterborough United
LOCATION:Kenilworth Road
DESCRIPTION:Luton Town v Peterborough United - Kenilworth Road - Sky Bet L
 eague One - Live on Sky Sports+
STATUS:CONFIRMED
END:VEVENT
BEGIN:VEVENT
UID:c3ef18326df9e8e9608f5fffd179aa25@skysports.com
SEQUENCE:0
DTSTAMP:20260425T090807Z
DTSTART:20260406T140000Z
DTEND:20260406T160000Z
SUMMARY:Peterborough United v Cardiff City
LOCATION:Weston Homes Stadium
DESCRIPTION:Peterborough United v Cardiff City - Weston Homes Stadium - Sk
 y Bet League One - Live on Sky Sports+
STATUS:CONFIRMED
END:VEVENT
BEGIN:VEVENT
UID:c7e4ec8d42c3fbbe46080bb5ec8d42ae@skysports.com
SEQUENCE:0
DTSTAMP:20260425T090807Z
DTSTART:20260411T140000Z
DTEND:20260411T160000Z
SUMMARY:Blackpool v Peterborough United
LOCATION:Bloomfield Road
DESCRIPTION:Blackpool v Peterborough United - Bloomfield Road - Sky Bet Le
 ague One
STATUS:CONFIRMED
END:VEVENT
BEGIN:VEVENT
UID:9458768caab1cdb9d0bc05b55ab1dc9c@skysports.com
SEQUENCE:0
DTSTAMP:20260425T090807Z
DTSTART:20260419T120000Z
DTEND:20260419T140000Z
SUMMARY:Peterborough United v Burton Albion
LOCATION:Weston Homes Stadium
DESCRIPTION:Peterborough United v Burton Albion - Weston Homes Stadium - S
 ky Bet League One
STATUS:CONFIRMED
END:VEVENT
BEGIN:VEVENT
UID:d69120c553588cc077d592381cdc5709@skysports.com
SEQUENCE:0
DTSTAMP:20260425T090807Z
DTSTART:20260425T113000Z
DTEND:20260425T133000Z
SUMMARY:Stockport County v Peterborough United
LOCATION:Edgeley Park
DESCRIPTION:Stockport County v Peterborough United - Edgeley Park - Sky Be
 t League One - Live on Sky Sports+ Red Button
STATUS:CONFIRMED
END:VEVENT
BEGIN:VEVENT
UID:0653abac64ba32827853c81eec8d64a3@skysports.com
SEQUENCE:0
DTSTAMP:20260425T090807Z
DTSTART:20260502T140000Z
DTEND:20260502T160000Z
SUMMARY:Peterborough United v Doncaster Rovers
LOCATION:Weston Homes Stadium
DESCRIPTION:Peterborough United v Doncaster Rovers - Weston Homes Stadium 
 - Sky Bet League One
STATUS:CONFIRMED
END:VEVENT
BEGIN:VEVENT
UID:8147484d818064e81521291734c2cfcd@skysports.com
SEQUENCE:0
DTSTAMP:20260425T090807Z
DTSTART:20250812T184500Z
DTEND:20250812T204500Z
SUMMARY:Accrington Stanley v Peterborough United
LOCATION:Wham Stadium
DESCRIPTION:Accrington Stanley v Peterborough United - Wham Stadium - Cara
 bao Cup - Live on Sky Sports+
STATUS:CONFIRMED
END:VEVENT
BEGIN:VEVENT
UID:f3452b9d66296382a939ee62dce84eee@skysports.com
SEQUENCE:0
DTSTAMP:20260425T090807Z
DTSTART:20250705T113000Z
DTEND:20250705T133000Z
SUMMARY:Leicester City v Peterborough United
LOCATION:The Leicester City Training Ground
DESCRIPTION:Leicester City v Peterborough United - The Leicester City Trai
 ning Ground - Friendly Matches
STATUS:CONFIRMED
END:VEVENT
BEGIN:VEVENT
UID:81ba3c1a5020a3011099c27b7181b72d@skysports.com
SEQUENCE:0
DTSTAMP:20260425T090807Z
DTSTART:20250902T180000Z
DTEND:20250902T200000Z
SUMMARY:Peterborough United v Leyton Orient
LOCATION:Weston Homes Stadium
DESCRIPTION:Peterborough United v Leyton Orient - Weston Homes Stadium - V
 ertu Trophy - Live on Sky Sports+
STATUS:CONFIRMED
END:VEVENT
BEGIN:VEVENT
UID:db95bd81de2ac48562af8382143381b9@skysports.com
SEQUENCE:0
DTSTAMP:20260425T090807Z
DTSTART:20250930T180000Z
DTEND:20250930T200000Z
SUMMARY:Peterborough United v Aston Villa U21
LOCATION:Weston Homes Stadium
DESCRIPTION:Peterborough United v Aston Villa U21 - Weston Homes Stadium -
  Vertu Trophy - Live on Sky Sports+
STATUS:CONFIRMED
END:VEVENT
BEGIN:VEVENT
UID:cb7cc5410066f3edef4c6f21a086f59d@skysports.com
SEQUENCE:0
DTSTAMP:20260425T090807Z
DTSTART:20251111T194500Z
DTEND:20251111T214500Z
SUMMARY:Crawley Town v Peterborough United
LOCATION:Broadfield Stadium
DESCRIPTION:Crawley Town v Peterborough United - Broadfield Stadium - Vert
 u Trophy - Live on Sky Sports+
STATUS:CONFIRMED
END:VEVENT
BEGIN:VEVENT
UID:0a9cd5bde742349004aa104fa2eef5e8@skysports.com
SEQUENCE:0
DTSTAMP:20260425T090807Z
DTSTART:20251101T150000Z
DTEND:20251101T170000Z
SUMMARY:Peterborough United v Cardiff City
LOCATION:Weston Homes Stadium
DESCRIPTION:Peterborough United v Cardiff City - Weston Homes Stadium - Th
 e FA Cup
STATUS:CONFIRMED
END:VEVENT
BEGIN:VEVENT
UID:d1a99867d5a08c6dafcfc2c72b74fd1d@skysports.com
SEQUENCE:0
DTSTAMP:20260425T090807Z
DTSTART:20251206T150000Z
DTEND:20251206T170000Z
SUMMARY:Peterborough United v Barnsley
LOCATION:Weston Homes Stadium
DESCRIPTION:Peterborough United v Barnsley - Weston Homes Stadium - The FA
  Cup
STATUS:CONFIRMED
END:VEVENT
BEGIN:VEVENT
UID:fdb42c2290eb856475c36b7b10fceb01@skysports.com
SEQUENCE:0
DTSTAMP:20260425T090807Z
DTSTART:20251202T193000Z
DTEND:20251202T213000Z
SUMMARY:Swindon Town v Peterborough United
LOCATION:The County Ground
DESCRIPTION:Swindon Town v Peterborough United - The County Ground - Vertu
  Trophy - Live on Sky Sports+
STATUS:CONFIRMED
END:VEVENT
END:VCALENDAR