BEGIN:VCALENDAR
VERSION:2.0
PRODID:-//Sky Sports SSDM//NONSGML Event Calendar//EN
URL:https://www.skysports.com/calendars/football/fixtures/teams/port-vale
CALSCALE:GREGORIAN
METHOD:PUBLISH
NAME:Port Vale Fixtures
X-WR-CALNAME:Port Vale Fixtures
X-WR-CALDESC:Port Vale fixtures provided by Sky Sports (https://www.skyspo
 rts.com)
REFRESH-INTERVAL;VALUE=DURATION:PT1H
X-PUBLISHED-TTL:PT1H
BEGIN:VEVENT
UID:e016253aa1932893720c0041483d72fc@skysports.com
SEQUENCE:0
DTSTAMP:20260425T090906Z
DTSTART:20250802T140000Z
DTEND:20250802T160000Z
SUMMARY:Rotherham United v Port Vale
LOCATION:New York Stadium
DESCRIPTION:Rotherham United v Port Vale - New York Stadium - Sky Bet Leag
 ue One - Live on Sky Sports+
STATUS:CONFIRMED
END:VEVENT
BEGIN:VEVENT
UID:9ab6d4bf14faa319542252fb4148b8f8@skysports.com
SEQUENCE:0
DTSTAMP:20260425T090906Z
DTSTART:20250807T190000Z
DTEND:20250807T210000Z
SUMMARY:Port Vale v Cardiff City
LOCATION:Vale Park
DESCRIPTION:Port Vale v Cardiff City - Vale Park - Sky Bet League One - Li
 ve on Sky Sports Football
STATUS:CONFIRMED
END:VEVENT
BEGIN:VEVENT
UID:eaaa5f18ac2662441eefbebb42f0599a@skysports.com
SEQUENCE:0
DTSTAMP:20260425T090906Z
DTSTART:20250816T113000Z
DTEND:20250816T133000Z
SUMMARY:Burton Albion v Port Vale
LOCATION:Pirelli Stadium
DESCRIPTION:Burton Albion v Port Vale - Pirelli Stadium - Sky Bet League O
 ne - Live on Sky Sports+
STATUS:CONFIRMED
END:VEVENT
BEGIN:VEVENT
UID:d24f8dc23824b407b12280b8c5315378@skysports.com
SEQUENCE:0
DTSTAMP:20260425T090906Z
DTSTART:20250819T184500Z
DTEND:20250819T204500Z
SUMMARY:Port Vale v Stevenage
LOCATION:Vale Park
DESCRIPTION:Port Vale v Stevenage - Vale Park - Sky Bet League One - Live 
 on Sky Sports+
STATUS:CONFIRMED
END:VEVENT
BEGIN:VEVENT
UID:c3f7dea057234cd5860b07579e7e4908@skysports.com
SEQUENCE:0
DTSTAMP:20260425T090906Z
DTSTART:20250823T140000Z
DTEND:20250823T160000Z
SUMMARY:Port Vale v Doncaster Rovers
LOCATION:Vale Park
DESCRIPTION:Port Vale v Doncaster Rovers - Vale Park - Sky Bet League One
STATUS:CONFIRMED
END:VEVENT
BEGIN:VEVENT
UID:1f446ccfca1545294f4c6c3eada7b5ae@skysports.com
SEQUENCE:0
DTSTAMP:20260425T090906Z
DTSTART:20250830T140000Z
DTEND:20250830T160000Z
SUMMARY:Reading v Port Vale
LOCATION:Select Car Leasing Stadium
DESCRIPTION:Reading v Port Vale - Select Car Leasing Stadium - Sky Bet Lea
 gue One
STATUS:CONFIRMED
END:VEVENT
BEGIN:VEVENT
UID:f67041a8f5081a2f9875fb063a9b1eba@skysports.com
SEQUENCE:0
DTSTAMP:20260425T090906Z
DTSTART:20250906T140000Z
DTEND:20250906T160000Z
SUMMARY:Port Vale v Leyton Orient
LOCATION:Vale Park
DESCRIPTION:Port Vale v Leyton Orient - Vale Park - Sky Bet League One - L
 ive on Sky Sports+
STATUS:CONFIRMED
END:VEVENT
BEGIN:VEVENT
UID:cb4bf69ee57e3c111f92e594ecbfe739@skysports.com
SEQUENCE:0
DTSTAMP:20260425T090906Z
DTSTART:20250913T140000Z
DTEND:20250913T160000Z
SUMMARY:Exeter City v Port Vale
LOCATION:St James Park
DESCRIPTION:Exeter City v Port Vale - St James Park - Sky Bet League One
STATUS:CONFIRMED
END:VEVENT
BEGIN:VEVENT
UID:70daac81363657f5a98f82192ae9c2c0@skysports.com
SEQUENCE:0
DTSTAMP:20260425T090906Z
DTSTART:20250920T140000Z
DTEND:20250920T160000Z
SUMMARY:Port Vale v Mansfield Town
LOCATION:Vale Park
DESCRIPTION:Port Vale v Mansfield Town - Vale Park - Sky Bet League One
STATUS:CONFIRMED
END:VEVENT
BEGIN:VEVENT
UID:d00ab4b1585cb7180a2154e02ab8aebc@skysports.com
SEQUENCE:0
DTSTAMP:20260425T090906Z
DTSTART:20250927T140000Z
DTEND:20250927T160000Z
SUMMARY:Barnsley v Port Vale
LOCATION:Oakwell Stadium
DESCRIPTION:Barnsley v Port Vale - Oakwell Stadium - Sky Bet League One
STATUS:CONFIRMED
END:VEVENT
BEGIN:VEVENT
UID:0dd414f6c2d867f00c2e744a1a4f37db@skysports.com
SEQUENCE:0
DTSTAMP:20260425T090906Z
DTSTART:20251004T140000Z
DTEND:20251004T160000Z
SUMMARY:Port Vale v Northampton Town
LOCATION:Vale Park
DESCRIPTION:Port Vale v Northampton Town - Vale Park - Sky Bet League One
STATUS:CONFIRMED
END:VEVENT
BEGIN:VEVENT
UID:0fbbf34412cda204b836b4f38dfad587@skysports.com
SEQUENCE:0
DTSTAMP:20260425T090906Z
DTSTART:20251011T140000Z
DTEND:20251011T160000Z
SUMMARY:AFC Wimbledon v Port Vale
LOCATION:The Cherry Red Records Stadium
DESCRIPTION:AFC Wimbledon v Port Vale - The Cherry Red Records Stadium - S
 ky Bet League One - Live on Sky Sports+
STATUS:CONFIRMED
END:VEVENT
BEGIN:VEVENT
UID:d8c75e9ee20cadc19d5cfd4da0afa543@skysports.com
SEQUENCE:0
DTSTAMP:20260425T090906Z
DTSTART:20251018T140000Z
DTEND:20251018T160000Z
SUMMARY:Wigan Athletic v Port Vale
LOCATION:DW Stadium
DESCRIPTION:Wigan Athletic v Port Vale - DW Stadium - Sky Bet League One
STATUS:CONFIRMED
END:VEVENT
BEGIN:VEVENT
UID:ef43a4403adac0c14d710b4b0abccd95@skysports.com
SEQUENCE:0
DTSTAMP:20260425T090906Z
DTSTART:20251027T200000Z
DTEND:20251027T220000Z
SUMMARY:Port Vale v Stockport County
LOCATION:Vale Park
DESCRIPTION:Port Vale v Stockport County - Vale Park - Sky Bet League One 
 - Live on Sky Sports Football and Sky Sports Main Event
STATUS:CONFIRMED
END:VEVENT
BEGIN:VEVENT
UID:6049f6613420f31df24db428cfdde562@skysports.com
SEQUENCE:0
DTSTAMP:20260425T090906Z
DTSTART:20251108T150000Z
DTEND:20251108T170000Z
SUMMARY:Bolton Wanderers v Port Vale
LOCATION:University of Bolton Stadium
DESCRIPTION:Bolton Wanderers v Port Vale - University of Bolton Stadium - 
 Sky Bet League One
STATUS:CONFIRMED
END:VEVENT
BEGIN:VEVENT
UID:022cd0a0ecf669642f2d2c20884a8939@skysports.com
SEQUENCE:0
DTSTAMP:20260425T090906Z
DTSTART:20251115T150000Z
DTEND:20251115T170000Z
SUMMARY:Port Vale v Wycombe Wanderers
LOCATION:Vale Park
DESCRIPTION:Port Vale v Wycombe Wanderers - Vale Park - Sky Bet League One
  - Live on Sky Sports+
STATUS:CONFIRMED
END:VEVENT
BEGIN:VEVENT
UID:9b3ba87bf5b9a1c270239778ada4b0c1@skysports.com
SEQUENCE:0
DTSTAMP:20260425T090906Z
DTSTART:20251122T123000Z
DTEND:20251122T143000Z
SUMMARY:Port Vale v Plymouth Argyle
LOCATION:Vale Park
DESCRIPTION:Port Vale v Plymouth Argyle - Vale Park - Sky Bet League One -
  Live on Sky Sports+
STATUS:CONFIRMED
END:VEVENT
BEGIN:VEVENT
UID:86fc87dc36edea6a95a7bb12a46bc72e@skysports.com
SEQUENCE:0
DTSTAMP:20260425T090906Z
DTSTART:20251129T150000Z
DTEND:20251129T170000Z
SUMMARY:Lincoln City v Port Vale
LOCATION:LNER Stadium
DESCRIPTION:Lincoln City v Port Vale - LNER Stadium - Sky Bet League One
STATUS:CONFIRMED
END:VEVENT
BEGIN:VEVENT
UID:dac33054e2ae8be73c287effd72d7db0@skysports.com
SEQUENCE:0
DTSTAMP:20260425T090906Z
DTSTART:20260311T194500Z
DTEND:20260311T214500Z
SUMMARY:Port Vale v Bradford City
LOCATION:Vale Park
DESCRIPTION:Port Vale v Bradford City - Vale Park - Sky Bet League One - L
 ive on Sky Sports+
STATUS:CONFIRMED
END:VEVENT
BEGIN:VEVENT
UID:3608f387dba301d4f6456350e29f53e1@skysports.com
SEQUENCE:0
DTSTAMP:20260425T090906Z
DTSTART:20251213T150000Z
DTEND:20251213T170000Z
SUMMARY:Luton Town v Port Vale
LOCATION:Kenilworth Road
DESCRIPTION:Luton Town v Port Vale - Kenilworth Road - Sky Bet League One
STATUS:CONFIRMED
END:VEVENT
BEGIN:VEVENT
UID:52a3dc90d06ab972c707611aa8f7f33c@skysports.com
SEQUENCE:0
DTSTAMP:20260425T090906Z
DTSTART:20251220T150000Z
DTEND:20251220T170000Z
SUMMARY:Port Vale v Peterborough United
LOCATION:Vale Park
DESCRIPTION:Port Vale v Peterborough United - Vale Park - Sky Bet League O
 ne
STATUS:CONFIRMED
END:VEVENT
BEGIN:VEVENT
UID:d1669a6e5e87231de1a164f438025f35@skysports.com
SEQUENCE:0
DTSTAMP:20260425T090906Z
DTSTART:20251226T150000Z
DTEND:20251226T170000Z
SUMMARY:Huddersfield Town v Port Vale
LOCATION:The Accu Stadium
DESCRIPTION:Huddersfield Town v Port Vale - The Accu Stadium - Sky Bet Lea
 gue One - Live on Sky Sports+
STATUS:CONFIRMED
END:VEVENT
BEGIN:VEVENT
UID:bffd6d3116bbaa1f32f6647c6bae94ce@skysports.com
SEQUENCE:0
DTSTAMP:20260425T090906Z
DTSTART:20251229T194500Z
DTEND:20251229T214500Z
SUMMARY:Bradford City v Port Vale
LOCATION:University of Bradford Stadium
DESCRIPTION:Bradford City v Port Vale - University of Bradford Stadium - S
 ky Bet League One - Live on Sky Sports+
STATUS:CONFIRMED
END:VEVENT
BEGIN:VEVENT
UID:7976fdfc659a5e4ae9b95927d29cb72e@skysports.com
SEQUENCE:0
DTSTAMP:20260425T090906Z
DTSTART:20260101T150000Z
DTEND:20260101T170000Z
SUMMARY:Port Vale v Blackpool
LOCATION:Vale Park
DESCRIPTION:Port Vale v Blackpool - Vale Park - Sky Bet League One - Live 
 on Sky Sports+
STATUS:CONFIRMED
END:VEVENT
BEGIN:VEVENT
UID:dc2b4cbaa40ef6dd57459d65245f23d7@skysports.com
SEQUENCE:0
DTSTAMP:20260425T090906Z
DTSTART:20260414T184500Z
DTEND:20260414T204500Z
SUMMARY:Port Vale v Barnsley
LOCATION:Vale Park
DESCRIPTION:Port Vale v Barnsley - Vale Park - Sky Bet League One
STATUS:CONFIRMED
END:VEVENT
BEGIN:VEVENT
UID:305b992a12650ce9cffc57858100d6a1@skysports.com
SEQUENCE:0
DTSTAMP:20260425T090906Z
DTSTART:20260224T194500Z
DTEND:20260224T214500Z
SUMMARY:Northampton Town v Port Vale
LOCATION:Sixfields Stadium
DESCRIPTION:Northampton Town v Port Vale - Sixfields Stadium - Sky Bet Lea
 gue One - Live on Sky Sports+
STATUS:CONFIRMED
END:VEVENT
BEGIN:VEVENT
UID:0ba2eebc2b906745b049e906925a5ca2@skysports.com
SEQUENCE:0
DTSTAMP:20260425T090906Z
DTSTART:20260117T150000Z
DTEND:20260117T170000Z
SUMMARY:Mansfield Town v Port Vale
LOCATION:One Call Stadium
DESCRIPTION:Mansfield Town v Port Vale - One Call Stadium - Sky Bet League
  One
STATUS:CONFIRMED
END:VEVENT
BEGIN:VEVENT
UID:aa737156fa5a0309f73bfee0d277bc0a@skysports.com
SEQUENCE:0
DTSTAMP:20260425T090906Z
DTSTART:20260124T150000Z
DTEND:20260124T170000Z
SUMMARY:Port Vale v Exeter City
LOCATION:Vale Park
DESCRIPTION:Port Vale v Exeter City - Vale Park - Sky Bet League One
STATUS:CONFIRMED
END:VEVENT
BEGIN:VEVENT
UID:3b65151b3f0edc5a1cb4ba36c53a3b3d@skysports.com
SEQUENCE:0
DTSTAMP:20260425T090906Z
DTSTART:20260203T190000Z
DTEND:20260203T210000Z
SUMMARY:Port Vale v AFC Wimbledon
LOCATION:Vale Park
DESCRIPTION:Port Vale v AFC Wimbledon - Vale Park - Sky Bet League One - L
 ive on Sky Sports+
STATUS:CONFIRMED
END:VEVENT
BEGIN:VEVENT
UID:f078114231f83c0e44078b1a1c0416e2@skysports.com
SEQUENCE:0
DTSTAMP:20260425T090906Z
DTSTART:20260131T150000Z
DTEND:20260131T170000Z
SUMMARY:Leyton Orient v Port Vale
LOCATION:BetWright Stadium
DESCRIPTION:Leyton Orient v Port Vale - BetWright Stadium - Sky Bet League
  One
STATUS:CONFIRMED
END:VEVENT
BEGIN:VEVENT
UID:30e2c09f9d95f87cadd69c8c6c597070@skysports.com
SEQUENCE:0
DTSTAMP:20260425T090906Z
DTSTART:20260207T123100Z
DTEND:20260207T143100Z
SUMMARY:Port Vale v Burton Albion
LOCATION:Vale Park
DESCRIPTION:Port Vale v Burton Albion - Vale Park - Sky Bet League One - L
 ive on Sky Sports+
STATUS:CONFIRMED
END:VEVENT
BEGIN:VEVENT
UID:5aafaf0a77fc39efac83c3f2bed1e2e1@skysports.com
SEQUENCE:0
DTSTAMP:20260425T090906Z
DTSTART:20260324T194500Z
DTEND:20260324T214500Z
SUMMARY:Doncaster Rovers v Port Vale
LOCATION:Eco-Power Stadium
DESCRIPTION:Doncaster Rovers v Port Vale - Eco-Power Stadium - Sky Bet Lea
 gue One
STATUS:CONFIRMED
END:VEVENT
BEGIN:VEVENT
UID:52782ba13d2e97ea6706307522063e44@skysports.com
SEQUENCE:0
DTSTAMP:20260425T090906Z
DTSTART:20260217T194500Z
DTEND:20260217T214500Z
SUMMARY:Stevenage v Port Vale
LOCATION:Lamex Stadium
DESCRIPTION:Stevenage v Port Vale - Lamex Stadium - Sky Bet League One - L
 ive on Sky Sports+
STATUS:CONFIRMED
END:VEVENT
BEGIN:VEVENT
UID:14ebe6d78e05e6858c670bd86be0603e@skysports.com
SEQUENCE:0
DTSTAMP:20260425T090906Z
DTSTART:20260221T150000Z
DTEND:20260221T170000Z
SUMMARY:Port Vale v Reading
LOCATION:Vale Park
DESCRIPTION:Port Vale v Reading - Vale Park - Sky Bet League One
STATUS:CONFIRMED
END:VEVENT
BEGIN:VEVENT
UID:d503179400dd8efe20a67ceeac5a0f48@skysports.com
SEQUENCE:0
DTSTAMP:20260425T090906Z
DTSTART:20260228T150000Z
DTEND:20260228T170000Z
SUMMARY:Port Vale v Luton Town
LOCATION:Vale Park
DESCRIPTION:Port Vale v Luton Town - Vale Park - Sky Bet League One
STATUS:CONFIRMED
END:VEVENT
BEGIN:VEVENT
UID:b68db3908e02aeb81a9f5b8b473f67fb@skysports.com
SEQUENCE:0
DTSTAMP:20260425T090906Z
DTSTART:20260416T184500Z
DTEND:20260416T204500Z
SUMMARY:Peterborough United v Port Vale
LOCATION:Weston Homes Stadium
DESCRIPTION:Peterborough United v Port Vale - Weston Homes Stadium - Sky B
 et League One
STATUS:CONFIRMED
END:VEVENT
BEGIN:VEVENT
UID:534c1867ce99d4ec0cd65cc9d5d76a32@skysports.com
SEQUENCE:0
DTSTAMP:20260425T090906Z
DTSTART:20260314T150000Z
DTEND:20260314T170000Z
SUMMARY:Port Vale v Huddersfield Town
LOCATION:Vale Park
DESCRIPTION:Port Vale v Huddersfield Town - Vale Park - Sky Bet League One
STATUS:CONFIRMED
END:VEVENT
BEGIN:VEVENT
UID:480e07b9a0fab6e585c8e101e88201bf@skysports.com
SEQUENCE:0
DTSTAMP:20260425T090906Z
DTSTART:20260317T194500Z
DTEND:20260317T214500Z
SUMMARY:Blackpool v Port Vale
LOCATION:Bloomfield Road
DESCRIPTION:Blackpool v Port Vale - Bloomfield Road - Sky Bet League One -
  Live on Sky Sports+
STATUS:CONFIRMED
END:VEVENT
BEGIN:VEVENT
UID:128e1a0daf0af3c77df152db161dcdf8@skysports.com
SEQUENCE:0
DTSTAMP:20260425T090906Z
DTSTART:20260321T150000Z
DTEND:20260321T170000Z
SUMMARY:Port Vale v Bolton Wanderers
LOCATION:Vale Park
DESCRIPTION:Port Vale v Bolton Wanderers - Vale Park - Sky Bet League One
STATUS:CONFIRMED
END:VEVENT
BEGIN:VEVENT
UID:f06f5b4fa8d70ed75f8867c6d50d1995@skysports.com
SEQUENCE:0
DTSTAMP:20260425T090906Z
DTSTART:20260328T150000Z
DTEND:20260328T170000Z
SUMMARY:Wycombe Wanderers v Port Vale
LOCATION:Adams Park
DESCRIPTION:Wycombe Wanderers v Port Vale - Adams Park - Sky Bet League On
 e - Live on Sky Sports+
STATUS:CONFIRMED
END:VEVENT
BEGIN:VEVENT
UID:55bd92264e899dc5cf3d57c321f271f4@skysports.com
SEQUENCE:0
DTSTAMP:20260425T090906Z
DTSTART:20260422T184500Z
DTEND:20260422T204500Z
SUMMARY:Cardiff City v Port Vale
LOCATION:Cardiff City Stadium
DESCRIPTION:Cardiff City v Port Vale - Cardiff City Stadium - Sky Bet Leag
 ue One - Live on Sky Sports+
STATUS:CONFIRMED
END:VEVENT
BEGIN:VEVENT
UID:753ed1cf3a46f4ab4ca14cebf0bd5322@skysports.com
SEQUENCE:0
DTSTAMP:20260425T090906Z
DTSTART:20260407T184500Z
DTEND:20260407T204500Z
SUMMARY:Port Vale v Rotherham United
LOCATION:Vale Park
DESCRIPTION:Port Vale v Rotherham United - Vale Park - Sky Bet League One 
 - Live on Sky Sports+
STATUS:CONFIRMED
END:VEVENT
BEGIN:VEVENT
UID:03cd9d27d1bdbd96d6aa829a3749d9eb@skysports.com
SEQUENCE:0
DTSTAMP:20260425T090906Z
DTSTART:20260428T184500Z
DTEND:20260428T204500Z
SUMMARY:Stockport County v Port Vale
LOCATION:Edgeley Park
DESCRIPTION:Stockport County v Port Vale - Edgeley Park - Sky Bet League O
 ne
STATUS:CONFIRMED
END:VEVENT
BEGIN:VEVENT
UID:438f05489fe330f714f8b21ead758b39@skysports.com
SEQUENCE:0
DTSTAMP:20260425T090906Z
DTSTART:20260419T140000Z
DTEND:20260419T160000Z
SUMMARY:Port Vale v Wigan Athletic
LOCATION:Vale Park
DESCRIPTION:Port Vale v Wigan Athletic - Vale Park - Sky Bet League One
STATUS:CONFIRMED
END:VEVENT
BEGIN:VEVENT
UID:2d88c8d0f964be6b446c60ed99388acc@skysports.com
SEQUENCE:0
DTSTAMP:20260425T090906Z
DTSTART:20260425T140000Z
DTEND:20260425T160000Z
SUMMARY:Plymouth Argyle v Port Vale
LOCATION:Home Park
DESCRIPTION:Plymouth Argyle v Port Vale - Home Park - Sky Bet League One
STATUS:CONFIRMED
END:VEVENT
BEGIN:VEVENT
UID:34230fa9777948657ddb99c2bc62ca95@skysports.com
SEQUENCE:0
DTSTAMP:20260425T090906Z
DTSTART:20260502T140000Z
DTEND:20260502T160000Z
SUMMARY:Port Vale v Lincoln City
LOCATION:Vale Park
DESCRIPTION:Port Vale v Lincoln City - Vale Park - Sky Bet League One
STATUS:CONFIRMED
END:VEVENT
BEGIN:VEVENT
UID:4a0a3f342bc584624aa414c60222783b@skysports.com
SEQUENCE:0
DTSTAMP:20260425T090906Z
DTSTART:20250812T184500Z
DTEND:20250812T204500Z
SUMMARY:Blackpool v Port Vale
LOCATION:Bloomfield Road
DESCRIPTION:Blackpool v Port Vale - Bloomfield Road - Carabao Cup - Live o
 n Sky Sports+
STATUS:CONFIRMED
END:VEVENT
BEGIN:VEVENT
UID:dac8ba78d2d82238c82ade707780a811@skysports.com
SEQUENCE:0
DTSTAMP:20260425T090906Z
DTSTART:20250902T180000Z
DTEND:20250902T200000Z
SUMMARY:Port Vale v Leeds United U21
LOCATION:Vale Park
DESCRIPTION:Port Vale v Leeds United U21 - Vale Park - Vertu Trophy - Live
  on Sky Sports+
STATUS:CONFIRMED
END:VEVENT
BEGIN:VEVENT
UID:a56cde351ee1e48fdac05f9cb99c08e6@skysports.com
SEQUENCE:0
DTSTAMP:20260425T090906Z
DTSTART:20251007T184500Z
DTEND:20251007T204500Z
SUMMARY:Accrington Stanley v Port Vale
LOCATION:Wham Stadium
DESCRIPTION:Accrington Stanley v Port Vale - Wham Stadium - Vertu Trophy -
  Live on Sky Sports+
STATUS:CONFIRMED
END:VEVENT
BEGIN:VEVENT
UID:98b2dd30bc4f3ca014f51ae7018c8586@skysports.com
SEQUENCE:0
DTSTAMP:20260425T090906Z
DTSTART:20251111T190000Z
DTEND:20251111T210000Z
SUMMARY:Port Vale v Fleetwood Town
LOCATION:Vale Park
DESCRIPTION:Port Vale v Fleetwood Town - Vale Park - Vertu Trophy - Live o
 n Sky Sports+
STATUS:CONFIRMED
END:VEVENT
BEGIN:VEVENT
UID:dd11effad1f04a771009ac0c40032c1c@skysports.com
SEQUENCE:0
DTSTAMP:20260425T090906Z
DTSTART:20250826T184500Z
DTEND:20250826T204500Z
SUMMARY:Birmingham City v Port Vale
LOCATION:St. Andrew's Stadium
DESCRIPTION:Birmingham City v Port Vale - St. Andrew's Stadium - Carabao C
 up - Live on Sky Sports+
STATUS:CONFIRMED
END:VEVENT
BEGIN:VEVENT
UID:dbea0b6b04390b621bb54fffe3205a69@skysports.com
SEQUENCE:0
DTSTAMP:20260425T090906Z
DTSTART:20250924T190000Z
DTEND:20250924T210000Z
SUMMARY:Port Vale v Arsenal
LOCATION:Vale Park
DESCRIPTION:Port Vale v Arsenal - Vale Park - Carabao Cup - Live on Sky Sp
 orts Main Event
STATUS:CONFIRMED
END:VEVENT
BEGIN:VEVENT
UID:2c4c81eabbdeb2cb27b44242eedf1f00@skysports.com
SEQUENCE:0
DTSTAMP:20260425T090906Z
DTSTART:20251102T150000Z
DTEND:20251102T170000Z
SUMMARY:Port Vale v Maldon
LOCATION:Vale Park
DESCRIPTION:Port Vale v Maldon - Vale Park - The FA Cup
STATUS:CONFIRMED
END:VEVENT
BEGIN:VEVENT
UID:85e91c972ce31b99780703e7c6b886f6@skysports.com
SEQUENCE:0
DTSTAMP:20260425T090906Z
DTSTART:20251206T150000Z
DTEND:20251206T170000Z
SUMMARY:Port Vale v Bristol Rovers
LOCATION:Vale Park
DESCRIPTION:Port Vale v Bristol Rovers - Vale Park - The FA Cup
STATUS:CONFIRMED
END:VEVENT
BEGIN:VEVENT
UID:4814bacd012b3c1cd0c8a976592affff@skysports.com
SEQUENCE:0
DTSTAMP:20260425T090906Z
DTSTART:20251202T190000Z
DTEND:20251202T210000Z
SUMMARY:Port Vale v Barnsley
LOCATION:Vale Park
DESCRIPTION:Port Vale v Barnsley - Vale Park - Vertu Trophy - Live on Sky 
 Sports+
STATUS:CONFIRMED
END:VEVENT
BEGIN:VEVENT
UID:1795d00102d1bfc90d841cd1e87925e9@skysports.com
SEQUENCE:0
DTSTAMP:20260425T090906Z
DTSTART:20260113T190000Z
DTEND:20260113T210000Z
SUMMARY:Bolton Wanderers v Port Vale
LOCATION:University of Bolton Stadium
DESCRIPTION:Bolton Wanderers v Port Vale - University of Bolton Stadium - 
 Vertu Trophy - Live on Sky Sports+
STATUS:CONFIRMED
END:VEVENT
BEGIN:VEVENT
UID:22d9436987717ba7866e0faa7687c1a9@skysports.com
SEQUENCE:0
DTSTAMP:20260425T090906Z
DTSTART:20260109T193000Z
DTEND:20260109T213000Z
SUMMARY:Port Vale v Fleetwood Town
LOCATION:Vale Park
DESCRIPTION:Port Vale v Fleetwood Town - Vale Park - The FA Cup
STATUS:CONFIRMED
END:VEVENT
BEGIN:VEVENT
UID:f0ec66b4b72b3926c92fa34783ac9e8b@skysports.com
SEQUENCE:0
DTSTAMP:20260425T090906Z
DTSTART:20260303T194500Z
DTEND:20260303T214500Z
SUMMARY:Port Vale v Bristol City
LOCATION:Vale Park
DESCRIPTION:Port Vale v Bristol City - Vale Park - The FA Cup
STATUS:CONFIRMED
END:VEVENT
BEGIN:VEVENT
UID:8ff8a7d2cc1092c81339a9bbf4bbde29@skysports.com
SEQUENCE:0
DTSTAMP:20260425T090906Z
DTSTART:20260210T190000Z
DTEND:20260210T210000Z
SUMMARY:Port Vale v Stockport County
LOCATION:Vale Park
DESCRIPTION:Port Vale v Stockport County - Vale Park - Vertu Trophy - Live
  on Sky Sports+
STATUS:CONFIRMED
END:VEVENT
BEGIN:VEVENT
UID:e4fdfff7f2fc6f8c6c4e95518cee2cc7@skysports.com
SEQUENCE:0
DTSTAMP:20260425T090906Z
DTSTART:20260308T133000Z
DTEND:20260308T153000Z
SUMMARY:Port Vale v Sunderland
LOCATION:Vale Park
DESCRIPTION:Port Vale v Sunderland - Vale Park - The FA Cup
STATUS:CONFIRMED
END:VEVENT
BEGIN:VEVENT
UID:cb8831d43ec795c5b50bcd9c6450d1ea@skysports.com
SEQUENCE:0
DTSTAMP:20260425T090906Z
DTSTART:20260404T161500Z
DTEND:20260404T181500Z
SUMMARY:Chelsea v Port Vale
LOCATION:Stamford Bridge
DESCRIPTION:Chelsea v Port Vale - Stamford Bridge - The FA Cup
STATUS:CONFIRMED
END:VEVENT
END:VCALENDAR