BEGIN:VCALENDAR
VERSION:2.0
PRODID:-//Sky Sports SSDM//NONSGML Event Calendar//EN
URL:https://www.skysports.com/calendars/football/fixtures/teams/portugal
CALSCALE:GREGORIAN
METHOD:PUBLISH
NAME:Portugal Fixtures
X-WR-CALNAME:Portugal Fixtures
X-WR-CALDESC:Portugal fixtures provided by Sky Sports (https://www.skyspor
 ts.com)
REFRESH-INTERVAL;VALUE=DURATION:PT1H
X-PUBLISHED-TTL:PT1H
BEGIN:VEVENT
UID:5ec33ddd1f805b741aa36da8d65d250d@skysports.com
SEQUENCE:0
DTSTAMP:20260425T092006Z
DTSTART:20260617T170000Z
DTEND:20260617T190000Z
SUMMARY:Portugal v DR Congo
LOCATION:NRG Stadium
DESCRIPTION:Portugal v DR Congo - NRG Stadium - FIFA World Cup
STATUS:CONFIRMED
END:VEVENT
BEGIN:VEVENT
UID:c2ca5741664a6c3e7e5fb81a6200bea8@skysports.com
SEQUENCE:0
DTSTAMP:20260425T092006Z
DTSTART:20260623T170000Z
DTEND:20260623T190000Z
SUMMARY:Portugal v Uzbekistan
LOCATION:NRG Stadium
DESCRIPTION:Portugal v Uzbekistan - NRG Stadium - FIFA World Cup
STATUS:CONFIRMED
END:VEVENT
BEGIN:VEVENT
UID:21d520a2ecd012c0d49ab817e7752264@skysports.com
SEQUENCE:0
DTSTAMP:20260425T092006Z
DTSTART:20260627T233000Z
DTEND:20260628T013000Z
SUMMARY:Colombia v Portugal
LOCATION:Hard Rock Stadium
DESCRIPTION:Colombia v Portugal - Hard Rock Stadium - FIFA World Cup
STATUS:CONFIRMED
END:VEVENT
BEGIN:VEVENT
UID:2d3dd67a234f0fb160b946d011bb17d3@skysports.com
SEQUENCE:0
DTSTAMP:20260425T092006Z
DTSTART:20260331T230000Z
DTEND:20260401T010000Z
SUMMARY:United States of America v Portugal
LOCATION:Mercedes-Benz Stadium
DESCRIPTION:United States of America v Portugal - Mercedes-Benz Stadium - 
 International Match
STATUS:CONFIRMED
END:VEVENT
BEGIN:VEVENT
UID:3cb8b75473518bc48c7f90d41867938f@skysports.com
SEQUENCE:0
DTSTAMP:20260425T092006Z
DTSTART:20260329T010000Z
DTEND:20260329T030000Z
SUMMARY:Mexico v Portugal
LOCATION:Azteca Stadium
DESCRIPTION:Mexico v Portugal - Azteca Stadium - International Match
STATUS:CONFIRMED
END:VEVENT
BEGIN:VEVENT
UID:c9073fdfd7139d23599d40451ab0cc66@skysports.com
SEQUENCE:0
DTSTAMP:20260425T092006Z
DTSTART:20260924T184500Z
DTEND:20260924T204500Z
SUMMARY:Portugal v Wales
LOCATION:TBC
DESCRIPTION:Portugal v Wales - TBC - UEFA Nations League
STATUS:CONFIRMED
END:VEVENT
BEGIN:VEVENT
UID:e2566976128f78c361bef502dd1cae8d@skysports.com
SEQUENCE:0
DTSTAMP:20260425T092006Z
DTSTART:20260927T184500Z
DTEND:20260927T204500Z
SUMMARY:Norway v Portugal
LOCATION:TBC
DESCRIPTION:Norway v Portugal - TBC - UEFA Nations League
STATUS:CONFIRMED
END:VEVENT
BEGIN:VEVENT
UID:6cdf8d6a3bca3d66d7ba86c91e4661ac@skysports.com
SEQUENCE:0
DTSTAMP:20260425T092006Z
DTSTART:20261001T184500Z
DTEND:20261001T204500Z
SUMMARY:Denmark v Portugal
LOCATION:TBC
DESCRIPTION:Denmark v Portugal - TBC - UEFA Nations League
STATUS:CONFIRMED
END:VEVENT
BEGIN:VEVENT
UID:1fd141fdae53449b63b68a391d5d7f94@skysports.com
SEQUENCE:0
DTSTAMP:20260425T092006Z
DTSTART:20261004T184500Z
DTEND:20261004T204500Z
SUMMARY:Portugal v Norway
LOCATION:TBC
DESCRIPTION:Portugal v Norway - TBC - UEFA Nations League
STATUS:CONFIRMED
END:VEVENT
BEGIN:VEVENT
UID:fcb6e393664b666b64002949848d7c4b@skysports.com
SEQUENCE:0
DTSTAMP:20260425T092006Z
DTSTART:20261114T194500Z
DTEND:20261114T214500Z
SUMMARY:Portugal v Denmark
LOCATION:TBC
DESCRIPTION:Portugal v Denmark - TBC - UEFA Nations League
STATUS:CONFIRMED
END:VEVENT
BEGIN:VEVENT
UID:457802009aeb5b02ca76980ba297abf2@skysports.com
SEQUENCE:0
DTSTAMP:20260425T092006Z
DTSTART:20261117T194500Z
DTEND:20261117T214500Z
SUMMARY:Wales v Portugal
LOCATION:TBC
DESCRIPTION:Wales v Portugal - TBC - UEFA Nations League
STATUS:CONFIRMED
END:VEVENT
BEGIN:VEVENT
UID:be61d6ace8e0e61e8d08944144f8ca65@skysports.com
SEQUENCE:0
DTSTAMP:20260425T092006Z
DTSTART:20260605T230000Z
DTEND:20260606T010000Z
SUMMARY:Portugal v Chile
LOCATION:Estadio do Jamor
DESCRIPTION:Portugal v Chile - Estadio do Jamor - International Match
STATUS:CONFIRMED
END:VEVENT
BEGIN:VEVENT
UID:5e8fa9b3732231d91844eb5897dace4c@skysports.com
SEQUENCE:0
DTSTAMP:20260425T092006Z
DTSTART:20260609T230000Z
DTEND:20260610T010000Z
SUMMARY:Portugal v Nigeria
LOCATION:TBC
DESCRIPTION:Portugal v Nigeria - TBC - International Match
STATUS:CONFIRMED
END:VEVENT
END:VCALENDAR