BEGIN:VCALENDAR
VERSION:2.0
PRODID:-//Sky Sports SSDM//NONSGML Event Calendar//EN
URL:https://www.skysports.com/calendars/football/fixtures/teams/qatar
CALSCALE:GREGORIAN
METHOD:PUBLISH
NAME:Qatar Fixtures
X-WR-CALNAME:Qatar Fixtures
X-WR-CALDESC:Qatar fixtures provided by Sky Sports (https://www.skysports.
 com)
REFRESH-INTERVAL;VALUE=DURATION:PT1H
X-PUBLISHED-TTL:PT1H
BEGIN:VEVENT
UID:42529fe0c6db28ac6d9ca5ca7d062c49@skysports.com
SEQUENCE:0
DTSTAMP:20260423T092004Z
DTSTART:20260613T190000Z
DTEND:20260613T210000Z
SUMMARY:Qatar v Switzerland
LOCATION:Levi's Stadium
DESCRIPTION:Qatar v Switzerland - Levi's Stadium - FIFA World Cup
STATUS:CONFIRMED
END:VEVENT
BEGIN:VEVENT
UID:78aec059561f2946e2b21228ab618c9e@skysports.com
SEQUENCE:0
DTSTAMP:20260423T092004Z
DTSTART:20260618T220000Z
DTEND:20260619T000000Z
SUMMARY:Canada v Qatar
LOCATION:BC Place
DESCRIPTION:Canada v Qatar - BC Place - FIFA World Cup
STATUS:CONFIRMED
END:VEVENT
BEGIN:VEVENT
UID:ea3360a73cd7cc1645a9fb1d0b08a1dd@skysports.com
SEQUENCE:0
DTSTAMP:20260423T092004Z
DTSTART:20260624T190000Z
DTEND:20260624T210000Z
SUMMARY:Bosnia and Herzegovina v Qatar
LOCATION:CenturyLink Field
DESCRIPTION:Bosnia and Herzegovina v Qatar - CenturyLink Field - FIFA Worl
 d Cup
STATUS:CONFIRMED
END:VEVENT
BEGIN:VEVENT
UID:f451f81b0efead5dbdd7f6778993a074@skysports.com
SEQUENCE:0
DTSTAMP:20260423T092004Z
DTSTART:20260326T000000Z
DTEND:20260326T020000Z
SUMMARY:Qatar v Serbia
LOCATION:TBC
DESCRIPTION:Qatar v Serbia - TBC - International Match
STATUS:CONFIRMED
END:VEVENT
BEGIN:VEVENT
UID:086c68c70a34ad8baa8025630fff2b4c@skysports.com
SEQUENCE:0
DTSTAMP:20260423T092004Z
DTSTART:20260330T230000Z
DTEND:20260331T010000Z
SUMMARY:Qatar v Argentina
LOCATION:TBC
DESCRIPTION:Qatar v Argentina - TBC - International Match
STATUS:CONFIRMED
END:VEVENT
BEGIN:VEVENT
UID:fa15a3599cabdd67e259ea1a8957965b@skysports.com
SEQUENCE:0
DTSTAMP:20260423T092004Z
DTSTART:20260528T184500Z
DTEND:20260528T204500Z
SUMMARY:Republic of Ireland v Qatar
LOCATION:Aviva Stadium
DESCRIPTION:Republic of Ireland v Qatar - Aviva Stadium - International Ma
 tch
STATUS:CONFIRMED
END:VEVENT
END:VCALENDAR