BEGIN:VCALENDAR
VERSION:2.0
PRODID:-//Sky Sports SSDM//NONSGML Event Calendar//EN
URL:https://www.skysports.com/calendars/football/fixtures/teams/queens-par
 k-rangers
CALSCALE:GREGORIAN
METHOD:PUBLISH
NAME:Queens Park Rangers Fixtures
X-WR-CALNAME:Queens Park Rangers Fixtures
X-WR-CALDESC:Queens Park Rangers fixtures provided by Sky Sports (https://
 www.skysports.com)
REFRESH-INTERVAL;VALUE=DURATION:PT1H
X-PUBLISHED-TTL:PT1H
BEGIN:VEVENT
UID:eb43291a0c825a914d4e4aa94aba6a7b@skysports.com
SEQUENCE:0
DTSTAMP:20260425T090406Z
DTSTART:20250809T140000Z
DTEND:20250809T160000Z
SUMMARY:Queens Park Rangers v Preston North End
LOCATION:Loftus Road Stadium
DESCRIPTION:Queens Park Rangers v Preston North End - Loftus Road Stadium 
 - Sky Bet Championship - Live on Sky Sports+
STATUS:CONFIRMED
END:VEVENT
BEGIN:VEVENT
UID:75668467d60f4006d6a15b37c926d477@skysports.com
SEQUENCE:0
DTSTAMP:20260425T090406Z
DTSTART:20250816T140000Z
DTEND:20250816T160000Z
SUMMARY:Watford v Queens Park Rangers
LOCATION:Vicarage Road
DESCRIPTION:Watford v Queens Park Rangers - Vicarage Road - Sky Bet Champi
 onship
STATUS:CONFIRMED
END:VEVENT
BEGIN:VEVENT
UID:bffc2a5e79564d8fb3787ea4b7b77d2f@skysports.com
SEQUENCE:0
DTSTAMP:20260425T090406Z
DTSTART:20250823T140000Z
DTEND:20250823T160000Z
SUMMARY:Coventry City v Queens Park Rangers
LOCATION:The Coventry Building Society Arena
DESCRIPTION:Coventry City v Queens Park Rangers - The Coventry Building So
 ciety Arena - Sky Bet Championship
STATUS:CONFIRMED
END:VEVENT
BEGIN:VEVENT
UID:b93f30c2d412c07cfecfc06b942ca090@skysports.com
SEQUENCE:0
DTSTAMP:20260425T090406Z
DTSTART:20250830T113000Z
DTEND:20250830T133000Z
SUMMARY:Queens Park Rangers v Charlton Athletic
LOCATION:Loftus Road Stadium
DESCRIPTION:Queens Park Rangers v Charlton Athletic - Loftus Road Stadium 
 - Sky Bet Championship - Live on Sky Sports+
STATUS:CONFIRMED
END:VEVENT
BEGIN:VEVENT
UID:8d23626594e314185b139c9e86cc9163@skysports.com
SEQUENCE:0
DTSTAMP:20260425T090406Z
DTSTART:20250913T140000Z
DTEND:20250913T160000Z
SUMMARY:Wrexham v Queens Park Rangers
LOCATION:STōK Cae Ras
DESCRIPTION:Wrexham v Queens Park Rangers - STōK Cae Ras - Sky Bet Champi
 onship
STATUS:CONFIRMED
END:VEVENT
BEGIN:VEVENT
UID:e0b2491dbaa6377a75eeb5755874b912@skysports.com
SEQUENCE:0
DTSTAMP:20260425T090406Z
DTSTART:20250920T113000Z
DTEND:20250920T133000Z
SUMMARY:Queens Park Rangers v Stoke City
LOCATION:Loftus Road Stadium
DESCRIPTION:Queens Park Rangers v Stoke City - Loftus Road Stadium - Sky B
 et Championship - Live on Sky Sports+
STATUS:CONFIRMED
END:VEVENT
BEGIN:VEVENT
UID:9fbd8a7a21c9d1d860e97532e0c0a107@skysports.com
SEQUENCE:0
DTSTAMP:20260425T090406Z
DTSTART:20250927T140000Z
DTEND:20250927T160000Z
SUMMARY:Sheffield Wednesday v Queens Park Rangers
LOCATION:Hillsborough
DESCRIPTION:Sheffield Wednesday v Queens Park Rangers - Hillsborough - Sky
  Bet Championship
STATUS:CONFIRMED
END:VEVENT
BEGIN:VEVENT
UID:4819879f719a5c1902c911ba38e816a8@skysports.com
SEQUENCE:0
DTSTAMP:20260425T090406Z
DTSTART:20251001T190000Z
DTEND:20251001T210000Z
SUMMARY:Queens Park Rangers v Oxford United
LOCATION:Loftus Road Stadium
DESCRIPTION:Queens Park Rangers v Oxford United - Loftus Road Stadium - Sk
 y Bet Championship - Live on Sky Sports Football
STATUS:CONFIRMED
END:VEVENT
BEGIN:VEVENT
UID:f2c4c231ee5fae2cee79eac65930b260@skysports.com
SEQUENCE:0
DTSTAMP:20260425T090406Z
DTSTART:20251004T140000Z
DTEND:20251004T160000Z
SUMMARY:Bristol City v Queens Park Rangers
LOCATION:Ashton Gate Stadium
DESCRIPTION:Bristol City v Queens Park Rangers - Ashton Gate Stadium - Sky
  Bet Championship
STATUS:CONFIRMED
END:VEVENT
BEGIN:VEVENT
UID:5324bb977b0e5595e3e8791faa0eb340@skysports.com
SEQUENCE:0
DTSTAMP:20260425T090406Z
DTSTART:20251018T113000Z
DTEND:20251018T133000Z
SUMMARY:Queens Park Rangers v Millwall
LOCATION:Loftus Road Stadium
DESCRIPTION:Queens Park Rangers v Millwall - Loftus Road Stadium - Sky Bet
  Championship - Live on Sky Sports Football and Sky Sports Main Event
STATUS:CONFIRMED
END:VEVENT
BEGIN:VEVENT
UID:a264ab9ab0b4d59dc957bd9bb615c3fc@skysports.com
SEQUENCE:0
DTSTAMP:20260425T090406Z
DTSTART:20251022T184500Z
DTEND:20251022T204500Z
SUMMARY:Swansea City v Queens Park Rangers
LOCATION:Swansea.com Stadium
DESCRIPTION:Swansea City v Queens Park Rangers - Swansea.com Stadium - Sky
  Bet Championship - Live on Sky Sports+
STATUS:CONFIRMED
END:VEVENT
BEGIN:VEVENT
UID:d0e37cecfdf4c51383e17cb418da762a@skysports.com
SEQUENCE:0
DTSTAMP:20260425T090406Z
DTSTART:20251025T140000Z
DTEND:20251025T160000Z
SUMMARY:Derby County v Queens Park Rangers
LOCATION:Pride Park Stadium
DESCRIPTION:Derby County v Queens Park Rangers - Pride Park Stadium - Sky 
 Bet Championship
STATUS:CONFIRMED
END:VEVENT
BEGIN:VEVENT
UID:c3a942979111412b4d8702d17811f6bb@skysports.com
SEQUENCE:0
DTSTAMP:20260425T090406Z
DTSTART:20251101T150000Z
DTEND:20251101T170000Z
SUMMARY:Queens Park Rangers v Ipswich Town
LOCATION:Loftus Road Stadium
DESCRIPTION:Queens Park Rangers v Ipswich Town - Loftus Road Stadium - Sky
  Bet Championship
STATUS:CONFIRMED
END:VEVENT
BEGIN:VEVENT
UID:7c1af15618ec4845f041b258c0443efe@skysports.com
SEQUENCE:0
DTSTAMP:20260425T090406Z
DTSTART:20251105T194500Z
DTEND:20251105T214500Z
SUMMARY:Queens Park Rangers v Southampton
LOCATION:Loftus Road Stadium
DESCRIPTION:Queens Park Rangers v Southampton - Loftus Road Stadium - Sky 
 Bet Championship - Live on Sky Sports+
STATUS:CONFIRMED
END:VEVENT
BEGIN:VEVENT
UID:30e9d35733d1d9947d79db456054df07@skysports.com
SEQUENCE:0
DTSTAMP:20260425T090406Z
DTSTART:20251108T150000Z
DTEND:20251108T170000Z
SUMMARY:Sheffield United v Queens Park Rangers
LOCATION:Bramall Lane
DESCRIPTION:Sheffield United v Queens Park Rangers - Bramall Lane - Sky Be
 t Championship
STATUS:CONFIRMED
END:VEVENT
BEGIN:VEVENT
UID:4d5b3f4d41cad83ec891c32141590113@skysports.com
SEQUENCE:0
DTSTAMP:20260425T090406Z
DTSTART:20251122T150000Z
DTEND:20251122T170000Z
SUMMARY:Queens Park Rangers v Hull City
LOCATION:Loftus Road Stadium
DESCRIPTION:Queens Park Rangers v Hull City - Loftus Road Stadium - Sky Be
 t Championship
STATUS:CONFIRMED
END:VEVENT
BEGIN:VEVENT
UID:d9cf6568aba6f7eab6feea36d2476c97@skysports.com
SEQUENCE:0
DTSTAMP:20260425T090406Z
DTSTART:20251126T194500Z
DTEND:20251126T214500Z
SUMMARY:Blackburn Rovers v Queens Park Rangers
LOCATION:Ewood Park
DESCRIPTION:Blackburn Rovers v Queens Park Rangers - Ewood Park - Sky Bet 
 Championship - Live on Sky Sports+
STATUS:CONFIRMED
END:VEVENT
BEGIN:VEVENT
UID:4251dfbdde1d429b8e342a028449b16f@skysports.com
SEQUENCE:0
DTSTAMP:20260425T090406Z
DTSTART:20251129T150000Z
DTEND:20251129T170000Z
SUMMARY:Norwich City v Queens Park Rangers
LOCATION:Carrow Road
DESCRIPTION:Norwich City v Queens Park Rangers - Carrow Road - Sky Bet Cha
 mpionship
STATUS:CONFIRMED
END:VEVENT
BEGIN:VEVENT
UID:42f1f39b47d7dd24afe2df7a5f988379@skysports.com
SEQUENCE:0
DTSTAMP:20260425T090406Z
DTSTART:20251206T150000Z
DTEND:20251206T170000Z
SUMMARY:Queens Park Rangers v West Bromwich Albion
LOCATION:Loftus Road Stadium
DESCRIPTION:Queens Park Rangers v West Bromwich Albion - Loftus Road Stadi
 um - Sky Bet Championship
STATUS:CONFIRMED
END:VEVENT
BEGIN:VEVENT
UID:72b26c52c46fc0781c8dd02545696e2c@skysports.com
SEQUENCE:0
DTSTAMP:20260425T090406Z
DTSTART:20251209T200000Z
DTEND:20251209T220000Z
SUMMARY:Queens Park Rangers v Birmingham City
LOCATION:Loftus Road Stadium
DESCRIPTION:Queens Park Rangers v Birmingham City - Loftus Road Stadium - 
 Sky Bet Championship - Live on Sky Sports Main Event and Sky Sports Footba
 ll
STATUS:CONFIRMED
END:VEVENT
BEGIN:VEVENT
UID:c098f0f6b41a4461a027376c12b0758f@skysports.com
SEQUENCE:0
DTSTAMP:20260425T090406Z
DTSTART:20251213T150000Z
DTEND:20251213T170000Z
SUMMARY:Middlesbrough v Queens Park Rangers
LOCATION:Riverside Stadium
DESCRIPTION:Middlesbrough v Queens Park Rangers - Riverside Stadium - Sky 
 Bet Championship
STATUS:CONFIRMED
END:VEVENT
BEGIN:VEVENT
UID:29cda483a5162539e80daf23f1d950d9@skysports.com
SEQUENCE:0
DTSTAMP:20260425T090406Z
DTSTART:20251220T150000Z
DTEND:20251220T170000Z
SUMMARY:Queens Park Rangers v Leicester City
LOCATION:Loftus Road Stadium
DESCRIPTION:Queens Park Rangers v Leicester City - Loftus Road Stadium - S
 ky Bet Championship
STATUS:CONFIRMED
END:VEVENT
BEGIN:VEVENT
UID:2ac3fb39719632c2aaba030d72431893@skysports.com
SEQUENCE:0
DTSTAMP:20260425T090406Z
DTSTART:20251226T150000Z
DTEND:20251226T170000Z
SUMMARY:Portsmouth v Queens Park Rangers
LOCATION:Fratton Park
DESCRIPTION:Portsmouth v Queens Park Rangers - Fratton Park - Sky Bet Cham
 pionship - Live on Sky Sports+
STATUS:CONFIRMED
END:VEVENT
BEGIN:VEVENT
UID:a8ea84db79832e9b260df9ab3a1ffff5@skysports.com
SEQUENCE:0
DTSTAMP:20260425T090406Z
DTSTART:20251229T194500Z
DTEND:20251229T214500Z
SUMMARY:West Bromwich Albion v Queens Park Rangers
LOCATION:The Hawthorns
DESCRIPTION:West Bromwich Albion v Queens Park Rangers - The Hawthorns - S
 ky Bet Championship
STATUS:CONFIRMED
END:VEVENT
BEGIN:VEVENT
UID:6a40075e373ba00c46f71a8d200b92a5@skysports.com
SEQUENCE:0
DTSTAMP:20260425T090406Z
DTSTART:20260101T150000Z
DTEND:20260101T170000Z
SUMMARY:Queens Park Rangers v Norwich City
LOCATION:Loftus Road Stadium
DESCRIPTION:Queens Park Rangers v Norwich City - Loftus Road Stadium - Sky
  Bet Championship - Live on Sky Sports+
STATUS:CONFIRMED
END:VEVENT
BEGIN:VEVENT
UID:508b01000fef3991b4e5f93c914defa4@skysports.com
SEQUENCE:0
DTSTAMP:20260425T090406Z
DTSTART:20260104T120000Z
DTEND:20260104T140000Z
SUMMARY:Queens Park Rangers v Sheffield Wednesday
LOCATION:Loftus Road Stadium
DESCRIPTION:Queens Park Rangers v Sheffield Wednesday - Loftus Road Stadiu
 m - Sky Bet Championship - Live on Sky Sports+
STATUS:CONFIRMED
END:VEVENT
BEGIN:VEVENT
UID:30d9b75b05791de03f739b38c49ac99d@skysports.com
SEQUENCE:0
DTSTAMP:20260425T090406Z
DTSTART:20260117T150000Z
DTEND:20260117T170000Z
SUMMARY:Stoke City v Queens Park Rangers
LOCATION:Bet365 Stadium
DESCRIPTION:Stoke City v Queens Park Rangers - Bet365 Stadium - Sky Bet Ch
 ampionship
STATUS:CONFIRMED
END:VEVENT
BEGIN:VEVENT
UID:87898357b3a5abebc5e7a38b10669881@skysports.com
SEQUENCE:0
DTSTAMP:20260425T090406Z
DTSTART:20260120T194500Z
DTEND:20260120T214500Z
SUMMARY:Oxford United v Queens Park Rangers
LOCATION:The Kassam Stadium
DESCRIPTION:Oxford United v Queens Park Rangers - The Kassam Stadium - Sky
  Bet Championship - Live on Sky Sports+
STATUS:CONFIRMED
END:VEVENT
BEGIN:VEVENT
UID:b31fb90801fdc469bf286703bf70a820@skysports.com
SEQUENCE:0
DTSTAMP:20260425T090406Z
DTSTART:20260124T150000Z
DTEND:20260124T170000Z
SUMMARY:Queens Park Rangers v Wrexham
LOCATION:Loftus Road Stadium
DESCRIPTION:Queens Park Rangers v Wrexham - Loftus Road Stadium - Sky Bet 
 Championship
STATUS:CONFIRMED
END:VEVENT
BEGIN:VEVENT
UID:c162ee9cb8ab614bc103ae3c778f66ba@skysports.com
SEQUENCE:0
DTSTAMP:20260425T090406Z
DTSTART:20260131T150000Z
DTEND:20260131T170000Z
SUMMARY:Queens Park Rangers v Coventry City
LOCATION:Loftus Road Stadium
DESCRIPTION:Queens Park Rangers v Coventry City - Loftus Road Stadium - Sk
 y Bet Championship
STATUS:CONFIRMED
END:VEVENT
BEGIN:VEVENT
UID:3579d0735480dca87420d42aeda2c4c2@skysports.com
SEQUENCE:0
DTSTAMP:20260425T090406Z
DTSTART:20260206T200100Z
DTEND:20260206T220100Z
SUMMARY:Charlton Athletic v Queens Park Rangers
LOCATION:The Valley
DESCRIPTION:Charlton Athletic v Queens Park Rangers - The Valley - Sky Bet
  Championship - Live on Sky Sports Football
STATUS:CONFIRMED
END:VEVENT
BEGIN:VEVENT
UID:814de004373fce71687a182d44505f4f@skysports.com
SEQUENCE:0
DTSTAMP:20260425T090406Z
DTSTART:20260214T150000Z
DTEND:20260214T170000Z
SUMMARY:Queens Park Rangers v Blackburn Rovers
LOCATION:Loftus Road Stadium
DESCRIPTION:Queens Park Rangers v Blackburn Rovers - Loftus Road Stadium -
  Sky Bet Championship
STATUS:CONFIRMED
END:VEVENT
BEGIN:VEVENT
UID:659693d1d98f6dc979a05c86de717013@skysports.com
SEQUENCE:0
DTSTAMP:20260425T090406Z
DTSTART:20260221T123000Z
DTEND:20260221T143000Z
SUMMARY:Hull City v Queens Park Rangers
LOCATION:MKM Stadium
DESCRIPTION:Hull City v Queens Park Rangers - MKM Stadium - Sky Bet Champi
 onship - Live on Sky Sports+
STATUS:CONFIRMED
END:VEVENT
BEGIN:VEVENT
UID:a2d4a0088a3f9df7c23cd7730bf28324@skysports.com
SEQUENCE:0
DTSTAMP:20260425T090406Z
DTSTART:20260224T200000Z
DTEND:20260224T220000Z
SUMMARY:Southampton v Queens Park Rangers
LOCATION:St. Mary's Stadium
DESCRIPTION:Southampton v Queens Park Rangers - St. Mary's Stadium - Sky B
 et Championship - Live on Sky Sports Main Event and Sky Sports Football
STATUS:CONFIRMED
END:VEVENT
BEGIN:VEVENT
UID:4d37b071a8781a5375cbce5384a29394@skysports.com
SEQUENCE:0
DTSTAMP:20260425T090406Z
DTSTART:20260228T150000Z
DTEND:20260228T170000Z
SUMMARY:Queens Park Rangers v Sheffield United
LOCATION:Loftus Road Stadium
DESCRIPTION:Queens Park Rangers v Sheffield United - Loftus Road Stadium -
  Sky Bet Championship
STATUS:CONFIRMED
END:VEVENT
BEGIN:VEVENT
UID:06033cb4501d184d676a0a7c168c0d9a@skysports.com
SEQUENCE:0
DTSTAMP:20260425T090406Z
DTSTART:20260308T163000Z
DTEND:20260308T183000Z
SUMMARY:Queens Park Rangers v Middlesbrough
LOCATION:Loftus Road Stadium
DESCRIPTION:Queens Park Rangers v Middlesbrough - Loftus Road Stadium - Sk
 y Bet Championship - Live on Sky Sports Football
STATUS:CONFIRMED
END:VEVENT
BEGIN:VEVENT
UID:12e6f9cba78b918ded3df90fe8c7ba4a@skysports.com
SEQUENCE:0
DTSTAMP:20260425T090406Z
DTSTART:20260311T194500Z
DTEND:20260311T214500Z
SUMMARY:Birmingham City v Queens Park Rangers
LOCATION:St. Andrew's Stadium
DESCRIPTION:Birmingham City v Queens Park Rangers - St. Andrew's Stadium -
  Sky Bet Championship - Live on Sky Sports+
STATUS:CONFIRMED
END:VEVENT
BEGIN:VEVENT
UID:95f4c91ded7972ece623fd38cdd0f151@skysports.com
SEQUENCE:0
DTSTAMP:20260425T090406Z
DTSTART:20260314T150000Z
DTEND:20260314T170000Z
SUMMARY:Leicester City v Queens Park Rangers
LOCATION:The King Power Stadium
DESCRIPTION:Leicester City v Queens Park Rangers - The King Power Stadium 
 - Sky Bet Championship
STATUS:CONFIRMED
END:VEVENT
BEGIN:VEVENT
UID:7da3c738b14253f5fb34930111d6725c@skysports.com
SEQUENCE:0
DTSTAMP:20260425T090406Z
DTSTART:20260321T150000Z
DTEND:20260321T170000Z
SUMMARY:Queens Park Rangers v Portsmouth
LOCATION:Loftus Road Stadium
DESCRIPTION:Queens Park Rangers v Portsmouth - Loftus Road Stadium - Sky B
 et Championship
STATUS:CONFIRMED
END:VEVENT
BEGIN:VEVENT
UID:1b4aacc0e50e9a63cf976409f7ef6370@skysports.com
SEQUENCE:0
DTSTAMP:20260425T090406Z
DTSTART:20260403T140000Z
DTEND:20260403T160000Z
SUMMARY:Queens Park Rangers v Watford
LOCATION:Loftus Road Stadium
DESCRIPTION:Queens Park Rangers v Watford - Loftus Road Stadium - Sky Bet 
 Championship - Live on Sky Sports+
STATUS:CONFIRMED
END:VEVENT
BEGIN:VEVENT
UID:529270bb279692ee1f1798b1154f42f2@skysports.com
SEQUENCE:0
DTSTAMP:20260425T090406Z
DTSTART:20260406T140000Z
DTEND:20260406T160000Z
SUMMARY:Preston North End v Queens Park Rangers
LOCATION:Deepdale
DESCRIPTION:Preston North End v Queens Park Rangers - Deepdale - Sky Bet C
 hampionship - Live on Sky Sports+
STATUS:CONFIRMED
END:VEVENT
BEGIN:VEVENT
UID:7b3cfeb31afc63e9d86d3b549c763f60@skysports.com
SEQUENCE:0
DTSTAMP:20260425T090406Z
DTSTART:20260411T113000Z
DTEND:20260411T133000Z
SUMMARY:Queens Park Rangers v Bristol City
LOCATION:Loftus Road Stadium
DESCRIPTION:Queens Park Rangers v Bristol City - Loftus Road Stadium - Sky
  Bet Championship - Live on Sky Sports+
STATUS:CONFIRMED
END:VEVENT
BEGIN:VEVENT
UID:04485da29b89df66bf3435da6270a7a2@skysports.com
SEQUENCE:0
DTSTAMP:20260425T090406Z
DTSTART:20260418T113000Z
DTEND:20260418T133000Z
SUMMARY:Millwall v Queens Park Rangers
LOCATION:The Den
DESCRIPTION:Millwall v Queens Park Rangers - The Den - Sky Bet Championshi
 p - Live on Sky Sports+
STATUS:CONFIRMED
END:VEVENT
BEGIN:VEVENT
UID:fb9872743d8aee890129e394566bcf16@skysports.com
SEQUENCE:0
DTSTAMP:20260425T090406Z
DTSTART:20260421T184500Z
DTEND:20260421T204500Z
SUMMARY:Queens Park Rangers v Swansea City
LOCATION:Loftus Road Stadium
DESCRIPTION:Queens Park Rangers v Swansea City - Loftus Road Stadium - Sky
  Bet Championship - Live on Sky Sports+
STATUS:CONFIRMED
END:VEVENT
BEGIN:VEVENT
UID:197c702b837ce8ac13ebbb3412c6e650@skysports.com
SEQUENCE:0
DTSTAMP:20260425T090406Z
DTSTART:20260425T140000Z
DTEND:20260425T160000Z
SUMMARY:Queens Park Rangers v Derby County
LOCATION:Loftus Road Stadium
DESCRIPTION:Queens Park Rangers v Derby County - Loftus Road Stadium - Sky
  Bet Championship
STATUS:CONFIRMED
END:VEVENT
BEGIN:VEVENT
UID:dfce20702adad78da908814307b2b6be@skysports.com
SEQUENCE:0
DTSTAMP:20260425T090406Z
DTSTART:20260502T113000Z
DTEND:20260502T133000Z
SUMMARY:Ipswich Town v Queens Park Rangers
LOCATION:Portman Road
DESCRIPTION:Ipswich Town v Queens Park Rangers - Portman Road - Sky Bet Ch
 ampionship
STATUS:CONFIRMED
END:VEVENT
BEGIN:VEVENT
UID:fb2f3ca71df2b364a5bb6e4eebf59dff@skysports.com
SEQUENCE:0
DTSTAMP:20260425T090406Z
DTSTART:20250812T184500Z
DTEND:20250812T204500Z
SUMMARY:Plymouth Argyle v Queens Park Rangers
LOCATION:Home Park
DESCRIPTION:Plymouth Argyle v Queens Park Rangers - Home Park - Carabao Cu
 p - Live on Sky Sports+
STATUS:CONFIRMED
END:VEVENT
BEGIN:VEVENT
UID:ce8604ed4be85a3223760cb43d4d106b@skysports.com
SEQUENCE:0
DTSTAMP:20260425T090406Z
DTSTART:20250802T140000Z
DTEND:20250802T160000Z
SUMMARY:Queens Park Rangers v Brentford
LOCATION:Loftus Road Stadium
DESCRIPTION:Queens Park Rangers v Brentford - Loftus Road Stadium - Friend
 ly Matches
STATUS:CONFIRMED
END:VEVENT
BEGIN:VEVENT
UID:39221d901992d8cd274fe09fc3072de8@skysports.com
SEQUENCE:0
DTSTAMP:20260425T090406Z
DTSTART:20260111T143000Z
DTEND:20260111T163000Z
SUMMARY:West Ham United v Queens Park Rangers
LOCATION:London Stadium
DESCRIPTION:West Ham United v Queens Park Rangers - London Stadium - The F
 A Cup
STATUS:CONFIRMED
END:VEVENT
END:VCALENDAR