BEGIN:VCALENDAR
VERSION:2.0
PRODID:-//Sky Sports SSDM//NONSGML Event Calendar//EN
URL:https://www.skysports.com/calendars/football/fixtures/teams/rangers
CALSCALE:GREGORIAN
METHOD:PUBLISH
NAME:Rangers Fixtures
X-WR-CALNAME:Rangers Fixtures
X-WR-CALDESC:Rangers fixtures provided by Sky Sports (https://www.skysport
 s.com)
REFRESH-INTERVAL;VALUE=DURATION:PT1H
X-PUBLISHED-TTL:PT1H
BEGIN:VEVENT
UID:a7fa2b81f1c7763ef14604f84fc93438@skysports.com
SEQUENCE:0
DTSTAMP:20260425T090210Z
DTSTART:20250802T163000Z
DTEND:20250802T183000Z
SUMMARY:Motherwell v Rangers
LOCATION:Fir Park
DESCRIPTION:Motherwell v Rangers - Fir Park - Scottish Premiership - Live 
 on Sky Sports Main Event and Sky Sports Football
STATUS:CONFIRMED
END:VEVENT
BEGIN:VEVENT
UID:a82c3e3cb7572e99932612546adfa355@skysports.com
SEQUENCE:0
DTSTAMP:20260425T090210Z
DTSTART:20250809T164500Z
DTEND:20250809T184500Z
SUMMARY:Rangers v Dundee
LOCATION:Ibrox Stadium
DESCRIPTION:Rangers v Dundee - Ibrox Stadium - Scottish Premiership
STATUS:CONFIRMED
END:VEVENT
BEGIN:VEVENT
UID:91822a3cf95797f06381542084e20727@skysports.com
SEQUENCE:0
DTSTAMP:20260425T090210Z
DTSTART:20250824T110000Z
DTEND:20250824T130000Z
SUMMARY:St Mirren v Rangers
LOCATION:The SMiSA Stadium
DESCRIPTION:St Mirren v Rangers - The SMiSA Stadium - Scottish Premiership
  - Live on Sky Sports Football
STATUS:CONFIRMED
END:VEVENT
BEGIN:VEVENT
UID:f05d62622224a7d062b00d0a04cbc1b5@skysports.com
SEQUENCE:0
DTSTAMP:20260425T090210Z
DTSTART:20250831T110000Z
DTEND:20250831T130000Z
SUMMARY:Rangers v Celtic
LOCATION:Ibrox Stadium
DESCRIPTION:Rangers v Celtic - Ibrox Stadium - Scottish Premiership - Live
  on Sky Sports Football
STATUS:CONFIRMED
END:VEVENT
BEGIN:VEVENT
UID:69a2e0e82508da66a46684aca34447c6@skysports.com
SEQUENCE:0
DTSTAMP:20260425T090210Z
DTSTART:20250913T140000Z
DTEND:20250913T160000Z
SUMMARY:Rangers v Hearts
LOCATION:Ibrox Stadium
DESCRIPTION:Rangers v Hearts - Ibrox Stadium - Scottish Premiership
STATUS:CONFIRMED
END:VEVENT
BEGIN:VEVENT
UID:275df0fc093b763edef953bb36764be6@skysports.com
SEQUENCE:0
DTSTAMP:20260425T090210Z
DTSTART:20250928T140000Z
DTEND:20250928T160000Z
SUMMARY:Livingston v Rangers
LOCATION:Tony Macaroni Arena
DESCRIPTION:Livingston v Rangers - Tony Macaroni Arena - Scottish Premiers
 hip - Live on Sky Sports Football HD
STATUS:CONFIRMED
END:VEVENT
BEGIN:VEVENT
UID:e09ad28b468eb0ad676938b77416abcd@skysports.com
SEQUENCE:0
DTSTAMP:20260425T090210Z
DTSTART:20251005T140000Z
DTEND:20251005T160000Z
SUMMARY:Falkirk v Rangers
LOCATION:Falkirk Stadium
DESCRIPTION:Falkirk v Rangers - Falkirk Stadium - Scottish Premiership - L
 ive on Sky Sports Football HD
STATUS:CONFIRMED
END:VEVENT
BEGIN:VEVENT
UID:783e66e21d8feaceaedc4638d47f9bd5@skysports.com
SEQUENCE:0
DTSTAMP:20260425T090210Z
DTSTART:20251018T140000Z
DTEND:20251018T160000Z
SUMMARY:Rangers v Dundee United
LOCATION:Ibrox Stadium
DESCRIPTION:Rangers v Dundee United - Ibrox Stadium - Scottish Premiership
STATUS:CONFIRMED
END:VEVENT
BEGIN:VEVENT
UID:1719607edb468e2f334b3c2629b547c5@skysports.com
SEQUENCE:0
DTSTAMP:20260425T090210Z
DTSTART:20251026T150000Z
DTEND:20251026T170000Z
SUMMARY:Rangers v Kilmarnock
LOCATION:Ibrox Stadium
DESCRIPTION:Rangers v Kilmarnock - Ibrox Stadium - Scottish Premiership
STATUS:CONFIRMED
END:VEVENT
BEGIN:VEVENT
UID:c2be8d802bc2c610b156aaae2ef27cc5@skysports.com
SEQUENCE:0
DTSTAMP:20260425T090210Z
DTSTART:20251029T194500Z
DTEND:20251029T214500Z
SUMMARY:Hibernian v Rangers
LOCATION:Easter Road
DESCRIPTION:Hibernian v Rangers - Easter Road - Scottish Premiership - Liv
 e on Sky Sports Football
STATUS:CONFIRMED
END:VEVENT
BEGIN:VEVENT
UID:cea72cc04759fa00e5493248a41677dc@skysports.com
SEQUENCE:0
DTSTAMP:20260425T090210Z
DTSTART:20260106T200000Z
DTEND:20260106T220000Z
SUMMARY:Rangers v Aberdeen
LOCATION:Ibrox Stadium
DESCRIPTION:Rangers v Aberdeen - Ibrox Stadium - Scottish Premiership - Li
 ve on Sky Sports Football
STATUS:CONFIRMED
END:VEVENT
BEGIN:VEVENT
UID:05e38ba3376f4ccbed080011b721a15b@skysports.com
SEQUENCE:0
DTSTAMP:20260425T090210Z
DTSTART:20251109T150000Z
DTEND:20251109T170000Z
SUMMARY:Dundee v Rangers
LOCATION:The Scot Foam Stadium at Dens Park
DESCRIPTION:Dundee v Rangers - The Scot Foam Stadium at Dens Park - Scotti
 sh Premiership - Live on Sky Sports Football
STATUS:CONFIRMED
END:VEVENT
BEGIN:VEVENT
UID:db2dce8ed96eeaee88ffd779e431e49c@skysports.com
SEQUENCE:0
DTSTAMP:20260425T090210Z
DTSTART:20251122T150000Z
DTEND:20251122T170000Z
SUMMARY:Rangers v Livingston
LOCATION:Ibrox Stadium
DESCRIPTION:Rangers v Livingston - Ibrox Stadium - Scottish Premiership
STATUS:CONFIRMED
END:VEVENT
BEGIN:VEVENT
UID:7e8aaa24665abbf6bddc17f9dcfc7620@skysports.com
SEQUENCE:0
DTSTAMP:20260425T090210Z
DTSTART:20251130T140000Z
DTEND:20251130T160000Z
SUMMARY:Rangers v Falkirk
LOCATION:Ibrox Stadium
DESCRIPTION:Rangers v Falkirk - Ibrox Stadium - Scottish Premiership
STATUS:CONFIRMED
END:VEVENT
BEGIN:VEVENT
UID:5da57875d41875887122f16834b1c9f1@skysports.com
SEQUENCE:0
DTSTAMP:20260425T090210Z
DTSTART:20251203T194500Z
DTEND:20251203T214500Z
SUMMARY:Dundee United v Rangers
LOCATION:CalForth Construction Arena at Tannadice Park
DESCRIPTION:Dundee United v Rangers - CalForth Construction Arena at Tanna
 dice Park - Scottish Premiership
STATUS:CONFIRMED
END:VEVENT
BEGIN:VEVENT
UID:f8b274c0d4d47ee1e602257dd5161870@skysports.com
SEQUENCE:0
DTSTAMP:20260425T090210Z
DTSTART:20251206T200000Z
DTEND:20251206T220000Z
SUMMARY:Kilmarnock v Rangers
LOCATION:The BBSP Stadium\, Rugby Park
DESCRIPTION:Kilmarnock v Rangers - The BBSP Stadium\, Rugby Park - Scottis
 h Premiership - Live on Sky Sports Football and Sky Sports Main Event
STATUS:CONFIRMED
END:VEVENT
BEGIN:VEVENT
UID:ef831df7d1d41c4c7b34565b87da177c@skysports.com
SEQUENCE:0
DTSTAMP:20260425T090210Z
DTSTART:20251215T194500Z
DTEND:20251215T214500Z
SUMMARY:Rangers v Hibernian
LOCATION:Ibrox Stadium
DESCRIPTION:Rangers v Hibernian - Ibrox Stadium - Scottish Premiership
STATUS:CONFIRMED
END:VEVENT
BEGIN:VEVENT
UID:1d9fd665eefdd491050ec6b68f5bbfda@skysports.com
SEQUENCE:0
DTSTAMP:20260425T090210Z
DTSTART:20251221T133000Z
DTEND:20251221T153000Z
SUMMARY:Hearts v Rangers
LOCATION:Tynecastle
DESCRIPTION:Hearts v Rangers - Tynecastle - Scottish Premiership - Live on
  Sky Sports Main Event and Sky Sports Football
STATUS:CONFIRMED
END:VEVENT
BEGIN:VEVENT
UID:442add2a3c6310476bdb0ae654b7635c@skysports.com
SEQUENCE:0
DTSTAMP:20260425T090210Z
DTSTART:20251227T150000Z
DTEND:20251227T170000Z
SUMMARY:Rangers v Motherwell
LOCATION:Ibrox Stadium
DESCRIPTION:Rangers v Motherwell - Ibrox Stadium - Scottish Premiership
STATUS:CONFIRMED
END:VEVENT
BEGIN:VEVENT
UID:7a6ed99d69ef51eca24f8ed1a68a76fb@skysports.com
SEQUENCE:0
DTSTAMP:20260425T090210Z
DTSTART:20251230T194500Z
DTEND:20251230T214500Z
SUMMARY:Rangers v St Mirren
LOCATION:Ibrox Stadium
DESCRIPTION:Rangers v St Mirren - Ibrox Stadium - Scottish Premiership
STATUS:CONFIRMED
END:VEVENT
BEGIN:VEVENT
UID:c6111fa808f2e205af3076669848f14d@skysports.com
SEQUENCE:0
DTSTAMP:20260425T090210Z
DTSTART:20260103T123000Z
DTEND:20260103T143000Z
SUMMARY:Celtic v Rangers
LOCATION:Celtic Park
DESCRIPTION:Celtic v Rangers - Celtic Park - Scottish Premiership - Live o
 n Sky Sports Football
STATUS:CONFIRMED
END:VEVENT
BEGIN:VEVENT
UID:bd81b0e0bf04b936df44b1e5fa54f0ec@skysports.com
SEQUENCE:0
DTSTAMP:20260425T090210Z
DTSTART:20260111T163000Z
DTEND:20260111T183000Z
SUMMARY:Aberdeen v Rangers
LOCATION:Pittodrie
DESCRIPTION:Aberdeen v Rangers - Pittodrie - Scottish Premiership - Live o
 n Sky Sports Football
STATUS:CONFIRMED
END:VEVENT
BEGIN:VEVENT
UID:1df709f03fbc58398b20230caa78f5d7@skysports.com
SEQUENCE:0
DTSTAMP:20260425T090210Z
DTSTART:20260125T150000Z
DTEND:20260125T170000Z
SUMMARY:Rangers v Dundee
LOCATION:Ibrox Stadium
DESCRIPTION:Rangers v Dundee - Ibrox Stadium - Scottish Premiership
STATUS:CONFIRMED
END:VEVENT
BEGIN:VEVENT
UID:25266a6db7ad1bd898b2fa4582a15ecc@skysports.com
SEQUENCE:0
DTSTAMP:20260425T090210Z
DTSTART:20260201T140000Z
DTEND:20260201T160000Z
SUMMARY:Hibernian v Rangers
LOCATION:Easter Road
DESCRIPTION:Hibernian v Rangers - Easter Road - Scottish Premiership
STATUS:CONFIRMED
END:VEVENT
BEGIN:VEVENT
UID:74d1d71a6585638c5271f21990a2c2a2@skysports.com
SEQUENCE:0
DTSTAMP:20260425T090210Z
DTSTART:20260204T194500Z
DTEND:20260204T214500Z
SUMMARY:Rangers v Kilmarnock
LOCATION:Ibrox Stadium
DESCRIPTION:Rangers v Kilmarnock - Ibrox Stadium - Scottish Premiership
STATUS:CONFIRMED
END:VEVENT
BEGIN:VEVENT
UID:17e88ba2ee2ecf77df10245ece558bd9@skysports.com
SEQUENCE:0
DTSTAMP:20260425T090210Z
DTSTART:20260211T200000Z
DTEND:20260211T220000Z
SUMMARY:Motherwell v Rangers
LOCATION:Fir Park
DESCRIPTION:Motherwell v Rangers - Fir Park - Scottish Premiership - Live 
 on Sky Sports Main Event and Sky Sports Football
STATUS:CONFIRMED
END:VEVENT
BEGIN:VEVENT
UID:2390afb106e444c7a5877cbbe90a9e75@skysports.com
SEQUENCE:0
DTSTAMP:20260425T090210Z
DTSTART:20260215T163000Z
DTEND:20260215T183000Z
SUMMARY:Rangers v Hearts
LOCATION:Ibrox Stadium
DESCRIPTION:Rangers v Hearts - Ibrox Stadium - Scottish Premiership - Live
  on Sky Sports Main Event and Sky Sports Football
STATUS:CONFIRMED
END:VEVENT
BEGIN:VEVENT
UID:9c91b81bbe4ffdcfbdcafc7364a5e4a7@skysports.com
SEQUENCE:0
DTSTAMP:20260425T090210Z
DTSTART:20260222T150000Z
DTEND:20260222T170000Z
SUMMARY:Livingston v Rangers
LOCATION:Tony Macaroni Arena
DESCRIPTION:Livingston v Rangers - Tony Macaroni Arena - Scottish Premiers
 hip - Live on Sky Sports Football
STATUS:CONFIRMED
END:VEVENT
BEGIN:VEVENT
UID:57c02f2bf2a87f7acc695ba6636ee03d@skysports.com
SEQUENCE:0
DTSTAMP:20260425T090210Z
DTSTART:20260301T120000Z
DTEND:20260301T140000Z
SUMMARY:Rangers v Celtic
LOCATION:Ibrox Stadium
DESCRIPTION:Rangers v Celtic - Ibrox Stadium - Scottish Premiership - Live
  on Sky Sports Football
STATUS:CONFIRMED
END:VEVENT
BEGIN:VEVENT
UID:4782780ad7e48d7ca207e27f2a942a3c@skysports.com
SEQUENCE:0
DTSTAMP:20260425T090210Z
DTSTART:20260315T120000Z
DTEND:20260315T140000Z
SUMMARY:St Mirren v Rangers
LOCATION:The SMiSA Stadium
DESCRIPTION:St Mirren v Rangers - The SMiSA Stadium - Scottish Premiership
  - Live on Sky Sports Main Event and Sky Sports Football
STATUS:CONFIRMED
END:VEVENT
BEGIN:VEVENT
UID:8afb24a2c9609d80148c46bb0928f5a7@skysports.com
SEQUENCE:0
DTSTAMP:20260425T090210Z
DTSTART:20260321T174500Z
DTEND:20260321T194500Z
SUMMARY:Rangers v Aberdeen
LOCATION:Ibrox Stadium
DESCRIPTION:Rangers v Aberdeen - Ibrox Stadium - Scottish Premiership
STATUS:CONFIRMED
END:VEVENT
BEGIN:VEVENT
UID:7aa572684c3470c3eca6b2880ba4e5ab@skysports.com
SEQUENCE:0
DTSTAMP:20260425T090210Z
DTSTART:20260404T140000Z
DTEND:20260404T160000Z
SUMMARY:Rangers v Dundee United
LOCATION:Ibrox Stadium
DESCRIPTION:Rangers v Dundee United - Ibrox Stadium - Scottish Premiership
STATUS:CONFIRMED
END:VEVENT
BEGIN:VEVENT
UID:38e0c9109e772e57571d45704a65e08d@skysports.com
SEQUENCE:0
DTSTAMP:20260425T090210Z
DTSTART:20260412T110000Z
DTEND:20260412T130000Z
SUMMARY:Falkirk v Rangers
LOCATION:Falkirk Stadium
DESCRIPTION:Falkirk v Rangers - Falkirk Stadium - Scottish Premiership - L
 ive on Sky Sports Football
STATUS:CONFIRMED
END:VEVENT
BEGIN:VEVENT
UID:cba44b0eba057741ac6b1259e3938340@skysports.com
SEQUENCE:0
DTSTAMP:20260425T090210Z
DTSTART:20250722T184500Z
DTEND:20250722T204500Z
SUMMARY:Rangers v Panathinaikos
LOCATION:Ibrox Stadium
DESCRIPTION:Rangers v Panathinaikos - Ibrox Stadium - UEFA Champions Leagu
 e Qualifying
STATUS:CONFIRMED
END:VEVENT
BEGIN:VEVENT
UID:bc167a296319744709732c5237d44a47@skysports.com
SEQUENCE:0
DTSTAMP:20260425T090210Z
DTSTART:20250730T180000Z
DTEND:20250730T200000Z
SUMMARY:Panathinaikos v Rangers
LOCATION:Athens Olympic Stadium
DESCRIPTION:Panathinaikos v Rangers - Athens Olympic Stadium - UEFA Champi
 ons League Qualifying
STATUS:CONFIRMED
END:VEVENT
BEGIN:VEVENT
UID:248f749852a3f07bd8a3de7dfd022054@skysports.com
SEQUENCE:0
DTSTAMP:20260425T090210Z
DTSTART:20250816T164500Z
DTEND:20250816T184500Z
SUMMARY:Rangers v Alloa Athletic
LOCATION:Ibrox Stadium
DESCRIPTION:Rangers v Alloa Athletic - Ibrox Stadium - Premier Sports Cup
STATUS:CONFIRMED
END:VEVENT
BEGIN:VEVENT
UID:3702aae4b02c46bddac327ccec596898@skysports.com
SEQUENCE:0
DTSTAMP:20260425T090210Z
DTSTART:20250805T184500Z
DTEND:20250805T204500Z
SUMMARY:Rangers v FC Viktoria Plzen
LOCATION:Ibrox Stadium
DESCRIPTION:Rangers v FC Viktoria Plzen - Ibrox Stadium - UEFA Champions L
 eague Qualifying
STATUS:CONFIRMED
END:VEVENT
BEGIN:VEVENT
UID:cd31a7e7ca64684032d70f8df72f894e@skysports.com
SEQUENCE:0
DTSTAMP:20260425T090210Z
DTSTART:20250812T170000Z
DTEND:20250812T190000Z
SUMMARY:FC Viktoria Plzen v Rangers
LOCATION:Struncovy Sady Stadion
DESCRIPTION:FC Viktoria Plzen v Rangers - Struncovy Sady Stadion - UEFA Ch
 ampions League Qualifying
STATUS:CONFIRMED
END:VEVENT
BEGIN:VEVENT
UID:3d6dd353b5f2c41baf4ed82431c6c8e8@skysports.com
SEQUENCE:0
DTSTAMP:20260425T090210Z
DTSTART:20250819T190000Z
DTEND:20250819T210000Z
SUMMARY:Rangers v Club Brugge
LOCATION:Ibrox Stadium
DESCRIPTION:Rangers v Club Brugge - Ibrox Stadium - UEFA Champions League 
 Qualifying
STATUS:CONFIRMED
END:VEVENT
BEGIN:VEVENT
UID:b027e1ca540cf166d1441f6e6c98267b@skysports.com
SEQUENCE:0
DTSTAMP:20260425T090210Z
DTSTART:20250827T190000Z
DTEND:20250827T210000Z
SUMMARY:Club Brugge v Rangers
LOCATION:Jan Breydel
DESCRIPTION:Club Brugge v Rangers - Jan Breydel - UEFA Champions League Qu
 alifying
STATUS:CONFIRMED
END:VEVENT
BEGIN:VEVENT
UID:9085079a42e85b8bdb6dc44e4aa45460@skysports.com
SEQUENCE:0
DTSTAMP:20260425T090210Z
DTSTART:20250920T164500Z
DTEND:20250920T184500Z
SUMMARY:Rangers v Hibernian
LOCATION:Ibrox Stadium
DESCRIPTION:Rangers v Hibernian - Ibrox Stadium - Premier Sports Cup
STATUS:CONFIRMED
END:VEVENT
BEGIN:VEVENT
UID:2cbf841287cb7e8e98526cd7b9292361@skysports.com
SEQUENCE:0
DTSTAMP:20260425T090210Z
DTSTART:20250925T190000Z
DTEND:20250925T210000Z
SUMMARY:Rangers v Genk
LOCATION:Ibrox Stadium
DESCRIPTION:Rangers v Genk - Ibrox Stadium - UEFA Europa League
STATUS:CONFIRMED
END:VEVENT
BEGIN:VEVENT
UID:651ecd5e7c03c76519f7579b113c3045@skysports.com
SEQUENCE:0
DTSTAMP:20260425T090210Z
DTSTART:20251002T190000Z
DTEND:20251002T210000Z
SUMMARY:Sturm Graz v Rangers
LOCATION:UPC-Arena
DESCRIPTION:Sturm Graz v Rangers - UPC-Arena - UEFA Europa League
STATUS:CONFIRMED
END:VEVENT
BEGIN:VEVENT
UID:93094dc5ca4820fc9a4ff0e3411361a4@skysports.com
SEQUENCE:0
DTSTAMP:20260425T090210Z
DTSTART:20251023T164500Z
DTEND:20251023T184500Z
SUMMARY:Brann v Rangers
LOCATION:Brann Stadium
DESCRIPTION:Brann v Rangers - Brann Stadium - UEFA Europa League
STATUS:CONFIRMED
END:VEVENT
BEGIN:VEVENT
UID:27b60477432e858ee43c160db88f6db8@skysports.com
SEQUENCE:0
DTSTAMP:20260425T090210Z
DTSTART:20251106T200000Z
DTEND:20251106T220000Z
SUMMARY:Rangers v Roma
LOCATION:Ibrox Stadium
DESCRIPTION:Rangers v Roma - Ibrox Stadium - UEFA Europa League
STATUS:CONFIRMED
END:VEVENT
BEGIN:VEVENT
UID:e759a539c1be93a49f0e419fcbfa58ca@skysports.com
SEQUENCE:0
DTSTAMP:20260425T090210Z
DTSTART:20251127T200000Z
DTEND:20251127T220000Z
SUMMARY:Rangers v Braga
LOCATION:Ibrox Stadium
DESCRIPTION:Rangers v Braga - Ibrox Stadium - UEFA Europa League
STATUS:CONFIRMED
END:VEVENT
BEGIN:VEVENT
UID:0e98b4fdd10ab2437b14b9969f6f496f@skysports.com
SEQUENCE:0
DTSTAMP:20260425T090210Z
DTSTART:20251211T174500Z
DTEND:20251211T194500Z
SUMMARY:Ferencvaros v Rangers
LOCATION:Groupama Arena
DESCRIPTION:Ferencvaros v Rangers - Groupama Arena - UEFA Europa League
STATUS:CONFIRMED
END:VEVENT
BEGIN:VEVENT
UID:564b20a75b345de5a3be78eeafa02e9f@skysports.com
SEQUENCE:0
DTSTAMP:20260425T090210Z
DTSTART:20260122T200000Z
DTEND:20260122T220000Z
SUMMARY:Rangers v Ludogorets
LOCATION:Ibrox Stadium
DESCRIPTION:Rangers v Ludogorets - Ibrox Stadium - UEFA Europa League
STATUS:CONFIRMED
END:VEVENT
BEGIN:VEVENT
UID:9f8fd15f52fc7c7ffcce9c73bf7c6ca4@skysports.com
SEQUENCE:0
DTSTAMP:20260425T090210Z
DTSTART:20260129T200000Z
DTEND:20260129T220000Z
SUMMARY:FC Porto v Rangers
LOCATION:Estadio do Dragao
DESCRIPTION:FC Porto v Rangers - Estadio do Dragao - UEFA Europa League
STATUS:CONFIRMED
END:VEVENT
BEGIN:VEVENT
UID:47d86c33d99d8d926cb3a2f12f755a99@skysports.com
SEQUENCE:0
DTSTAMP:20260425T090210Z
DTSTART:20251102T140000Z
DTEND:20251102T160000Z
SUMMARY:Celtic v Rangers
LOCATION:Hampden Park
DESCRIPTION:Celtic v Rangers - Hampden Park - Premier Sports Cup
STATUS:CONFIRMED
END:VEVENT
BEGIN:VEVENT
UID:28a9c67370def5f50482bbc64446b94f@skysports.com
SEQUENCE:0
DTSTAMP:20260425T090210Z
DTSTART:20260116T194500Z
DTEND:20260116T214500Z
SUMMARY:Rangers v Annan Athletic
LOCATION:Ibrox Stadium
DESCRIPTION:Rangers v Annan Athletic - Ibrox Stadium - Scottish Cup
STATUS:CONFIRMED
END:VEVENT
BEGIN:VEVENT
UID:aa1388fa67d24e2135bb771ecc8540df@skysports.com
SEQUENCE:0
DTSTAMP:20260425T090210Z
DTSTART:20260208T140000Z
DTEND:20260208T160000Z
SUMMARY:Rangers v Queen's Park
LOCATION:Ibrox Stadium
DESCRIPTION:Rangers v Queen's Park - Ibrox Stadium - Scottish Cup
STATUS:CONFIRMED
END:VEVENT
BEGIN:VEVENT
UID:2e662c6d8f9aeb21cf05e839542a1e66@skysports.com
SEQUENCE:0
DTSTAMP:20260425T090210Z
DTSTART:20260308T130000Z
DTEND:20260308T150000Z
SUMMARY:Rangers v Celtic
LOCATION:Ibrox Stadium
DESCRIPTION:Rangers v Celtic - Ibrox Stadium - Scottish Cup
STATUS:CONFIRMED
END:VEVENT
BEGIN:VEVENT
UID:dde64915e0757379cf9ba6fa613a3592@skysports.com
SEQUENCE:0
DTSTAMP:20260425T090210Z
DTSTART:20260426T140000Z
DTEND:20260426T160000Z
SUMMARY:Rangers v Motherwell
LOCATION:Ibrox Stadium
DESCRIPTION:Rangers v Motherwell - Ibrox Stadium - Scottish Premiership
STATUS:CONFIRMED
END:VEVENT
BEGIN:VEVENT
UID:b7665d6040afaaf2cea58cf013adf0a5@skysports.com
SEQUENCE:0
DTSTAMP:20260425T090210Z
DTSTART:20260504T163000Z
DTEND:20260504T183000Z
SUMMARY:Hearts v Rangers
LOCATION:Tynecastle
DESCRIPTION:Hearts v Rangers - Tynecastle - Scottish Premiership - Live on
  Sky Sports Football
STATUS:CONFIRMED
END:VEVENT
BEGIN:VEVENT
UID:c9da0d86585678c28bbd6b601cf17277@skysports.com
SEQUENCE:0
DTSTAMP:20260425T090210Z
DTSTART:20260510T110000Z
DTEND:20260510T130000Z
SUMMARY:Celtic v Rangers
LOCATION:Celtic Park
DESCRIPTION:Celtic v Rangers - Celtic Park - Scottish Premiership - Live o
 n Sky Sports Football
STATUS:CONFIRMED
END:VEVENT
BEGIN:VEVENT
UID:64695274f0aaa51dd8130861cd0936f1@skysports.com
SEQUENCE:0
DTSTAMP:20260425T090210Z
DTSTART:20260513T190000Z
DTEND:20260513T210000Z
SUMMARY:Rangers v Hibernian
LOCATION:Ibrox Stadium
DESCRIPTION:Rangers v Hibernian - Ibrox Stadium - Scottish Premiership
STATUS:CONFIRMED
END:VEVENT
BEGIN:VEVENT
UID:3bec739c2e5c369fe27379f777ecaaac@skysports.com
SEQUENCE:0
DTSTAMP:20260425T090210Z
DTSTART:20260516T113000Z
DTEND:20260516T133000Z
SUMMARY:Falkirk v Rangers
LOCATION:Falkirk Stadium
DESCRIPTION:Falkirk v Rangers - Falkirk Stadium - Scottish Premiership
STATUS:CONFIRMED
END:VEVENT
END:VCALENDAR