BEGIN:VCALENDAR
VERSION:2.0
PRODID:-//Sky Sports SSDM//NONSGML Event Calendar//EN
URL:https://www.skysports.com/calendars/football/fixtures/teams/rb-leipzig
CALSCALE:GREGORIAN
METHOD:PUBLISH
NAME:RB Leipzig Fixtures
X-WR-CALNAME:RB Leipzig Fixtures
X-WR-CALDESC:RB Leipzig fixtures provided by Sky Sports (https://www.skysp
 orts.com)
REFRESH-INTERVAL;VALUE=DURATION:PT1H
X-PUBLISHED-TTL:PT1H
BEGIN:VEVENT
UID:a7a6543ac50b9bd1d4ae333f5206876b@skysports.com
SEQUENCE:0
DTSTAMP:20260425T091209Z
DTSTART:20250816T133000Z
DTEND:20250816T153000Z
SUMMARY:Sandhausen v RB Leipzig
LOCATION:Hardtwaldstadion
DESCRIPTION:Sandhausen v RB Leipzig - Hardtwaldstadion - German DFB Cup
STATUS:CONFIRMED
END:VEVENT
BEGIN:VEVENT
UID:bbe0aec6084ad6877cdc187790b6ca25@skysports.com
SEQUENCE:0
DTSTAMP:20260425T091209Z
DTSTART:20250822T183000Z
DTEND:20250822T203000Z
SUMMARY:Bayern Munich v RB Leipzig
LOCATION:Allianz Arena
DESCRIPTION:Bayern Munich v RB Leipzig - Allianz Arena - German Bundesliga
STATUS:CONFIRMED
END:VEVENT
BEGIN:VEVENT
UID:1e549f8fe1d00c8bac5d7097f5762376@skysports.com
SEQUENCE:0
DTSTAMP:20260425T091209Z
DTSTART:20250830T133000Z
DTEND:20250830T153000Z
SUMMARY:RB Leipzig v 1. FC Heidenheim 1846
LOCATION:Leipzig Stadium
DESCRIPTION:RB Leipzig v 1. FC Heidenheim 1846 - Leipzig Stadium - German 
 Bundesliga
STATUS:CONFIRMED
END:VEVENT
BEGIN:VEVENT
UID:af16e04b67409b598341b7285601595c@skysports.com
SEQUENCE:0
DTSTAMP:20260425T091209Z
DTSTART:20250913T133000Z
DTEND:20250913T153000Z
SUMMARY:Mainz v RB Leipzig
LOCATION:Coface Arena
DESCRIPTION:Mainz v RB Leipzig - Coface Arena - German Bundesliga
STATUS:CONFIRMED
END:VEVENT
BEGIN:VEVENT
UID:fa520f68ea99b56bd720172ed9487c75@skysports.com
SEQUENCE:0
DTSTAMP:20260425T091209Z
DTSTART:20250920T163000Z
DTEND:20250920T183000Z
SUMMARY:RB Leipzig v Cologne
LOCATION:Leipzig Stadium
DESCRIPTION:RB Leipzig v Cologne - Leipzig Stadium - German Bundesliga - L
 ive on Sky Sports Football and Sky Sports Football HD
STATUS:CONFIRMED
END:VEVENT
BEGIN:VEVENT
UID:4b81c97bbce3b4e346855003068f6bed@skysports.com
SEQUENCE:0
DTSTAMP:20260425T091209Z
DTSTART:20250927T133000Z
DTEND:20250927T153000Z
SUMMARY:Wolfsburg v RB Leipzig
LOCATION:Volkswagen Arena
DESCRIPTION:Wolfsburg v RB Leipzig - Volkswagen Arena - German Bundesliga
STATUS:CONFIRMED
END:VEVENT
BEGIN:VEVENT
UID:1d0a4331cee4772e99f50c38ecc1ecf2@skysports.com
SEQUENCE:0
DTSTAMP:20260425T091209Z
DTSTART:20251004T133000Z
DTEND:20251004T153000Z
SUMMARY:Borussia Dortmund v RB Leipzig
LOCATION:Signal Iduna Park
DESCRIPTION:Borussia Dortmund v RB Leipzig - Signal Iduna Park - German Bu
 ndesliga
STATUS:CONFIRMED
END:VEVENT
BEGIN:VEVENT
UID:df38bee6293d9c35966302efd72a8c48@skysports.com
SEQUENCE:0
DTSTAMP:20260425T091209Z
DTSTART:20251018T133000Z
DTEND:20251018T153000Z
SUMMARY:RB Leipzig v Hamburg
LOCATION:Leipzig Stadium
DESCRIPTION:RB Leipzig v Hamburg - Leipzig Stadium - German Bundesliga
STATUS:CONFIRMED
END:VEVENT
BEGIN:VEVENT
UID:a124ed2a607b8a249b248c3333431eb5@skysports.com
SEQUENCE:0
DTSTAMP:20260425T091209Z
DTSTART:20251025T133000Z
DTEND:20251025T153000Z
SUMMARY:FC Augsburg v RB Leipzig
LOCATION:SGL Arena
DESCRIPTION:FC Augsburg v RB Leipzig - SGL Arena - German Bundesliga
STATUS:CONFIRMED
END:VEVENT
BEGIN:VEVENT
UID:ca2298d9b9fe499bec2d89ef06f889ed@skysports.com
SEQUENCE:0
DTSTAMP:20260425T091209Z
DTSTART:20251101T143000Z
DTEND:20251101T163000Z
SUMMARY:RB Leipzig v Stuttgart
LOCATION:Leipzig Stadium
DESCRIPTION:RB Leipzig v Stuttgart - Leipzig Stadium - German Bundesliga
STATUS:CONFIRMED
END:VEVENT
BEGIN:VEVENT
UID:8962543a4d022db69a928878dc45a28c@skysports.com
SEQUENCE:0
DTSTAMP:20260425T091209Z
DTSTART:20251108T143000Z
DTEND:20251108T163000Z
SUMMARY:TSG Hoffenheim v RB Leipzig
LOCATION:PreZero Arena
DESCRIPTION:TSG Hoffenheim v RB Leipzig - PreZero Arena - German Bundeslig
 a
STATUS:CONFIRMED
END:VEVENT
BEGIN:VEVENT
UID:a8dfbe50f8c606158c776a5620dfd518@skysports.com
SEQUENCE:0
DTSTAMP:20260425T091209Z
DTSTART:20251123T143000Z
DTEND:20251123T163000Z
SUMMARY:RB Leipzig v Werder Bremen
LOCATION:Leipzig Stadium
DESCRIPTION:RB Leipzig v Werder Bremen - Leipzig Stadium - German Bundesli
 ga
STATUS:CONFIRMED
END:VEVENT
BEGIN:VEVENT
UID:bf058d631edf4dc39b820bef5c2a59c4@skysports.com
SEQUENCE:0
DTSTAMP:20260425T091209Z
DTSTART:20251128T193000Z
DTEND:20251128T213000Z
SUMMARY:Mönchengladbach v RB Leipzig
LOCATION:BORUSSIA-PARK
DESCRIPTION:Mönchengladbach v RB Leipzig - BORUSSIA-PARK - German Bundesl
 iga
STATUS:CONFIRMED
END:VEVENT
BEGIN:VEVENT
UID:0203a1c74bcd1f1678c6453a78686ac4@skysports.com
SEQUENCE:0
DTSTAMP:20260425T091209Z
DTSTART:20251206T173000Z
DTEND:20251206T193000Z
SUMMARY:RB Leipzig v Eintracht Frankfurt
LOCATION:Leipzig Stadium
DESCRIPTION:RB Leipzig v Eintracht Frankfurt - Leipzig Stadium - German Bu
 ndesliga - Live on Sky Sports Football
STATUS:CONFIRMED
END:VEVENT
BEGIN:VEVENT
UID:42fc7e6687af6e0143d866f1f2f13855@skysports.com
SEQUENCE:0
DTSTAMP:20260425T091209Z
DTSTART:20251212T193000Z
DTEND:20251212T213000Z
SUMMARY:1. FC Union Berlin v RB Leipzig
LOCATION:An der Alten Forsterei
DESCRIPTION:1. FC Union Berlin v RB Leipzig - An der Alten Forsterei - Ger
 man Bundesliga
STATUS:CONFIRMED
END:VEVENT
BEGIN:VEVENT
UID:a8d3a07c9c3c48e266b51d91299aaa85@skysports.com
SEQUENCE:0
DTSTAMP:20260425T091209Z
DTSTART:20251220T173000Z
DTEND:20251220T193000Z
SUMMARY:RB Leipzig v Bayer Leverkusen
LOCATION:Leipzig Stadium
DESCRIPTION:RB Leipzig v Bayer Leverkusen - Leipzig Stadium - German Bunde
 sliga - Live on Sky Sports Football
STATUS:CONFIRMED
END:VEVENT
BEGIN:VEVENT
UID:fcfea766f9a4734e626ee7af1cfa5671@skysports.com
SEQUENCE:0
DTSTAMP:20260425T091209Z
DTSTART:20260127T193000Z
DTEND:20260127T213000Z
SUMMARY:St Pauli v RB Leipzig
LOCATION:Millerntor-Stadion
DESCRIPTION:St Pauli v RB Leipzig - Millerntor-Stadion - German Bundesliga
STATUS:CONFIRMED
END:VEVENT
BEGIN:VEVENT
UID:2ad6de952d40333135486f98c30f0874@skysports.com
SEQUENCE:0
DTSTAMP:20260425T091209Z
DTSTART:20260114T193000Z
DTEND:20260114T213000Z
SUMMARY:RB Leipzig v SC Freiburg
LOCATION:Leipzig Stadium
DESCRIPTION:RB Leipzig v SC Freiburg - Leipzig Stadium - German Bundesliga
STATUS:CONFIRMED
END:VEVENT
BEGIN:VEVENT
UID:cb03008a94330a7f661040268ed2d388@skysports.com
SEQUENCE:0
DTSTAMP:20260425T091209Z
DTSTART:20260117T173000Z
DTEND:20260117T193000Z
SUMMARY:RB Leipzig v Bayern Munich
LOCATION:Leipzig Stadium
DESCRIPTION:RB Leipzig v Bayern Munich - Leipzig Stadium - German Bundesli
 ga - Live on Sky Sports Football
STATUS:CONFIRMED
END:VEVENT
BEGIN:VEVENT
UID:df338aa28f9e2d8f8de993943e8432dc@skysports.com
SEQUENCE:0
DTSTAMP:20260425T091209Z
DTSTART:20260124T143000Z
DTEND:20260124T163000Z
SUMMARY:1. FC Heidenheim 1846 v RB Leipzig
LOCATION:Voith-Arena
DESCRIPTION:1. FC Heidenheim 1846 v RB Leipzig - Voith-Arena - German Bund
 esliga
STATUS:CONFIRMED
END:VEVENT
BEGIN:VEVENT
UID:c2241bf1159af31ab25aff60b3ece097@skysports.com
SEQUENCE:0
DTSTAMP:20260425T091209Z
DTSTART:20260131T143000Z
DTEND:20260131T163000Z
SUMMARY:RB Leipzig v Mainz
LOCATION:Leipzig Stadium
DESCRIPTION:RB Leipzig v Mainz - Leipzig Stadium - German Bundesliga
STATUS:CONFIRMED
END:VEVENT
BEGIN:VEVENT
UID:b40c7c9767478d0e409c3de27b504009@skysports.com
SEQUENCE:0
DTSTAMP:20260425T091209Z
DTSTART:20260208T143000Z
DTEND:20260208T163000Z
SUMMARY:Cologne v RB Leipzig
LOCATION:RheinEnergieStadion
DESCRIPTION:Cologne v RB Leipzig - RheinEnergieStadion - German Bundesliga
STATUS:CONFIRMED
END:VEVENT
BEGIN:VEVENT
UID:4205c0596802ff3fd6348fa9c1a0fad1@skysports.com
SEQUENCE:0
DTSTAMP:20260425T091209Z
DTSTART:20260215T163000Z
DTEND:20260215T183000Z
SUMMARY:RB Leipzig v Wolfsburg
LOCATION:Leipzig Stadium
DESCRIPTION:RB Leipzig v Wolfsburg - Leipzig Stadium - German Bundesliga
STATUS:CONFIRMED
END:VEVENT
BEGIN:VEVENT
UID:57b503199a2fa25d5bf4ce0996de7c07@skysports.com
SEQUENCE:0
DTSTAMP:20260425T091209Z
DTSTART:20260221T173000Z
DTEND:20260221T193000Z
SUMMARY:RB Leipzig v Borussia Dortmund
LOCATION:Leipzig Stadium
DESCRIPTION:RB Leipzig v Borussia Dortmund - Leipzig Stadium - German Bund
 esliga - Live on Sky Sports Football
STATUS:CONFIRMED
END:VEVENT
BEGIN:VEVENT
UID:2c5fba5ba35f6abdeabb03788f22c6a5@skysports.com
SEQUENCE:0
DTSTAMP:20260425T091209Z
DTSTART:20260301T183000Z
DTEND:20260301T203000Z
SUMMARY:Hamburg v RB Leipzig
LOCATION:Volksparkstadion
DESCRIPTION:Hamburg v RB Leipzig - Volksparkstadion - German Bundesliga
STATUS:CONFIRMED
END:VEVENT
BEGIN:VEVENT
UID:67d31eafb2407956d1d2047468228b7d@skysports.com
SEQUENCE:0
DTSTAMP:20260425T091209Z
DTSTART:20260307T143000Z
DTEND:20260307T163000Z
SUMMARY:RB Leipzig v FC Augsburg
LOCATION:Leipzig Stadium
DESCRIPTION:RB Leipzig v FC Augsburg - Leipzig Stadium - German Bundesliga
STATUS:CONFIRMED
END:VEVENT
BEGIN:VEVENT
UID:231c64432e47a92fc9e0455e4e837e87@skysports.com
SEQUENCE:0
DTSTAMP:20260425T091209Z
DTSTART:20260315T183000Z
DTEND:20260315T203000Z
SUMMARY:Stuttgart v RB Leipzig
LOCATION:MHP Arena
DESCRIPTION:Stuttgart v RB Leipzig - MHP Arena - German Bundesliga
STATUS:CONFIRMED
END:VEVENT
BEGIN:VEVENT
UID:af5daf5dda762ef5cac259548b38afa5@skysports.com
SEQUENCE:0
DTSTAMP:20260425T091209Z
DTSTART:20260320T193000Z
DTEND:20260320T213000Z
SUMMARY:RB Leipzig v TSG Hoffenheim
LOCATION:Leipzig Stadium
DESCRIPTION:RB Leipzig v TSG Hoffenheim - Leipzig Stadium - German Bundesl
 iga
STATUS:CONFIRMED
END:VEVENT
BEGIN:VEVENT
UID:49d13cb030bfbe4adc48b8c0e2484c89@skysports.com
SEQUENCE:0
DTSTAMP:20260425T091209Z
DTSTART:20260404T133000Z
DTEND:20260404T153000Z
SUMMARY:Werder Bremen v RB Leipzig
LOCATION:Weser-Stadion
DESCRIPTION:Werder Bremen v RB Leipzig - Weser-Stadion - German Bundesliga
STATUS:CONFIRMED
END:VEVENT
BEGIN:VEVENT
UID:16ed6ac3d80f523791107bb2b5010a94@skysports.com
SEQUENCE:0
DTSTAMP:20260425T091209Z
DTSTART:20260411T133000Z
DTEND:20260411T153000Z
SUMMARY:RB Leipzig v Mönchengladbach
LOCATION:Leipzig Stadium
DESCRIPTION:RB Leipzig v Mönchengladbach - Leipzig Stadium - German Bunde
 sliga
STATUS:CONFIRMED
END:VEVENT
BEGIN:VEVENT
UID:568f40c8277ae2deae42dde21402dd55@skysports.com
SEQUENCE:0
DTSTAMP:20260425T091209Z
DTSTART:20260418T163000Z
DTEND:20260418T183000Z
SUMMARY:Eintracht Frankfurt v RB Leipzig
LOCATION:Commerzbank-Arena
DESCRIPTION:Eintracht Frankfurt v RB Leipzig - Commerzbank-Arena - German 
 Bundesliga - Live on Sky Sports Football
STATUS:CONFIRMED
END:VEVENT
BEGIN:VEVENT
UID:3808bb1ad42ca9341697834c466b67ea@skysports.com
SEQUENCE:0
DTSTAMP:20260425T091209Z
DTSTART:20260424T183000Z
DTEND:20260424T203000Z
SUMMARY:RB Leipzig v 1. FC Union Berlin
LOCATION:Leipzig Stadium
DESCRIPTION:RB Leipzig v 1. FC Union Berlin - Leipzig Stadium - German Bun
 desliga
STATUS:CONFIRMED
END:VEVENT
BEGIN:VEVENT
UID:2f9bb39980d41aa86b0362985fc40e02@skysports.com
SEQUENCE:0
DTSTAMP:20260425T091209Z
DTSTART:20260502T163000Z
DTEND:20260502T183000Z
SUMMARY:Bayer Leverkusen v RB Leipzig
LOCATION:BayArena
DESCRIPTION:Bayer Leverkusen v RB Leipzig - BayArena - German Bundesliga -
  Live on Sky Sports Mix
STATUS:CONFIRMED
END:VEVENT
BEGIN:VEVENT
UID:153bfe58c6d4c6f42af5750c9720c910@skysports.com
SEQUENCE:0
DTSTAMP:20260425T091209Z
DTSTART:20260509T133000Z
DTEND:20260509T153000Z
SUMMARY:RB Leipzig v St Pauli
LOCATION:Leipzig Stadium
DESCRIPTION:RB Leipzig v St Pauli - Leipzig Stadium - German Bundesliga
STATUS:CONFIRMED
END:VEVENT
BEGIN:VEVENT
UID:7f274996e7b3dfdaf1f2c19ab68c86ca@skysports.com
SEQUENCE:0
DTSTAMP:20260425T091209Z
DTSTART:20260516T133000Z
DTEND:20260516T153000Z
SUMMARY:SC Freiburg v RB Leipzig
LOCATION:Europa-Park Stadion
DESCRIPTION:SC Freiburg v RB Leipzig - Europa-Park Stadion - German Bundes
 liga
STATUS:CONFIRMED
END:VEVENT
BEGIN:VEVENT
UID:045a967c44569d6aa797157096bfcee7@skysports.com
SEQUENCE:0
DTSTAMP:20260425T091209Z
DTSTART:20251028T194500Z
DTEND:20251028T214500Z
SUMMARY:Energie Cottbus v RB Leipzig
LOCATION:LEAG Energie Stadion
DESCRIPTION:Energie Cottbus v RB Leipzig - LEAG Energie Stadion - German D
 FB Cup
STATUS:CONFIRMED
END:VEVENT
BEGIN:VEVENT
UID:72a835eda894c0a10d7b296c78ac6f26@skysports.com
SEQUENCE:0
DTSTAMP:20260425T091209Z
DTSTART:20251202T200000Z
DTEND:20251202T220000Z
SUMMARY:RB Leipzig v Magdeburg
LOCATION:Leipzig Stadium
DESCRIPTION:RB Leipzig v Magdeburg - Leipzig Stadium - German DFB Cup
STATUS:CONFIRMED
END:VEVENT
BEGIN:VEVENT
UID:9523098174a91a1fdf3358e66360b95f@skysports.com
SEQUENCE:0
DTSTAMP:20260425T091209Z
DTSTART:20260211T194500Z
DTEND:20260211T214500Z
SUMMARY:Bayern Munich v RB Leipzig
LOCATION:Allianz Arena
DESCRIPTION:Bayern Munich v RB Leipzig - Allianz Arena - German DFB Cup
STATUS:CONFIRMED
END:VEVENT
END:VCALENDAR