BEGIN:VCALENDAR
VERSION:2.0
PRODID:-//Sky Sports SSDM//NONSGML Event Calendar//EN
URL:https://www.skysports.com/calendars/football/fixtures/teams/rc-lens
CALSCALE:GREGORIAN
METHOD:PUBLISH
NAME:RC Lens Fixtures
X-WR-CALNAME:RC Lens Fixtures
X-WR-CALDESC:RC Lens fixtures provided by Sky Sports (https://www.skysport
 s.com)
REFRESH-INTERVAL;VALUE=DURATION:PT1H
X-PUBLISHED-TTL:PT1H
BEGIN:VEVENT
UID:83d97dab6e9cc0803443815de7ec3200@skysports.com
SEQUENCE:0
DTSTAMP:20260425T090807Z
DTSTART:20250802T160000Z
DTEND:20250802T180000Z
SUMMARY:RC Lens v Roma
LOCATION:Stade Bollaert-Delelis
DESCRIPTION:RC Lens v Roma - Stade Bollaert-Delelis - Friendly Match
STATUS:CONFIRMED
END:VEVENT
BEGIN:VEVENT
UID:a61c739dbd7ff5d05eb82ed571a9d852@skysports.com
SEQUENCE:0
DTSTAMP:20260425T090807Z
DTSTART:20250816T150000Z
DTEND:20250816T170000Z
SUMMARY:RC Lens v Lyon
LOCATION:Stade Bollaert-Delelis
DESCRIPTION:RC Lens v Lyon - Stade Bollaert-Delelis - French Ligue 1
STATUS:CONFIRMED
END:VEVENT
BEGIN:VEVENT
UID:7540615671eab1d011c62d10b63599d3@skysports.com
SEQUENCE:0
DTSTAMP:20260425T090807Z
DTSTART:20250824T151500Z
DTEND:20250824T171500Z
SUMMARY:Le Havre v RC Lens
LOCATION:Stade Oceane
DESCRIPTION:Le Havre v RC Lens - Stade Oceane - French Ligue 1
STATUS:CONFIRMED
END:VEVENT
BEGIN:VEVENT
UID:2a804df45f3806de75f48451e18fe39b@skysports.com
SEQUENCE:0
DTSTAMP:20260425T090807Z
DTSTART:20250829T184500Z
DTEND:20250829T204500Z
SUMMARY:RC Lens v Brest
LOCATION:Stade Bollaert-Delelis
DESCRIPTION:RC Lens v Brest - Stade Bollaert-Delelis - French Ligue 1
STATUS:CONFIRMED
END:VEVENT
BEGIN:VEVENT
UID:97983ff95c6f17a258cc52760ffcf287@skysports.com
SEQUENCE:0
DTSTAMP:20260425T090807Z
DTSTART:20250914T151500Z
DTEND:20250914T171500Z
SUMMARY:Paris Saint-Germain v RC Lens
LOCATION:Parc des Princes
DESCRIPTION:Paris Saint-Germain v RC Lens - Parc des Princes - French Ligu
 e 1
STATUS:CONFIRMED
END:VEVENT
BEGIN:VEVENT
UID:cb61f07c45047be1f1fee44e93e97c24@skysports.com
SEQUENCE:0
DTSTAMP:20260425T090807Z
DTSTART:20250920T190500Z
DTEND:20250920T210500Z
SUMMARY:RC Lens v Lille
LOCATION:Stade Bollaert-Delelis
DESCRIPTION:RC Lens v Lille - Stade Bollaert-Delelis - French Ligue 1
STATUS:CONFIRMED
END:VEVENT
BEGIN:VEVENT
UID:b61a7d1e84c6c1d7553d34363e881d43@skysports.com
SEQUENCE:0
DTSTAMP:20260425T090807Z
DTSTART:20250928T184500Z
DTEND:20250928T204500Z
SUMMARY:Rennes v RC Lens
LOCATION:Stade de la Route-de-Lorient
DESCRIPTION:Rennes v RC Lens - Stade de la Route-de-Lorient - French Ligue
  1
STATUS:CONFIRMED
END:VEVENT
BEGIN:VEVENT
UID:11fdb30c35bbb3076a26105d724399c8@skysports.com
SEQUENCE:0
DTSTAMP:20260425T090807Z
DTSTART:20251004T190500Z
DTEND:20251004T210500Z
SUMMARY:Auxerre v RC Lens
LOCATION:Stade de l'Abbe-Deschamps
DESCRIPTION:Auxerre v RC Lens - Stade de l'Abbe-Deschamps - French Ligue 1
STATUS:CONFIRMED
END:VEVENT
BEGIN:VEVENT
UID:762a2d2d22c095368f7221f9180a48ed@skysports.com
SEQUENCE:0
DTSTAMP:20260425T090807Z
DTSTART:20251019T130000Z
DTEND:20251019T150000Z
SUMMARY:RC Lens v Paris FC
LOCATION:Stade Bollaert-Delelis
DESCRIPTION:RC Lens v Paris FC - Stade Bollaert-Delelis - French Ligue 1
STATUS:CONFIRMED
END:VEVENT
BEGIN:VEVENT
UID:fa4589eb0575837e4b846d366e82c886@skysports.com
SEQUENCE:0
DTSTAMP:20260425T090807Z
DTSTART:20251025T190500Z
DTEND:20251025T210500Z
SUMMARY:RC Lens v Marseille
LOCATION:Stade Bollaert-Delelis
DESCRIPTION:RC Lens v Marseille - Stade Bollaert-Delelis - French Ligue 1
STATUS:CONFIRMED
END:VEVENT
BEGIN:VEVENT
UID:3c28d38ceb4feeb10d2895c16091b803@skysports.com
SEQUENCE:0
DTSTAMP:20260425T090807Z
DTSTART:20251029T180000Z
DTEND:20251029T200000Z
SUMMARY:Metz v RC Lens
LOCATION:Stade Saint-Symphorien
DESCRIPTION:Metz v RC Lens - Stade Saint-Symphorien - French Ligue 1
STATUS:CONFIRMED
END:VEVENT
BEGIN:VEVENT
UID:0dc5c8ab0e5ffece8c197fa052bc5875@skysports.com
SEQUENCE:0
DTSTAMP:20260425T090807Z
DTSTART:20251102T161500Z
DTEND:20251102T181500Z
SUMMARY:RC Lens v Lorient
LOCATION:Stade Bollaert-Delelis
DESCRIPTION:RC Lens v Lorient - Stade Bollaert-Delelis - French Ligue 1
STATUS:CONFIRMED
END:VEVENT
BEGIN:VEVENT
UID:23d1ce6cb15fdeba74bc82c407ad5d51@skysports.com
SEQUENCE:0
DTSTAMP:20260425T090807Z
DTSTART:20251108T200500Z
DTEND:20251108T220500Z
SUMMARY:Monaco v RC Lens
LOCATION:Stade Louis-II
DESCRIPTION:Monaco v RC Lens - Stade Louis-II - French Ligue 1
STATUS:CONFIRMED
END:VEVENT
BEGIN:VEVENT
UID:619435456b3568c6759b44757694fb64@skysports.com
SEQUENCE:0
DTSTAMP:20260425T090807Z
DTSTART:20251122T160000Z
DTEND:20251122T180000Z
SUMMARY:RC Lens v Strasbourg
LOCATION:Stade Bollaert-Delelis
DESCRIPTION:RC Lens v Strasbourg - Stade Bollaert-Delelis - French Ligue 1
STATUS:CONFIRMED
END:VEVENT
BEGIN:VEVENT
UID:f5a0bfbb773e658cdd193aa611f3be5b@skysports.com
SEQUENCE:0
DTSTAMP:20260425T090807Z
DTSTART:20251130T161500Z
DTEND:20251130T181500Z
SUMMARY:Angers v RC Lens
LOCATION:Stade Jean-Bouin
DESCRIPTION:Angers v RC Lens - Stade Jean-Bouin - French Ligue 1
STATUS:CONFIRMED
END:VEVENT
BEGIN:VEVENT
UID:41efc004fc9973573c34df7f346f040a@skysports.com
SEQUENCE:0
DTSTAMP:20260425T090807Z
DTSTART:20251206T160000Z
DTEND:20251206T180000Z
SUMMARY:Nantes v RC Lens
LOCATION:La Beaujoire-Louis-Fonteneau
DESCRIPTION:Nantes v RC Lens - La Beaujoire-Louis-Fonteneau - French Ligue
  1
STATUS:CONFIRMED
END:VEVENT
BEGIN:VEVENT
UID:f485a48ac3e07f0e406878a782a81ff2@skysports.com
SEQUENCE:0
DTSTAMP:20260425T090807Z
DTSTART:20251214T161500Z
DTEND:20251214T181500Z
SUMMARY:RC Lens v Nice
LOCATION:Stade Bollaert-Delelis
DESCRIPTION:RC Lens v Nice - Stade Bollaert-Delelis - French Ligue 1
STATUS:CONFIRMED
END:VEVENT
BEGIN:VEVENT
UID:c4934c9fc29235bf32c1389168814d03@skysports.com
SEQUENCE:0
DTSTAMP:20260425T090807Z
DTSTART:20260102T194500Z
DTEND:20260102T214500Z
SUMMARY:Toulouse v RC Lens
LOCATION:Stadium Municipal\, Toulouse
DESCRIPTION:Toulouse v RC Lens - Stadium Municipal\, Toulouse - French Lig
 ue 1
STATUS:CONFIRMED
END:VEVENT
BEGIN:VEVENT
UID:39dcd6f7cbccf7d4934b2c7df5553fbc@skysports.com
SEQUENCE:0
DTSTAMP:20260425T090807Z
DTSTART:20260117T160000Z
DTEND:20260117T180000Z
SUMMARY:RC Lens v Auxerre
LOCATION:Stade Bollaert-Delelis
DESCRIPTION:RC Lens v Auxerre - Stade Bollaert-Delelis - French Ligue 1
STATUS:CONFIRMED
END:VEVENT
BEGIN:VEVENT
UID:ab45bafcd59b733523f01e41eeee7583@skysports.com
SEQUENCE:0
DTSTAMP:20260425T090807Z
DTSTART:20260124T200500Z
DTEND:20260124T220500Z
SUMMARY:Marseille v RC Lens
LOCATION:Orange Velodrome
DESCRIPTION:Marseille v RC Lens - Orange Velodrome - French Ligue 1
STATUS:CONFIRMED
END:VEVENT
BEGIN:VEVENT
UID:64a4c7b2cf6a114388bae31599cd09ea@skysports.com
SEQUENCE:0
DTSTAMP:20260425T090807Z
DTSTART:20260130T194500Z
DTEND:20260130T214500Z
SUMMARY:RC Lens v Le Havre
LOCATION:Stade Bollaert-Delelis
DESCRIPTION:RC Lens v Le Havre - Stade Bollaert-Delelis - French Ligue 1
STATUS:CONFIRMED
END:VEVENT
BEGIN:VEVENT
UID:3846bec30e1cafa2e13358103a50adee@skysports.com
SEQUENCE:0
DTSTAMP:20260425T090807Z
DTSTART:20260207T160000Z
DTEND:20260207T180000Z
SUMMARY:RC Lens v Rennes
LOCATION:Stade Bollaert-Delelis
DESCRIPTION:RC Lens v Rennes - Stade Bollaert-Delelis - French Ligue 1
STATUS:CONFIRMED
END:VEVENT
BEGIN:VEVENT
UID:7f0da07839425735318a131e3b844006@skysports.com
SEQUENCE:0
DTSTAMP:20260425T090807Z
DTSTART:20260214T200500Z
DTEND:20260214T220500Z
SUMMARY:Paris FC v RC Lens
LOCATION:Stade Jean Bouin
DESCRIPTION:Paris FC v RC Lens - Stade Jean Bouin - French Ligue 1
STATUS:CONFIRMED
END:VEVENT
BEGIN:VEVENT
UID:c4f401f14877f923a26ad82772737ead@skysports.com
SEQUENCE:0
DTSTAMP:20260425T090807Z
DTSTART:20260221T160000Z
DTEND:20260221T180000Z
SUMMARY:RC Lens v Monaco
LOCATION:Stade Bollaert-Delelis
DESCRIPTION:RC Lens v Monaco - Stade Bollaert-Delelis - French Ligue 1
STATUS:CONFIRMED
END:VEVENT
BEGIN:VEVENT
UID:ff4e68993a41cfd02cd14ae2abb25aa4@skysports.com
SEQUENCE:0
DTSTAMP:20260425T090807Z
DTSTART:20260227T194500Z
DTEND:20260227T214500Z
SUMMARY:Strasbourg v RC Lens
LOCATION:Stade de la Meinau
DESCRIPTION:Strasbourg v RC Lens - Stade de la Meinau - French Ligue 1
STATUS:CONFIRMED
END:VEVENT
BEGIN:VEVENT
UID:579a53a43e41410da6717a26c8e1a856@skysports.com
SEQUENCE:0
DTSTAMP:20260425T090807Z
DTSTART:20260308T140000Z
DTEND:20260308T160000Z
SUMMARY:RC Lens v Metz
LOCATION:Stade Bollaert-Delelis
DESCRIPTION:RC Lens v Metz - Stade Bollaert-Delelis - French Ligue 1
STATUS:CONFIRMED
END:VEVENT
BEGIN:VEVENT
UID:df356b54a8704e15be51dadbf34dea9a@skysports.com
SEQUENCE:0
DTSTAMP:20260425T090807Z
DTSTART:20260314T160000Z
DTEND:20260314T180000Z
SUMMARY:Lorient v RC Lens
LOCATION:Stade du Moustoir
DESCRIPTION:Lorient v RC Lens - Stade du Moustoir - French Ligue 1
STATUS:CONFIRMED
END:VEVENT
BEGIN:VEVENT
UID:c43039724afa05ae1a5b51abf015abaa@skysports.com
SEQUENCE:0
DTSTAMP:20260425T090807Z
DTSTART:20260320T194500Z
DTEND:20260320T214500Z
SUMMARY:RC Lens v Angers
LOCATION:Stade Bollaert-Delelis
DESCRIPTION:RC Lens v Angers - Stade Bollaert-Delelis - French Ligue 1
STATUS:CONFIRMED
END:VEVENT
BEGIN:VEVENT
UID:b128cbccaef23a7aaed916bb4ffa1339@skysports.com
SEQUENCE:0
DTSTAMP:20260425T090807Z
DTSTART:20260404T190500Z
DTEND:20260404T210500Z
SUMMARY:Lille v RC Lens
LOCATION:Stade Pierre-Mauroy
DESCRIPTION:Lille v RC Lens - Stade Pierre-Mauroy - French Ligue 1
STATUS:CONFIRMED
END:VEVENT
BEGIN:VEVENT
UID:d29ef8daf5ba70224818f84a3f651dc6@skysports.com
SEQUENCE:0
DTSTAMP:20260425T090807Z
DTSTART:20260513T190000Z
DTEND:20260513T210000Z
SUMMARY:RC Lens v Paris Saint-Germain
LOCATION:Stade Bollaert-Delelis
DESCRIPTION:RC Lens v Paris Saint-Germain - Stade Bollaert-Delelis - Frenc
 h Ligue 1
STATUS:CONFIRMED
END:VEVENT
BEGIN:VEVENT
UID:4f2f4a94ae306d08fe797d127785b3e5@skysports.com
SEQUENCE:0
DTSTAMP:20260425T090807Z
DTSTART:20260417T184500Z
DTEND:20260417T204500Z
SUMMARY:RC Lens v Toulouse
LOCATION:Stade Bollaert-Delelis
DESCRIPTION:RC Lens v Toulouse - Stade Bollaert-Delelis - French Ligue 1
STATUS:CONFIRMED
END:VEVENT
BEGIN:VEVENT
UID:8e2bcdaf4ff78ffbcfeb2b1efd9d9078@skysports.com
SEQUENCE:0
DTSTAMP:20260425T090807Z
DTSTART:20260424T184500Z
DTEND:20260424T204500Z
SUMMARY:Brest v RC Lens
LOCATION:Stade Francis-Le Ble
DESCRIPTION:Brest v RC Lens - Stade Francis-Le Ble - French Ligue 1
STATUS:CONFIRMED
END:VEVENT
BEGIN:VEVENT
UID:a181b608753d34e0baa201e21f4f749c@skysports.com
SEQUENCE:0
DTSTAMP:20260425T090807Z
DTSTART:20260502T190500Z
DTEND:20260502T210500Z
SUMMARY:Nice v RC Lens
LOCATION:Allianz Riviera
DESCRIPTION:Nice v RC Lens - Allianz Riviera - French Ligue 1
STATUS:CONFIRMED
END:VEVENT
BEGIN:VEVENT
UID:c090d1cde745b2a9b487d30c18bc7861@skysports.com
SEQUENCE:0
DTSTAMP:20260425T090807Z
DTSTART:20260508T184500Z
DTEND:20260508T204500Z
SUMMARY:RC Lens v Nantes
LOCATION:Stade Bollaert-Delelis
DESCRIPTION:RC Lens v Nantes - Stade Bollaert-Delelis - French Ligue 1
STATUS:CONFIRMED
END:VEVENT
BEGIN:VEVENT
UID:4f5e1c352838deda0ae82438626ea34c@skysports.com
SEQUENCE:0
DTSTAMP:20260425T090807Z
DTSTART:20260517T190000Z
DTEND:20260517T210000Z
SUMMARY:Lyon v RC Lens
LOCATION:Stade des Lumieres
DESCRIPTION:Lyon v RC Lens - Stade des Lumieres - French Ligue 1
STATUS:CONFIRMED
END:VEVENT
BEGIN:VEVENT
UID:38d7900530c66979bb29ca6c3cb9dcd6@skysports.com
SEQUENCE:0
DTSTAMP:20260425T090807Z
DTSTART:20251219T200000Z
DTEND:20251219T220000Z
SUMMARY:RC Lens v SC Feignies
LOCATION:Stade Bollaert-Delelis
DESCRIPTION:RC Lens v SC Feignies - Stade Bollaert-Delelis - Coupe de Fran
 ce
STATUS:CONFIRMED
END:VEVENT
BEGIN:VEVENT
UID:b59c0d6e77f5077c63b1abb9979b3c33@skysports.com
SEQUENCE:0
DTSTAMP:20260425T090807Z
DTSTART:20260111T130000Z
DTEND:20260111T150000Z
SUMMARY:Sochaux v RC Lens
LOCATION:Stade Bonal
DESCRIPTION:Sochaux v RC Lens - Stade Bonal - Coupe de France
STATUS:CONFIRMED
END:VEVENT
BEGIN:VEVENT
UID:8639db3e5cc54d58f1f237ff0cafcdac@skysports.com
SEQUENCE:0
DTSTAMP:20260425T090807Z
DTSTART:20260204T200000Z
DTEND:20260204T220000Z
SUMMARY:Troyes v RC Lens
LOCATION:Stade de l'Aube
DESCRIPTION:Troyes v RC Lens - Stade de l'Aube - Coupe de France
STATUS:CONFIRMED
END:VEVENT
BEGIN:VEVENT
UID:d6bb818c422a670771f46deaf42a32e0@skysports.com
SEQUENCE:0
DTSTAMP:20260425T090807Z
DTSTART:20260305T201000Z
DTEND:20260305T221000Z
SUMMARY:Lyon v RC Lens
LOCATION:Stade des Lumieres
DESCRIPTION:Lyon v RC Lens - Stade des Lumieres - Coupe de France
STATUS:CONFIRMED
END:VEVENT
BEGIN:VEVENT
UID:cddc202a97eea17026142b1004582bf4@skysports.com
SEQUENCE:0
DTSTAMP:20260425T090807Z
DTSTART:20260421T191000Z
DTEND:20260421T211000Z
SUMMARY:RC Lens v Toulouse
LOCATION:Stade Bollaert-Delelis
DESCRIPTION:RC Lens v Toulouse - Stade Bollaert-Delelis - Coupe de France
STATUS:CONFIRMED
END:VEVENT
BEGIN:VEVENT
UID:887dc259fb8166efd084cab7857c63bb@skysports.com
SEQUENCE:0
DTSTAMP:20260425T090807Z
DTSTART:20260522T190000Z
DTEND:20260522T210000Z
SUMMARY:RC Lens v Nice
LOCATION:Stade De France
DESCRIPTION:RC Lens v Nice - Stade De France - Coupe de France
STATUS:CONFIRMED
END:VEVENT
END:VCALENDAR