BEGIN:VCALENDAR
VERSION:2.0
PRODID:-//Sky Sports SSDM//NONSGML Event Calendar//EN
URL:https://www.skysports.com/calendars/football/fixtures/teams/real-socie
 dad
CALSCALE:GREGORIAN
METHOD:PUBLISH
NAME:Real Sociedad Fixtures
X-WR-CALNAME:Real Sociedad Fixtures
X-WR-CALDESC:Real Sociedad fixtures provided by Sky Sports (https://www.sk
 ysports.com)
REFRESH-INTERVAL;VALUE=DURATION:PT1H
X-PUBLISHED-TTL:PT1H
BEGIN:VEVENT
UID:37d4d9d11d04fa9d4721af8d91e23839@skysports.com
SEQUENCE:0
DTSTAMP:20260425T091113Z
DTSTART:20250816T193000Z
DTEND:20250816T213000Z
SUMMARY:Valencia v Real Sociedad
LOCATION:Mestalla
DESCRIPTION:Valencia v Real Sociedad - Mestalla - Spanish La Liga
STATUS:CONFIRMED
END:VEVENT
BEGIN:VEVENT
UID:8b00d00e75c0e44cd427f90babc616fe@skysports.com
SEQUENCE:0
DTSTAMP:20260425T091113Z
DTSTART:20250824T173000Z
DTEND:20250824T193000Z
SUMMARY:Real Sociedad v Espanyol
LOCATION:Reale Seguros Stadium
DESCRIPTION:Real Sociedad v Espanyol - Reale Seguros Stadium - Spanish La 
 Liga
STATUS:CONFIRMED
END:VEVENT
BEGIN:VEVENT
UID:7d07fa57600b0723e7552303b8eafdd5@skysports.com
SEQUENCE:0
DTSTAMP:20260425T091113Z
DTSTART:20250830T170000Z
DTEND:20250830T190000Z
SUMMARY:Real Oviedo v Real Sociedad
LOCATION:Estadio Carlos Tartiere
DESCRIPTION:Real Oviedo v Real Sociedad - Estadio Carlos Tartiere - Spanis
 h La Liga
STATUS:CONFIRMED
END:VEVENT
BEGIN:VEVENT
UID:c6cba7071ff75e462cad97200655a35b@skysports.com
SEQUENCE:0
DTSTAMP:20260425T091113Z
DTSTART:20250913T141500Z
DTEND:20250913T161500Z
SUMMARY:Real Sociedad v Real Madrid
LOCATION:Reale Seguros Stadium
DESCRIPTION:Real Sociedad v Real Madrid - Reale Seguros Stadium - Spanish 
 La Liga
STATUS:CONFIRMED
END:VEVENT
BEGIN:VEVENT
UID:71b88683a2c84e667d0acc95d4e0b78c@skysports.com
SEQUENCE:0
DTSTAMP:20260425T091113Z
DTSTART:20250919T190000Z
DTEND:20250919T210000Z
SUMMARY:Real Betis v Real Sociedad
LOCATION:Estadio Olimpico de la Cartuja
DESCRIPTION:Real Betis v Real Sociedad - Estadio Olimpico de la Cartuja - 
 Spanish La Liga
STATUS:CONFIRMED
END:VEVENT
BEGIN:VEVENT
UID:1f0bf0070bcbaf7d460bcc43e2912610@skysports.com
SEQUENCE:0
DTSTAMP:20260425T091113Z
DTSTART:20250924T193000Z
DTEND:20250924T213000Z
SUMMARY:Real Sociedad v Real Mallorca
LOCATION:Reale Seguros Stadium
DESCRIPTION:Real Sociedad v Real Mallorca - Reale Seguros Stadium - Spanis
 h La Liga
STATUS:CONFIRMED
END:VEVENT
BEGIN:VEVENT
UID:b0e6c652a75a6d9355d12138f9266ba7@skysports.com
SEQUENCE:0
DTSTAMP:20260425T091113Z
DTSTART:20250928T163000Z
DTEND:20250928T183000Z
SUMMARY:Barcelona v Real Sociedad
LOCATION:Estadio Olimpico de Montjuic
DESCRIPTION:Barcelona v Real Sociedad - Estadio Olimpico de Montjuic - Spa
 nish La Liga
STATUS:CONFIRMED
END:VEVENT
BEGIN:VEVENT
UID:3fb16a2a024bbf3f390b9167e7a57245@skysports.com
SEQUENCE:0
DTSTAMP:20260425T091113Z
DTSTART:20251005T163000Z
DTEND:20251005T183000Z
SUMMARY:Real Sociedad v Rayo Vallecano
LOCATION:Reale Seguros Stadium
DESCRIPTION:Real Sociedad v Rayo Vallecano - Reale Seguros Stadium - Spani
 sh La Liga
STATUS:CONFIRMED
END:VEVENT
BEGIN:VEVENT
UID:3295320c8d03476665a13685d5d456f2@skysports.com
SEQUENCE:0
DTSTAMP:20260425T091113Z
DTSTART:20251019T141500Z
DTEND:20251019T161500Z
SUMMARY:Celta Vigo v Real Sociedad
LOCATION:Estadio Abanca-Balaidos
DESCRIPTION:Celta Vigo v Real Sociedad - Estadio Abanca-Balaidos - Spanish
  La Liga
STATUS:CONFIRMED
END:VEVENT
BEGIN:VEVENT
UID:11f77db0dec9ebd624bd9bdcd7c7ee81@skysports.com
SEQUENCE:0
DTSTAMP:20260425T091113Z
DTSTART:20251024T190000Z
DTEND:20251024T210000Z
SUMMARY:Real Sociedad v Sevilla
LOCATION:Reale Seguros Stadium
DESCRIPTION:Real Sociedad v Sevilla - Reale Seguros Stadium - Spanish La L
 iga
STATUS:CONFIRMED
END:VEVENT
BEGIN:VEVENT
UID:01b94c6a8de3f5da6af72667a8ec3839@skysports.com
SEQUENCE:0
DTSTAMP:20260425T091113Z
DTSTART:20251101T173000Z
DTEND:20251101T193000Z
SUMMARY:Real Sociedad v Athletic Club
LOCATION:Reale Seguros Stadium
DESCRIPTION:Real Sociedad v Athletic Club - Reale Seguros Stadium - Spanis
 h La Liga
STATUS:CONFIRMED
END:VEVENT
BEGIN:VEVENT
UID:37143d35ad72cf98e504c0236e53b6fb@skysports.com
SEQUENCE:0
DTSTAMP:20260425T091113Z
DTSTART:20251107T200000Z
DTEND:20251107T220000Z
SUMMARY:Elche v Real Sociedad
LOCATION:Martinez Valero
DESCRIPTION:Elche v Real Sociedad - Martinez Valero - Spanish La Liga
STATUS:CONFIRMED
END:VEVENT
BEGIN:VEVENT
UID:d4069d788fa267fc07ae7115121ad821@skysports.com
SEQUENCE:0
DTSTAMP:20260425T091113Z
DTSTART:20251122T173000Z
DTEND:20251122T193000Z
SUMMARY:Osasuna v Real Sociedad
LOCATION:El Sadar
DESCRIPTION:Osasuna v Real Sociedad - El Sadar - Spanish La Liga
STATUS:CONFIRMED
END:VEVENT
BEGIN:VEVENT
UID:2585dd6f8eab5d6e73866d317aac9d88@skysports.com
SEQUENCE:0
DTSTAMP:20260425T091113Z
DTSTART:20251130T130000Z
DTEND:20251130T150000Z
SUMMARY:Real Sociedad v Villarreal
LOCATION:Reale Seguros Stadium
DESCRIPTION:Real Sociedad v Villarreal - Reale Seguros Stadium - Spanish L
 a Liga
STATUS:CONFIRMED
END:VEVENT
BEGIN:VEVENT
UID:152fc4655224e915fc0d8919d801c250@skysports.com
SEQUENCE:0
DTSTAMP:20260425T091113Z
DTSTART:20251206T151500Z
DTEND:20251206T171500Z
SUMMARY:Alaves v Real Sociedad
LOCATION:Mendizorroza
DESCRIPTION:Alaves v Real Sociedad - Mendizorroza - Spanish La Liga
STATUS:CONFIRMED
END:VEVENT
BEGIN:VEVENT
UID:72e049f1f871f4fa4947e4cb41cc01d7@skysports.com
SEQUENCE:0
DTSTAMP:20260425T091113Z
DTSTART:20251212T200000Z
DTEND:20251212T220000Z
SUMMARY:Real Sociedad v Girona
LOCATION:Reale Seguros Stadium
DESCRIPTION:Real Sociedad v Girona - Reale Seguros Stadium - Spanish La Li
 ga
STATUS:CONFIRMED
END:VEVENT
BEGIN:VEVENT
UID:23272d339d4f2660002c1431515e5d2a@skysports.com
SEQUENCE:0
DTSTAMP:20260425T091113Z
DTSTART:20251220T151500Z
DTEND:20251220T171500Z
SUMMARY:Levante v Real Sociedad
LOCATION:Ciutat de Valencia
DESCRIPTION:Levante v Real Sociedad - Ciutat de Valencia - Spanish La Liga
STATUS:CONFIRMED
END:VEVENT
BEGIN:VEVENT
UID:28097e36447cb1d70c7e5be2bbc5011b@skysports.com
SEQUENCE:0
DTSTAMP:20260425T091113Z
DTSTART:20260104T200000Z
DTEND:20260104T220000Z
SUMMARY:Real Sociedad v Atletico Madrid
LOCATION:Reale Seguros Stadium
DESCRIPTION:Real Sociedad v Atletico Madrid - Reale Seguros Stadium - Span
 ish La Liga
STATUS:CONFIRMED
END:VEVENT
BEGIN:VEVENT
UID:bea586560ea3cee2305a3750166c1183@skysports.com
SEQUENCE:0
DTSTAMP:20260425T091113Z
DTSTART:20260109T200000Z
DTEND:20260109T220000Z
SUMMARY:Getafe v Real Sociedad
LOCATION:Estadio Coliseum
DESCRIPTION:Getafe v Real Sociedad - Estadio Coliseum - Spanish La Liga
STATUS:CONFIRMED
END:VEVENT
BEGIN:VEVENT
UID:81072c2b69a7f0a272537dbfdd879b4e@skysports.com
SEQUENCE:0
DTSTAMP:20260425T091113Z
DTSTART:20260118T200000Z
DTEND:20260118T220000Z
SUMMARY:Real Sociedad v Barcelona
LOCATION:Reale Seguros Stadium
DESCRIPTION:Real Sociedad v Barcelona - Reale Seguros Stadium - Spanish La
  Liga
STATUS:CONFIRMED
END:VEVENT
BEGIN:VEVENT
UID:c16ee0636d5cfb88bf7825806d13b3f6@skysports.com
SEQUENCE:0
DTSTAMP:20260425T091113Z
DTSTART:20260125T173000Z
DTEND:20260125T193000Z
SUMMARY:Real Sociedad v Celta Vigo
LOCATION:Reale Seguros Stadium
DESCRIPTION:Real Sociedad v Celta Vigo - Reale Seguros Stadium - Spanish L
 a Liga
STATUS:CONFIRMED
END:VEVENT
BEGIN:VEVENT
UID:ce6387dbf055d383a51b4b6f404d482c@skysports.com
SEQUENCE:0
DTSTAMP:20260425T091113Z
DTSTART:20260201T200000Z
DTEND:20260201T220000Z
SUMMARY:Athletic Club v Real Sociedad
LOCATION:San Mames
DESCRIPTION:Athletic Club v Real Sociedad - San Mames - Spanish La Liga
STATUS:CONFIRMED
END:VEVENT
BEGIN:VEVENT
UID:0e0fb2a6dc35592709f5b038d31b9950@skysports.com
SEQUENCE:0
DTSTAMP:20260425T091113Z
DTSTART:20260207T200000Z
DTEND:20260207T220000Z
SUMMARY:Real Sociedad v Elche
LOCATION:Reale Seguros Stadium
DESCRIPTION:Real Sociedad v Elche - Reale Seguros Stadium - Spanish La Lig
 a
STATUS:CONFIRMED
END:VEVENT
BEGIN:VEVENT
UID:9a229f90a1d9326d472df6b5dd1ee6a9@skysports.com
SEQUENCE:0
DTSTAMP:20260425T091113Z
DTSTART:20260214T200000Z
DTEND:20260214T220000Z
SUMMARY:Real Madrid v Real Sociedad
LOCATION:Estadio Bernabeu
DESCRIPTION:Real Madrid v Real Sociedad - Estadio Bernabeu - Spanish La Li
 ga
STATUS:CONFIRMED
END:VEVENT
BEGIN:VEVENT
UID:a93d6a2faf5d51380d340f554fd442f8@skysports.com
SEQUENCE:0
DTSTAMP:20260425T091113Z
DTSTART:20260221T130000Z
DTEND:20260221T150000Z
SUMMARY:Real Sociedad v Real Oviedo
LOCATION:Reale Seguros Stadium
DESCRIPTION:Real Sociedad v Real Oviedo - Reale Seguros Stadium - Spanish 
 La Liga
STATUS:CONFIRMED
END:VEVENT
BEGIN:VEVENT
UID:979f5158246b7e6b53d2c508bb1b9d81@skysports.com
SEQUENCE:0
DTSTAMP:20260425T091113Z
DTSTART:20260228T173000Z
DTEND:20260228T193000Z
SUMMARY:Real Mallorca v Real Sociedad
LOCATION:Iberostar Estadi
DESCRIPTION:Real Mallorca v Real Sociedad - Iberostar Estadi - Spanish La 
 Liga
STATUS:CONFIRMED
END:VEVENT
BEGIN:VEVENT
UID:46206fdb59f4b38211a918cff2a6e171@skysports.com
SEQUENCE:0
DTSTAMP:20260425T091113Z
DTSTART:20260307T173000Z
DTEND:20260307T193000Z
SUMMARY:Atletico Madrid v Real Sociedad
LOCATION:Wanda Metropolitano
DESCRIPTION:Atletico Madrid v Real Sociedad - Wanda Metropolitano - Spanis
 h La Liga
STATUS:CONFIRMED
END:VEVENT
BEGIN:VEVENT
UID:7ecf8ea5b1a5f6989c638fac1982296f@skysports.com
SEQUENCE:0
DTSTAMP:20260425T091113Z
DTSTART:20260315T200000Z
DTEND:20260315T220000Z
SUMMARY:Real Sociedad v Osasuna
LOCATION:Reale Seguros Stadium
DESCRIPTION:Real Sociedad v Osasuna - Reale Seguros Stadium - Spanish La L
 iga
STATUS:CONFIRMED
END:VEVENT
BEGIN:VEVENT
UID:68f23800881e0596af0b65e8f0c6ff6d@skysports.com
SEQUENCE:0
DTSTAMP:20260425T091113Z
DTSTART:20260320T200000Z
DTEND:20260320T220000Z
SUMMARY:Villarreal v Real Sociedad
LOCATION:Estadio de la Ceramica
DESCRIPTION:Villarreal v Real Sociedad - Estadio de la Ceramica - Spanish 
 La Liga
STATUS:CONFIRMED
END:VEVENT
BEGIN:VEVENT
UID:b8f81f691b8adb700056e60e264d6194@skysports.com
SEQUENCE:0
DTSTAMP:20260425T091113Z
DTSTART:20260404T120000Z
DTEND:20260404T140000Z
SUMMARY:Real Sociedad v Levante
LOCATION:Reale Seguros Stadium
DESCRIPTION:Real Sociedad v Levante - Reale Seguros Stadium - Spanish La L
 iga
STATUS:CONFIRMED
END:VEVENT
BEGIN:VEVENT
UID:aa6705aed6b3b5d276542fc14f5ac775@skysports.com
SEQUENCE:0
DTSTAMP:20260425T091113Z
DTSTART:20260411T120000Z
DTEND:20260411T140000Z
SUMMARY:Real Sociedad v Alaves
LOCATION:Reale Seguros Stadium
DESCRIPTION:Real Sociedad v Alaves - Reale Seguros Stadium - Spanish La Li
 ga
STATUS:CONFIRMED
END:VEVENT
BEGIN:VEVENT
UID:2247fc5dbcda8a0e71569907521b5501@skysports.com
SEQUENCE:0
DTSTAMP:20260425T091113Z
DTSTART:20260426T120000Z
DTEND:20260426T140000Z
SUMMARY:Rayo Vallecano v Real Sociedad
LOCATION:Campo de Futbol de Vallecas
DESCRIPTION:Rayo Vallecano v Real Sociedad - Campo de Futbol de Vallecas -
  Spanish La Liga
STATUS:CONFIRMED
END:VEVENT
BEGIN:VEVENT
UID:c5b3e681da795cefa36e9e304810eaa4@skysports.com
SEQUENCE:0
DTSTAMP:20260425T091113Z
DTSTART:20260422T180000Z
DTEND:20260422T200000Z
SUMMARY:Real Sociedad v Getafe
LOCATION:Reale Seguros Stadium
DESCRIPTION:Real Sociedad v Getafe - Reale Seguros Stadium - Spanish La Li
 ga
STATUS:CONFIRMED
END:VEVENT
BEGIN:VEVENT
UID:f878baa7f3c2a0c8616ff08436fc9042@skysports.com
SEQUENCE:0
DTSTAMP:20260425T091113Z
DTSTART:20260504T190000Z
DTEND:20260504T210000Z
SUMMARY:Sevilla v Real Sociedad
LOCATION:Ramon Sanchez Pizjuan
DESCRIPTION:Sevilla v Real Sociedad - Ramon Sanchez Pizjuan - Spanish La L
 iga
STATUS:CONFIRMED
END:VEVENT
BEGIN:VEVENT
UID:53475ceee6dc95ed440fb3c522684449@skysports.com
SEQUENCE:0
DTSTAMP:20260425T091113Z
DTSTART:20260509T190000Z
DTEND:20260509T210000Z
SUMMARY:Real Sociedad v Real Betis
LOCATION:Reale Seguros Stadium
DESCRIPTION:Real Sociedad v Real Betis - Reale Seguros Stadium - Spanish L
 a Liga
STATUS:CONFIRMED
END:VEVENT
BEGIN:VEVENT
UID:61ca1a7decf738e7e8ebfeefab1c94c7@skysports.com
SEQUENCE:0
DTSTAMP:20260425T091113Z
DTSTART:20260514T180000Z
DTEND:20260514T200000Z
SUMMARY:Girona v Real Sociedad
LOCATION:Municipal de Montilivi
DESCRIPTION:Girona v Real Sociedad - Municipal de Montilivi - Spanish La L
 iga
STATUS:CONFIRMED
END:VEVENT
BEGIN:VEVENT
UID:7ce38f0c6e486a12123da69dcb4c5841@skysports.com
SEQUENCE:0
DTSTAMP:20260425T091113Z
DTSTART:20260517T150000Z
DTEND:20260517T170000Z
SUMMARY:Real Sociedad v Valencia
LOCATION:Reale Seguros Stadium
DESCRIPTION:Real Sociedad v Valencia - Reale Seguros Stadium - Spanish La 
 Liga
STATUS:CONFIRMED
END:VEVENT
BEGIN:VEVENT
UID:6ca84f97f8d9c24e6a718525ad55534d@skysports.com
SEQUENCE:0
DTSTAMP:20260425T091113Z
DTSTART:20260524T150000Z
DTEND:20260524T170000Z
SUMMARY:Espanyol v Real Sociedad
LOCATION:Cornella - El Prat
DESCRIPTION:Espanyol v Real Sociedad - Cornella - El Prat - Spanish La Lig
 a
STATUS:CONFIRMED
END:VEVENT
BEGIN:VEVENT
UID:e917e498e59290c2f17feeec49f2a544@skysports.com
SEQUENCE:0
DTSTAMP:20260425T091113Z
DTSTART:20251028T200000Z
DTEND:20251028T220000Z
SUMMARY:Negreira v Real Sociedad
LOCATION:Estadio Municipal Jesús Garcia Calvo
DESCRIPTION:Negreira v Real Sociedad - Estadio Municipal Jesús Garcia Cal
 vo - Spanish Copa del Rey
STATUS:CONFIRMED
END:VEVENT
BEGIN:VEVENT
UID:dad9bf26f10a652f5df8baa01c0a2acf@skysports.com
SEQUENCE:0
DTSTAMP:20260425T091113Z
DTSTART:20251203T200000Z
DTEND:20251203T220000Z
SUMMARY:Reddis v Real Sociedad
LOCATION:Camp Nou Municipal
DESCRIPTION:Reddis v Real Sociedad - Camp Nou Municipal - Spanish Copa del
  Rey
STATUS:CONFIRMED
END:VEVENT
BEGIN:VEVENT
UID:439de6374667b2c5d843c34f0d994486@skysports.com
SEQUENCE:0
DTSTAMP:20260425T091113Z
DTSTART:20251216T200000Z
DTEND:20251216T220000Z
SUMMARY:Eldense v Real Sociedad
LOCATION:Estadio Municipal Nuevo Pepico Amat
DESCRIPTION:Eldense v Real Sociedad - Estadio Municipal Nuevo Pepico Amat 
 - Spanish Copa del Rey
STATUS:CONFIRMED
END:VEVENT
BEGIN:VEVENT
UID:a1acfdcedcbefc8c657fa0f8027473a5@skysports.com
SEQUENCE:0
DTSTAMP:20260425T091113Z
DTSTART:20260113T200000Z
DTEND:20260113T220000Z
SUMMARY:Real Sociedad v Osasuna
LOCATION:Reale Seguros Stadium
DESCRIPTION:Real Sociedad v Osasuna - Reale Seguros Stadium - Spanish Copa
  del Rey
STATUS:CONFIRMED
END:VEVENT
BEGIN:VEVENT
UID:c5e812f5de8bc61efc4504b6e1490594@skysports.com
SEQUENCE:0
DTSTAMP:20260425T091113Z
DTSTART:20260204T200000Z
DTEND:20260204T220000Z
SUMMARY:Alaves v Real Sociedad
LOCATION:Mendizorroza
DESCRIPTION:Alaves v Real Sociedad - Mendizorroza - Spanish Copa del Rey
STATUS:CONFIRMED
END:VEVENT
BEGIN:VEVENT
UID:f755e5918c22d327914789f0d1f335ea@skysports.com
SEQUENCE:0
DTSTAMP:20260425T091113Z
DTSTART:20260211T200000Z
DTEND:20260211T220000Z
SUMMARY:Athletic Club v Real Sociedad
LOCATION:San Mames
DESCRIPTION:Athletic Club v Real Sociedad - San Mames - Spanish Copa del R
 ey
STATUS:CONFIRMED
END:VEVENT
BEGIN:VEVENT
UID:4a6a7214fea10f13421971cceff0304a@skysports.com
SEQUENCE:0
DTSTAMP:20260425T091113Z
DTSTART:20260304T200000Z
DTEND:20260304T220000Z
SUMMARY:Real Sociedad v Athletic Club
LOCATION:Reale Seguros Stadium
DESCRIPTION:Real Sociedad v Athletic Club - Reale Seguros Stadium - Spanis
 h Copa del Rey
STATUS:CONFIRMED
END:VEVENT
BEGIN:VEVENT
UID:ee728b70107e4d00e1cb35380a3f7961@skysports.com
SEQUENCE:0
DTSTAMP:20260425T091113Z
DTSTART:20260418T190000Z
DTEND:20260418T210000Z
SUMMARY:Atletico Madrid v Real Sociedad
LOCATION:Estadio Olimpico de la Cartuja
DESCRIPTION:Atletico Madrid v Real Sociedad - Estadio Olimpico de la Cartu
 ja - Spanish Copa del Rey
STATUS:CONFIRMED
END:VEVENT
END:VCALENDAR