BEGIN:VCALENDAR
VERSION:2.0
PRODID:-//Sky Sports SSDM//NONSGML Event Calendar//EN
URL:https://www.skysports.com/calendars/football/fixtures/teams/rotherham-
 united
CALSCALE:GREGORIAN
METHOD:PUBLISH
NAME:Rotherham United Fixtures
X-WR-CALNAME:Rotherham United Fixtures
X-WR-CALDESC:Rotherham United fixtures provided by Sky Sports (https://www
 .skysports.com)
REFRESH-INTERVAL;VALUE=DURATION:PT1H
X-PUBLISHED-TTL:PT1H
BEGIN:VEVENT
UID:e016253aa1932893720c0041483d72fc@skysports.com
SEQUENCE:0
DTSTAMP:20260425T090509Z
DTSTART:20250802T140000Z
DTEND:20250802T160000Z
SUMMARY:Rotherham United v Port Vale
LOCATION:New York Stadium
DESCRIPTION:Rotherham United v Port Vale - New York Stadium - Sky Bet Leag
 ue One - Live on Sky Sports+
STATUS:CONFIRMED
END:VEVENT
BEGIN:VEVENT
UID:542e01110960cf582ab63b6ada2077a1@skysports.com
SEQUENCE:0
DTSTAMP:20260425T090509Z
DTSTART:20250809T140000Z
DTEND:20250809T160000Z
SUMMARY:Stevenage v Rotherham United
LOCATION:Lamex Stadium
DESCRIPTION:Stevenage v Rotherham United - Lamex Stadium - Sky Bet League 
 One
STATUS:CONFIRMED
END:VEVENT
BEGIN:VEVENT
UID:070533dd57d705b79621c55fd4948000@skysports.com
SEQUENCE:0
DTSTAMP:20260425T090509Z
DTSTART:20250816T140000Z
DTEND:20250816T160000Z
SUMMARY:Cardiff City v Rotherham United
LOCATION:Cardiff City Stadium
DESCRIPTION:Cardiff City v Rotherham United - Cardiff City Stadium - Sky B
 et League One
STATUS:CONFIRMED
END:VEVENT
BEGIN:VEVENT
UID:81687bf3317e472597e049d7484dc2a6@skysports.com
SEQUENCE:0
DTSTAMP:20260425T090509Z
DTSTART:20251104T194500Z
DTEND:20251104T214500Z
SUMMARY:Rotherham United v Burton Albion
LOCATION:New York Stadium
DESCRIPTION:Rotherham United v Burton Albion - New York Stadium - Sky Bet 
 League One - Live on Sky Sports+
STATUS:CONFIRMED
END:VEVENT
BEGIN:VEVENT
UID:d01db0791e49dc8302c74336a1368b04@skysports.com
SEQUENCE:0
DTSTAMP:20260425T090509Z
DTSTART:20250823T113000Z
DTEND:20250823T133000Z
SUMMARY:Rotherham United v Wigan Athletic
LOCATION:New York Stadium
DESCRIPTION:Rotherham United v Wigan Athletic - New York Stadium - Sky Bet
  League One - Live on Sky Sports+
STATUS:CONFIRMED
END:VEVENT
BEGIN:VEVENT
UID:08fb50761e055ff11a883e0f43317d64@skysports.com
SEQUENCE:0
DTSTAMP:20260425T090509Z
DTSTART:20250830T113000Z
DTEND:20250830T133000Z
SUMMARY:Doncaster Rovers v Rotherham United
LOCATION:Eco-Power Stadium
DESCRIPTION:Doncaster Rovers v Rotherham United - Eco-Power Stadium - Sky 
 Bet League One - Live on Sky Sports+
STATUS:CONFIRMED
END:VEVENT
BEGIN:VEVENT
UID:7cbfec3373b456a7db3d88e0999dfac0@skysports.com
SEQUENCE:0
DTSTAMP:20260425T090509Z
DTSTART:20250906T140000Z
DTEND:20250906T160000Z
SUMMARY:Rotherham United v Exeter City
LOCATION:New York Stadium
DESCRIPTION:Rotherham United v Exeter City - New York Stadium - Sky Bet Le
 ague One - Live on Sky Sports+
STATUS:CONFIRMED
END:VEVENT
BEGIN:VEVENT
UID:ade29e6a106f10aefda09783b3477a53@skysports.com
SEQUENCE:0
DTSTAMP:20260425T090509Z
DTSTART:20250913T140000Z
DTEND:20250913T160000Z
SUMMARY:AFC Wimbledon v Rotherham United
LOCATION:The Cherry Red Records Stadium
DESCRIPTION:AFC Wimbledon v Rotherham United - The Cherry Red Records Stad
 ium - Sky Bet League One
STATUS:CONFIRMED
END:VEVENT
BEGIN:VEVENT
UID:086b79d88e79b6e87cb6392704174b08@skysports.com
SEQUENCE:0
DTSTAMP:20260425T090509Z
DTSTART:20250920T140000Z
DTEND:20250920T160000Z
SUMMARY:Rotherham United v Stockport County
LOCATION:New York Stadium
DESCRIPTION:Rotherham United v Stockport County - New York Stadium - Sky B
 et League One
STATUS:CONFIRMED
END:VEVENT
BEGIN:VEVENT
UID:dbc68e35d7663fa1d842f53879c071a5@skysports.com
SEQUENCE:0
DTSTAMP:20260425T090509Z
DTSTART:20250927T140000Z
DTEND:20250927T160000Z
SUMMARY:Mansfield Town v Rotherham United
LOCATION:One Call Stadium
DESCRIPTION:Mansfield Town v Rotherham United - One Call Stadium - Sky Bet
  League One
STATUS:CONFIRMED
END:VEVENT
BEGIN:VEVENT
UID:a3546d56d842a46e1ea91d7dff3fa3f4@skysports.com
SEQUENCE:0
DTSTAMP:20260425T090509Z
DTSTART:20251002T190000Z
DTEND:20251002T210000Z
SUMMARY:Rotherham United v Bradford City
LOCATION:New York Stadium
DESCRIPTION:Rotherham United v Bradford City - New York Stadium - Sky Bet 
 League One - Live on Sky Sports Football
STATUS:CONFIRMED
END:VEVENT
BEGIN:VEVENT
UID:beafb1cbd4ff2ffda7e0180c289f5905@skysports.com
SEQUENCE:0
DTSTAMP:20260425T090509Z
DTSTART:20251011T130000Z
DTEND:20251011T150000Z
SUMMARY:Northampton Town v Rotherham United
LOCATION:Sixfields Stadium
DESCRIPTION:Northampton Town v Rotherham United - Sixfields Stadium - Sky 
 Bet League One - Live on Sky Sports+
STATUS:CONFIRMED
END:VEVENT
BEGIN:VEVENT
UID:1f830b95e24a907048485980a39a346f@skysports.com
SEQUENCE:0
DTSTAMP:20260425T090509Z
DTSTART:20251018T140000Z
DTEND:20251018T160000Z
SUMMARY:Rotherham United v Leyton Orient
LOCATION:New York Stadium
DESCRIPTION:Rotherham United v Leyton Orient - New York Stadium - Sky Bet 
 League One
STATUS:CONFIRMED
END:VEVENT
BEGIN:VEVENT
UID:76372fd46b09a769523dc87a46e2d40c@skysports.com
SEQUENCE:0
DTSTAMP:20260425T090509Z
DTSTART:20251025T140000Z
DTEND:20251025T160000Z
SUMMARY:Barnsley v Rotherham United
LOCATION:Oakwell Stadium
DESCRIPTION:Barnsley v Rotherham United - Oakwell Stadium - Sky Bet League
  One
STATUS:CONFIRMED
END:VEVENT
BEGIN:VEVENT
UID:fd41611db38cdc8faf5668e6319af188@skysports.com
SEQUENCE:0
DTSTAMP:20260425T090509Z
DTSTART:20251108T150000Z
DTEND:20251108T170000Z
SUMMARY:Rotherham United v Lincoln City
LOCATION:New York Stadium
DESCRIPTION:Rotherham United v Lincoln City - New York Stadium - Sky Bet L
 eague One
STATUS:CONFIRMED
END:VEVENT
BEGIN:VEVENT
UID:39279f80d89051b50e86f9eacb897adb@skysports.com
SEQUENCE:0
DTSTAMP:20260425T090509Z
DTSTART:20251115T150000Z
DTEND:20251115T170000Z
SUMMARY:Luton Town v Rotherham United
LOCATION:Kenilworth Road
DESCRIPTION:Luton Town v Rotherham United - Kenilworth Road - Sky Bet Leag
 ue One - Live on Sky Sports+
STATUS:CONFIRMED
END:VEVENT
BEGIN:VEVENT
UID:b148b7377198799e9c1c58f7c75c2e33@skysports.com
SEQUENCE:0
DTSTAMP:20260425T090509Z
DTSTART:20251122T150000Z
DTEND:20251122T170000Z
SUMMARY:Reading v Rotherham United
LOCATION:Select Car Leasing Stadium
DESCRIPTION:Reading v Rotherham United - Select Car Leasing Stadium - Sky 
 Bet League One
STATUS:CONFIRMED
END:VEVENT
BEGIN:VEVENT
UID:9053521f84845042684088ebe965d29b@skysports.com
SEQUENCE:0
DTSTAMP:20260425T090509Z
DTSTART:20251129T150000Z
DTEND:20251129T170000Z
SUMMARY:Rotherham United v Wycombe Wanderers
LOCATION:New York Stadium
DESCRIPTION:Rotherham United v Wycombe Wanderers - New York Stadium - Sky 
 Bet League One
STATUS:CONFIRMED
END:VEVENT
BEGIN:VEVENT
UID:1b3c94dd9c7e569acecc56997bc93e60@skysports.com
SEQUENCE:0
DTSTAMP:20260425T090509Z
DTSTART:20251210T194500Z
DTEND:20251210T214500Z
SUMMARY:Rotherham United v Blackpool
LOCATION:New York Stadium
DESCRIPTION:Rotherham United v Blackpool - New York Stadium - Sky Bet Leag
 ue One - Live on Sky Sports+
STATUS:CONFIRMED
END:VEVENT
BEGIN:VEVENT
UID:97759c7cdd7c6ce494fc9449d61008b3@skysports.com
SEQUENCE:0
DTSTAMP:20260425T090509Z
DTSTART:20251213T150000Z
DTEND:20251213T170000Z
SUMMARY:Plymouth Argyle v Rotherham United
LOCATION:Home Park
DESCRIPTION:Plymouth Argyle v Rotherham United - Home Park - Sky Bet Leagu
 e One
STATUS:CONFIRMED
END:VEVENT
BEGIN:VEVENT
UID:b4d428c06d65fbb3645c643cd1c7499b@skysports.com
SEQUENCE:0
DTSTAMP:20260425T090509Z
DTSTART:20251220T150000Z
DTEND:20251220T170000Z
SUMMARY:Rotherham United v Huddersfield Town
LOCATION:New York Stadium
DESCRIPTION:Rotherham United v Huddersfield Town - New York Stadium - Sky 
 Bet League One
STATUS:CONFIRMED
END:VEVENT
BEGIN:VEVENT
UID:78d9131a14d4ba5c5130bb6c0d77b039@skysports.com
SEQUENCE:0
DTSTAMP:20260425T090509Z
DTSTART:20251226T150000Z
DTEND:20251226T170000Z
SUMMARY:Bolton Wanderers v Rotherham United
LOCATION:University of Bolton Stadium
DESCRIPTION:Bolton Wanderers v Rotherham United - University of Bolton Sta
 dium - Sky Bet League One - Live on Sky Sports+
STATUS:CONFIRMED
END:VEVENT
BEGIN:VEVENT
UID:6c2724a75932b35e7a0730db3a50cab2@skysports.com
SEQUENCE:0
DTSTAMP:20260425T090509Z
DTSTART:20251229T194500Z
DTEND:20251229T214500Z
SUMMARY:Blackpool v Rotherham United
LOCATION:Bloomfield Road
DESCRIPTION:Blackpool v Rotherham United - Bloomfield Road - Sky Bet Leagu
 e One
STATUS:CONFIRMED
END:VEVENT
BEGIN:VEVENT
UID:871cc298f70b8d0218402673169b0e4c@skysports.com
SEQUENCE:0
DTSTAMP:20260425T090509Z
DTSTART:20260101T150000Z
DTEND:20260101T170000Z
SUMMARY:Rotherham United v Peterborough United
LOCATION:New York Stadium
DESCRIPTION:Rotherham United v Peterborough United - New York Stadium - Sk
 y Bet League One - Live on Sky Sports+
STATUS:CONFIRMED
END:VEVENT
BEGIN:VEVENT
UID:5e5221df2a42288281ca65efda8c2c02@skysports.com
SEQUENCE:0
DTSTAMP:20260425T090509Z
DTSTART:20260303T194500Z
DTEND:20260303T214500Z
SUMMARY:Rotherham United v Mansfield Town
LOCATION:New York Stadium
DESCRIPTION:Rotherham United v Mansfield Town - New York Stadium - Sky Bet
  League One
STATUS:CONFIRMED
END:VEVENT
BEGIN:VEVENT
UID:eb721925306f202e094f22084aabfbcb@skysports.com
SEQUENCE:0
DTSTAMP:20260425T090509Z
DTSTART:20260224T194500Z
DTEND:20260224T214500Z
SUMMARY:Bradford City v Rotherham United
LOCATION:University of Bradford Stadium
DESCRIPTION:Bradford City v Rotherham United - University of Bradford Stad
 ium - Sky Bet League One - Live on Sky Sports+
STATUS:CONFIRMED
END:VEVENT
BEGIN:VEVENT
UID:a5420e77c9c1939357d05e846d29bb62@skysports.com
SEQUENCE:0
DTSTAMP:20260425T090509Z
DTSTART:20260117T150000Z
DTEND:20260117T170000Z
SUMMARY:Stockport County v Rotherham United
LOCATION:Edgeley Park
DESCRIPTION:Stockport County v Rotherham United - Edgeley Park - Sky Bet L
 eague One
STATUS:CONFIRMED
END:VEVENT
BEGIN:VEVENT
UID:9dc3f1f75320341cc539ac432a2179d5@skysports.com
SEQUENCE:0
DTSTAMP:20260425T090509Z
DTSTART:20260124T150000Z
DTEND:20260124T170000Z
SUMMARY:Rotherham United v AFC Wimbledon
LOCATION:New York Stadium
DESCRIPTION:Rotherham United v AFC Wimbledon - New York Stadium - Sky Bet 
 League One
STATUS:CONFIRMED
END:VEVENT
BEGIN:VEVENT
UID:41bed126bd93e02336151e6ea2d651f1@skysports.com
SEQUENCE:0
DTSTAMP:20260425T090509Z
DTSTART:20260127T194500Z
DTEND:20260127T214500Z
SUMMARY:Rotherham United v Northampton Town
LOCATION:New York Stadium
DESCRIPTION:Rotherham United v Northampton Town - New York Stadium - Sky B
 et League One - Live on Sky Sports+
STATUS:CONFIRMED
END:VEVENT
BEGIN:VEVENT
UID:346cdc7cab4c76b749bd8ce0c0cb0eaa@skysports.com
SEQUENCE:0
DTSTAMP:20260425T090509Z
DTSTART:20260131T150000Z
DTEND:20260131T170000Z
SUMMARY:Exeter City v Rotherham United
LOCATION:St James Park
DESCRIPTION:Exeter City v Rotherham United - St James Park - Sky Bet Leagu
 e One
STATUS:CONFIRMED
END:VEVENT
BEGIN:VEVENT
UID:4db4ddc76a92ffaa8f77b1402dcdb64e@skysports.com
SEQUENCE:0
DTSTAMP:20260425T090509Z
DTSTART:20260207T150100Z
DTEND:20260207T170100Z
SUMMARY:Rotherham United v Cardiff City
LOCATION:New York Stadium
DESCRIPTION:Rotherham United v Cardiff City - New York Stadium - Sky Bet L
 eague One
STATUS:CONFIRMED
END:VEVENT
BEGIN:VEVENT
UID:25d862cfb8c617dc0c756dfd5491a27c@skysports.com
SEQUENCE:0
DTSTAMP:20260425T090509Z
DTSTART:20260414T184500Z
DTEND:20260414T204500Z
SUMMARY:Wigan Athletic v Rotherham United
LOCATION:DW Stadium
DESCRIPTION:Wigan Athletic v Rotherham United - DW Stadium - Sky Bet Leagu
 e One
STATUS:CONFIRMED
END:VEVENT
BEGIN:VEVENT
UID:d67d233095902ab91414bff9ba5ddf45@skysports.com
SEQUENCE:0
DTSTAMP:20260425T090509Z
DTSTART:20260217T194500Z
DTEND:20260217T214500Z
SUMMARY:Burton Albion v Rotherham United
LOCATION:Pirelli Stadium
DESCRIPTION:Burton Albion v Rotherham United - Pirelli Stadium - Sky Bet L
 eague One - Live on Sky Sports+
STATUS:CONFIRMED
END:VEVENT
BEGIN:VEVENT
UID:32d3b53dda42b9da77c3d65abaabe509@skysports.com
SEQUENCE:0
DTSTAMP:20260425T090509Z
DTSTART:20260221T123000Z
DTEND:20260221T143000Z
SUMMARY:Rotherham United v Doncaster Rovers
LOCATION:New York Stadium
DESCRIPTION:Rotherham United v Doncaster Rovers - New York Stadium - Sky B
 et League One
STATUS:CONFIRMED
END:VEVENT
BEGIN:VEVENT
UID:855b6b92eb91b90ff357da48a6e8d843@skysports.com
SEQUENCE:0
DTSTAMP:20260425T090509Z
DTSTART:20260228T150000Z
DTEND:20260228T170000Z
SUMMARY:Rotherham United v Plymouth Argyle
LOCATION:New York Stadium
DESCRIPTION:Rotherham United v Plymouth Argyle - New York Stadium - Sky Be
 t League One
STATUS:CONFIRMED
END:VEVENT
BEGIN:VEVENT
UID:22cc85250ad9b762ec0703a9591a63cc@skysports.com
SEQUENCE:0
DTSTAMP:20260425T090509Z
DTSTART:20260307T123000Z
DTEND:20260307T143000Z
SUMMARY:Huddersfield Town v Rotherham United
LOCATION:The Accu Stadium
DESCRIPTION:Huddersfield Town v Rotherham United - The Accu Stadium - Sky 
 Bet League One - Live on Sky Sports+
STATUS:CONFIRMED
END:VEVENT
BEGIN:VEVENT
UID:50006156d8d06cdabbb726d0be0272ac@skysports.com
SEQUENCE:0
DTSTAMP:20260425T090509Z
DTSTART:20260314T123000Z
DTEND:20260314T143000Z
SUMMARY:Rotherham United v Bolton Wanderers
LOCATION:New York Stadium
DESCRIPTION:Rotherham United v Bolton Wanderers - New York Stadium - Sky B
 et League One - Live on Sky Sports+
STATUS:CONFIRMED
END:VEVENT
BEGIN:VEVENT
UID:c9c020acf18a50448e7ecaef66c249a1@skysports.com
SEQUENCE:0
DTSTAMP:20260425T090509Z
DTSTART:20260317T194500Z
DTEND:20260317T214500Z
SUMMARY:Peterborough United v Rotherham United
LOCATION:Weston Homes Stadium
DESCRIPTION:Peterborough United v Rotherham United - Weston Homes Stadium 
 - Sky Bet League One - Live on Sky Sports+
STATUS:CONFIRMED
END:VEVENT
BEGIN:VEVENT
UID:2c3b29557d702f28cda478ce7aa2e0bc@skysports.com
SEQUENCE:0
DTSTAMP:20260425T090509Z
DTSTART:20260321T150000Z
DTEND:20260321T170000Z
SUMMARY:Lincoln City v Rotherham United
LOCATION:LNER Stadium
DESCRIPTION:Lincoln City v Rotherham United - LNER Stadium - Sky Bet Leagu
 e One
STATUS:CONFIRMED
END:VEVENT
BEGIN:VEVENT
UID:5ea8bf6e0c83418baf61acea63a2a6e3@skysports.com
SEQUENCE:0
DTSTAMP:20260425T090509Z
DTSTART:20260421T184500Z
DTEND:20260421T204500Z
SUMMARY:Rotherham United v Luton Town
LOCATION:New York Stadium
DESCRIPTION:Rotherham United v Luton Town - New York Stadium - Sky Bet Lea
 gue One - Live on Sky Sports+
STATUS:CONFIRMED
END:VEVENT
BEGIN:VEVENT
UID:54fe127dbef26c7ad871a0f66bbe1dc6@skysports.com
SEQUENCE:0
DTSTAMP:20260425T090509Z
DTSTART:20260403T140000Z
DTEND:20260403T160000Z
SUMMARY:Rotherham United v Stevenage
LOCATION:New York Stadium
DESCRIPTION:Rotherham United v Stevenage - New York Stadium - Sky Bet Leag
 ue One - Live on Sky Sports+
STATUS:CONFIRMED
END:VEVENT
BEGIN:VEVENT
UID:753ed1cf3a46f4ab4ca14cebf0bd5322@skysports.com
SEQUENCE:0
DTSTAMP:20260425T090509Z
DTSTART:20260407T184500Z
DTEND:20260407T204500Z
SUMMARY:Port Vale v Rotherham United
LOCATION:Vale Park
DESCRIPTION:Port Vale v Rotherham United - Vale Park - Sky Bet League One 
 - Live on Sky Sports+
STATUS:CONFIRMED
END:VEVENT
BEGIN:VEVENT
UID:3a90120c027dbeb3884e2c2b1482d3a8@skysports.com
SEQUENCE:0
DTSTAMP:20260425T090509Z
DTSTART:20260411T140000Z
DTEND:20260411T160000Z
SUMMARY:Rotherham United v Barnsley
LOCATION:New York Stadium
DESCRIPTION:Rotherham United v Barnsley - New York Stadium - Sky Bet Leagu
 e One
STATUS:CONFIRMED
END:VEVENT
BEGIN:VEVENT
UID:c0c1d0ba0b1f578007d1fdc1cc91d9e8@skysports.com
SEQUENCE:0
DTSTAMP:20260425T090509Z
DTSTART:20260418T140000Z
DTEND:20260418T160000Z
SUMMARY:Leyton Orient v Rotherham United
LOCATION:BetWright Stadium
DESCRIPTION:Leyton Orient v Rotherham United - BetWright Stadium - Sky Bet
  League One
STATUS:CONFIRMED
END:VEVENT
BEGIN:VEVENT
UID:f3a02a03f23dde5bd043714131090e26@skysports.com
SEQUENCE:0
DTSTAMP:20260425T090509Z
DTSTART:20260425T140000Z
DTEND:20260425T160000Z
SUMMARY:Rotherham United v Reading
LOCATION:New York Stadium
DESCRIPTION:Rotherham United v Reading - New York Stadium - Sky Bet League
  One
STATUS:CONFIRMED
END:VEVENT
BEGIN:VEVENT
UID:e54e1dba3ae28adc41361c7da7beef6b@skysports.com
SEQUENCE:0
DTSTAMP:20260425T090509Z
DTSTART:20260502T140000Z
DTEND:20260502T160000Z
SUMMARY:Wycombe Wanderers v Rotherham United
LOCATION:Adams Park
DESCRIPTION:Wycombe Wanderers v Rotherham United - Adams Park - Sky Bet Le
 ague One
STATUS:CONFIRMED
END:VEVENT
BEGIN:VEVENT
UID:085364447518e05118673ebe4b84be2d@skysports.com
SEQUENCE:0
DTSTAMP:20260425T090509Z
DTSTART:20250812T184500Z
DTEND:20250812T204500Z
SUMMARY:Salford City v Rotherham United
LOCATION:Moor Lane
DESCRIPTION:Salford City v Rotherham United - Moor Lane - Carabao Cup - Li
 ve on Sky Sports+
STATUS:CONFIRMED
END:VEVENT
BEGIN:VEVENT
UID:f6dfd6fcfb13eef95d0df7c4624b7842@skysports.com
SEQUENCE:0
DTSTAMP:20260425T090509Z
DTSTART:20250902T180000Z
DTEND:20250902T200000Z
SUMMARY:Bolton Wanderers v Rotherham United
LOCATION:University of Bolton Stadium
DESCRIPTION:Bolton Wanderers v Rotherham United - University of Bolton Sta
 dium - Vertu Trophy - Live on Sky Sports+
STATUS:CONFIRMED
END:VEVENT
BEGIN:VEVENT
UID:ec7726aded1533e3a9e077878de0ca06@skysports.com
SEQUENCE:0
DTSTAMP:20260425T090509Z
DTSTART:20251007T180000Z
DTEND:20251007T200000Z
SUMMARY:Rotherham United v Oldham Athletic
LOCATION:New York Stadium
DESCRIPTION:Rotherham United v Oldham Athletic - New York Stadium - Vertu 
 Trophy - Live on Sky Sports+
STATUS:CONFIRMED
END:VEVENT
BEGIN:VEVENT
UID:dc7a51c58866d8c50accf226ad6f61e5@skysports.com
SEQUENCE:0
DTSTAMP:20260425T090509Z
DTSTART:20251028T190000Z
DTEND:20251028T210000Z
SUMMARY:Rotherham United v Manchester City U21
LOCATION:New York Stadium
DESCRIPTION:Rotherham United v Manchester City U21 - New York Stadium - Ve
 rtu Trophy - Live on Sky Sports+
STATUS:CONFIRMED
END:VEVENT
BEGIN:VEVENT
UID:d9615742eb3c1b8c62cd9cf888f29dd1@skysports.com
SEQUENCE:0
DTSTAMP:20260425T090509Z
DTSTART:20250826T184500Z
DTEND:20250826T204500Z
SUMMARY:Barnsley v Rotherham United
LOCATION:Oakwell Stadium
DESCRIPTION:Barnsley v Rotherham United - Oakwell Stadium - Carabao Cup - 
 Live on Sky Sports+
STATUS:CONFIRMED
END:VEVENT
BEGIN:VEVENT
UID:836e0625bb41067b534f672a754753b0@skysports.com
SEQUENCE:0
DTSTAMP:20260425T090509Z
DTSTART:20251101T150000Z
DTEND:20251101T170000Z
SUMMARY:Rotherham United v Swindon Town
LOCATION:New York Stadium
DESCRIPTION:Rotherham United v Swindon Town - New York Stadium - The FA Cu
 p
STATUS:CONFIRMED
END:VEVENT
BEGIN:VEVENT
UID:2642298d686d57ebff9bb35e83bbca75@skysports.com
SEQUENCE:0
DTSTAMP:20260425T090509Z
DTSTART:20251202T190000Z
DTEND:20251202T210000Z
SUMMARY:Salford City v Rotherham United
LOCATION:Moor Lane
DESCRIPTION:Salford City v Rotherham United - Moor Lane - Vertu Trophy - L
 ive on Sky Sports+
STATUS:CONFIRMED
END:VEVENT
BEGIN:VEVENT
UID:cb1d1d28177df3dac79ae513d0204dc5@skysports.com
SEQUENCE:0
DTSTAMP:20260425T090509Z
DTSTART:20260113T190000Z
DTEND:20260113T210000Z
SUMMARY:Huddersfield Town v Rotherham United
LOCATION:The Accu Stadium
DESCRIPTION:Huddersfield Town v Rotherham United - The Accu Stadium - Vert
 u Trophy - Live on Sky Sports+
STATUS:CONFIRMED
END:VEVENT
END:VCALENDAR