BEGIN:VCALENDAR
VERSION:2.0
PRODID:-//Sky Sports SSDM//NONSGML Event Calendar//EN
URL:https://www.skysports.com/calendars/football/fixtures/teams/sheffield-
 united
CALSCALE:GREGORIAN
METHOD:PUBLISH
NAME:Sheffield United Fixtures
X-WR-CALNAME:Sheffield United Fixtures
X-WR-CALDESC:Sheffield United fixtures provided by Sky Sports (https://www
 .skysports.com)
REFRESH-INTERVAL;VALUE=DURATION:PT1H
X-PUBLISHED-TTL:PT1H
BEGIN:VEVENT
UID:db00ee09c86f9364ef0f6cd575795dbc@skysports.com
SEQUENCE:0
DTSTAMP:20260425T090509Z
DTSTART:20250809T163000Z
DTEND:20250809T183000Z
SUMMARY:Sheffield United v Bristol City
LOCATION:Bramall Lane
DESCRIPTION:Sheffield United v Bristol City - Bramall Lane - Sky Bet Champ
 ionship - Live on Sky Sports Football
STATUS:CONFIRMED
END:VEVENT
BEGIN:VEVENT
UID:e3025eb74ce5496594ce0da0bdde56c2@skysports.com
SEQUENCE:0
DTSTAMP:20260425T090509Z
DTSTART:20250816T140000Z
DTEND:20250816T160000Z
SUMMARY:Swansea City v Sheffield United
LOCATION:Swansea.com Stadium
DESCRIPTION:Swansea City v Sheffield United - Swansea.com Stadium - Sky Be
 t Championship
STATUS:CONFIRMED
END:VEVENT
BEGIN:VEVENT
UID:879f454191bf101a2f19a0c1a5b87cb7@skysports.com
SEQUENCE:0
DTSTAMP:20260425T090509Z
DTSTART:20250823T140000Z
DTEND:20250823T160000Z
SUMMARY:Sheffield United v Millwall
LOCATION:Bramall Lane
DESCRIPTION:Sheffield United v Millwall - Bramall Lane - Sky Bet Champions
 hip
STATUS:CONFIRMED
END:VEVENT
BEGIN:VEVENT
UID:c1ad74e8bf21e559c22c43dbc4ad96d7@skysports.com
SEQUENCE:0
DTSTAMP:20260425T090509Z
DTSTART:20250830T113000Z
DTEND:20250830T133000Z
SUMMARY:Middlesbrough v Sheffield United
LOCATION:Riverside Stadium
DESCRIPTION:Middlesbrough v Sheffield United - Riverside Stadium - Sky Bet
  Championship - Live on Sky Sports Football
STATUS:CONFIRMED
END:VEVENT
BEGIN:VEVENT
UID:d5ffe839423734c7ef489f1be1483caf@skysports.com
SEQUENCE:0
DTSTAMP:20260425T090509Z
DTSTART:20250912T190000Z
DTEND:20250912T210000Z
SUMMARY:Ipswich Town v Sheffield United
LOCATION:Portman Road
DESCRIPTION:Ipswich Town v Sheffield United - Portman Road - Sky Bet Champ
 ionship - Live on Sky Sports Main Event and Sky Sports Football
STATUS:CONFIRMED
END:VEVENT
BEGIN:VEVENT
UID:ace086631b16fdb3519c4fb7bd578216@skysports.com
SEQUENCE:0
DTSTAMP:20260425T090509Z
DTSTART:20250920T140000Z
DTEND:20250920T160000Z
SUMMARY:Sheffield United v Charlton Athletic
LOCATION:Bramall Lane
DESCRIPTION:Sheffield United v Charlton Athletic - Bramall Lane - Sky Bet 
 Championship
STATUS:CONFIRMED
END:VEVENT
BEGIN:VEVENT
UID:350d922c9c834a5e6d4bd4e56090e92f@skysports.com
SEQUENCE:0
DTSTAMP:20260425T090509Z
DTSTART:20250927T140000Z
DTEND:20250927T160000Z
SUMMARY:Oxford United v Sheffield United
LOCATION:The Kassam Stadium
DESCRIPTION:Oxford United v Sheffield United - The Kassam Stadium - Sky Be
 t Championship
STATUS:CONFIRMED
END:VEVENT
BEGIN:VEVENT
UID:5b879062aa3d3c12c50f9666903618b6@skysports.com
SEQUENCE:0
DTSTAMP:20260425T090509Z
DTSTART:20250930T184500Z
DTEND:20250930T204500Z
SUMMARY:Sheffield United v Southampton
LOCATION:Bramall Lane
DESCRIPTION:Sheffield United v Southampton - Bramall Lane - Sky Bet Champi
 onship - Live on Sky Sports+
STATUS:CONFIRMED
END:VEVENT
BEGIN:VEVENT
UID:42134401eadc156c126b5edcaf428ac1@skysports.com
SEQUENCE:0
DTSTAMP:20260425T090509Z
DTSTART:20251004T113000Z
DTEND:20251004T133000Z
SUMMARY:Hull City v Sheffield United
LOCATION:MKM Stadium
DESCRIPTION:Hull City v Sheffield United - MKM Stadium - Sky Bet Champions
 hip - Live on Sky Sports Football
STATUS:CONFIRMED
END:VEVENT
BEGIN:VEVENT
UID:14588ae72ecac4b1a2c0f1a05b14f9da@skysports.com
SEQUENCE:0
DTSTAMP:20260425T090509Z
DTSTART:20251018T140000Z
DTEND:20251018T160000Z
SUMMARY:Sheffield United v Watford
LOCATION:Bramall Lane
DESCRIPTION:Sheffield United v Watford - Bramall Lane - Sky Bet Championsh
 ip
STATUS:CONFIRMED
END:VEVENT
BEGIN:VEVENT
UID:8769a5d7fc953bfd054665586574c3e1@skysports.com
SEQUENCE:0
DTSTAMP:20260425T090509Z
DTSTART:20251021T184500Z
DTEND:20251021T204500Z
SUMMARY:Blackburn Rovers v Sheffield United
LOCATION:Ewood Park
DESCRIPTION:Blackburn Rovers v Sheffield United - Ewood Park - Sky Bet Cha
 mpionship - Live on Sky Sports+
STATUS:CONFIRMED
END:VEVENT
BEGIN:VEVENT
UID:c7104ba6e7121f62ace5e8cdb0033a15@skysports.com
SEQUENCE:0
DTSTAMP:20260425T090509Z
DTSTART:20251024T190000Z
DTEND:20251024T210000Z
SUMMARY:Preston North End v Sheffield United
LOCATION:Deepdale
DESCRIPTION:Preston North End v Sheffield United - Deepdale - Sky Bet Cham
 pionship - Live on Sky Sports Football
STATUS:CONFIRMED
END:VEVENT
BEGIN:VEVENT
UID:dc6c5967fa3dde7cb4dbea10cd68d199@skysports.com
SEQUENCE:0
DTSTAMP:20260425T090509Z
DTSTART:20251101T150000Z
DTEND:20251101T170000Z
SUMMARY:Sheffield United v Derby County
LOCATION:Bramall Lane
DESCRIPTION:Sheffield United v Derby County - Bramall Lane - Sky Bet Champ
 ionship
STATUS:CONFIRMED
END:VEVENT
BEGIN:VEVENT
UID:1bf8a946c6e11a7fc54c8412c9d7f329@skysports.com
SEQUENCE:0
DTSTAMP:20260425T090509Z
DTSTART:20251104T200000Z
DTEND:20251104T220000Z
SUMMARY:Coventry City v Sheffield United
LOCATION:The Coventry Building Society Arena
DESCRIPTION:Coventry City v Sheffield United - The Coventry Building Socie
 ty Arena - Sky Bet Championship - Live on Sky Sports Football and Sky Spor
 ts Main Event
STATUS:CONFIRMED
END:VEVENT
BEGIN:VEVENT
UID:30e9d35733d1d9947d79db456054df07@skysports.com
SEQUENCE:0
DTSTAMP:20260425T090509Z
DTSTART:20251108T150000Z
DTEND:20251108T170000Z
SUMMARY:Sheffield United v Queens Park Rangers
LOCATION:Bramall Lane
DESCRIPTION:Sheffield United v Queens Park Rangers - Bramall Lane - Sky Be
 t Championship
STATUS:CONFIRMED
END:VEVENT
BEGIN:VEVENT
UID:cd335fb3fc6004b991ffdb451129e95f@skysports.com
SEQUENCE:0
DTSTAMP:20260425T090509Z
DTSTART:20251123T120000Z
DTEND:20251123T140000Z
SUMMARY:Sheffield Wednesday v Sheffield United
LOCATION:Hillsborough
DESCRIPTION:Sheffield Wednesday v Sheffield United - Hillsborough - Sky Be
 t Championship - Live on Sky Sports Football
STATUS:CONFIRMED
END:VEVENT
BEGIN:VEVENT
UID:dff12840315692f4d6254ae434f0254f@skysports.com
SEQUENCE:0
DTSTAMP:20260425T090509Z
DTSTART:20251126T194500Z
DTEND:20251126T214500Z
SUMMARY:Sheffield United v Portsmouth
LOCATION:Bramall Lane
DESCRIPTION:Sheffield United v Portsmouth - Bramall Lane - Sky Bet Champio
 nship - Live on Sky Sports+
STATUS:CONFIRMED
END:VEVENT
BEGIN:VEVENT
UID:ff39c6399a16444f68f9f729bda2f080@skysports.com
SEQUENCE:0
DTSTAMP:20260425T090509Z
DTSTART:20251129T123000Z
DTEND:20251129T143000Z
SUMMARY:Leicester City v Sheffield United
LOCATION:The King Power Stadium
DESCRIPTION:Leicester City v Sheffield United - The King Power Stadium - S
 ky Bet Championship - Live on Sky Sports+
STATUS:CONFIRMED
END:VEVENT
BEGIN:VEVENT
UID:b5149093a158dab94f84a911a7a9c20c@skysports.com
SEQUENCE:0
DTSTAMP:20260425T090509Z
DTSTART:20251206T150000Z
DTEND:20251206T170000Z
SUMMARY:Sheffield United v Stoke City
LOCATION:Bramall Lane
DESCRIPTION:Sheffield United v Stoke City - Bramall Lane - Sky Bet Champio
 nship
STATUS:CONFIRMED
END:VEVENT
BEGIN:VEVENT
UID:275db8da584e9f6e5709f7a7699d7e45@skysports.com
SEQUENCE:0
DTSTAMP:20260425T090509Z
DTSTART:20251209T194500Z
DTEND:20251209T214500Z
SUMMARY:Sheffield United v Norwich City
LOCATION:Bramall Lane
DESCRIPTION:Sheffield United v Norwich City - Bramall Lane - Sky Bet Champ
 ionship - Live on Sky Sports+
STATUS:CONFIRMED
END:VEVENT
BEGIN:VEVENT
UID:565a76bb25accd1a43d95d8fadc3ba11@skysports.com
SEQUENCE:0
DTSTAMP:20260425T090509Z
DTSTART:20251212T200000Z
DTEND:20251212T220000Z
SUMMARY:West Bromwich Albion v Sheffield United
LOCATION:The Hawthorns
DESCRIPTION:West Bromwich Albion v Sheffield United - The Hawthorns - Sky 
 Bet Championship - Live on Sky Sports Football
STATUS:CONFIRMED
END:VEVENT
BEGIN:VEVENT
UID:5ec0b49f333f517430b2677306afa9ff@skysports.com
SEQUENCE:0
DTSTAMP:20260425T090509Z
DTSTART:20251220T150000Z
DTEND:20251220T170000Z
SUMMARY:Sheffield United v Birmingham City
LOCATION:Bramall Lane
DESCRIPTION:Sheffield United v Birmingham City - Bramall Lane - Sky Bet Ch
 ampionship
STATUS:CONFIRMED
END:VEVENT
BEGIN:VEVENT
UID:c1231e05c30e9629338568c4cf6a59fd@skysports.com
SEQUENCE:0
DTSTAMP:20260425T090509Z
DTSTART:20251226T173000Z
DTEND:20251226T193000Z
SUMMARY:Wrexham v Sheffield United
LOCATION:STōK Cae Ras
DESCRIPTION:Wrexham v Sheffield United - STōK Cae Ras - Sky Bet Champions
 hip - Live on Sky Sports Football and Sky Sports Main Event
STATUS:CONFIRMED
END:VEVENT
BEGIN:VEVENT
UID:59fe3e674a2cb25471ec89f7e6d70eb2@skysports.com
SEQUENCE:0
DTSTAMP:20260425T090509Z
DTSTART:20251229T194500Z
DTEND:20251229T214500Z
SUMMARY:Stoke City v Sheffield United
LOCATION:Bet365 Stadium
DESCRIPTION:Stoke City v Sheffield United - Bet365 Stadium - Sky Bet Champ
 ionship
STATUS:CONFIRMED
END:VEVENT
BEGIN:VEVENT
UID:81410ddfc5deb38ce20ad960b1805725@skysports.com
SEQUENCE:0
DTSTAMP:20260425T090509Z
DTSTART:20260101T173000Z
DTEND:20260101T193000Z
SUMMARY:Sheffield United v Leicester City
LOCATION:Bramall Lane
DESCRIPTION:Sheffield United v Leicester City - Bramall Lane - Sky Bet Cha
 mpionship - Live on Sky Sports Football
STATUS:CONFIRMED
END:VEVENT
BEGIN:VEVENT
UID:421f80476316dda524b5ac637fad0c81@skysports.com
SEQUENCE:0
DTSTAMP:20260425T090509Z
DTSTART:20260203T194500Z
DTEND:20260203T214500Z
SUMMARY:Sheffield United v Oxford United
LOCATION:Bramall Lane
DESCRIPTION:Sheffield United v Oxford United - Bramall Lane - Sky Bet Cham
 pionship - Live on Sky Sports+
STATUS:CONFIRMED
END:VEVENT
BEGIN:VEVENT
UID:50bb0c3679eb3268ced518debfe6fad6@skysports.com
SEQUENCE:0
DTSTAMP:20260425T090509Z
DTSTART:20260117T150000Z
DTEND:20260117T170000Z
SUMMARY:Charlton Athletic v Sheffield United
LOCATION:The Valley
DESCRIPTION:Charlton Athletic v Sheffield United - The Valley - Sky Bet Ch
 ampionship
STATUS:CONFIRMED
END:VEVENT
BEGIN:VEVENT
UID:585e41e6d16e7fb06cf8158b2a6547e0@skysports.com
SEQUENCE:0
DTSTAMP:20260425T090509Z
DTSTART:20260121T194500Z
DTEND:20260121T214500Z
SUMMARY:Southampton v Sheffield United
LOCATION:St. Mary's Stadium
DESCRIPTION:Southampton v Sheffield United - St. Mary's Stadium - Sky Bet 
 Championship - Live on Sky Sports+
STATUS:CONFIRMED
END:VEVENT
BEGIN:VEVENT
UID:974322bfa8604587a658e22f0bdf16d0@skysports.com
SEQUENCE:0
DTSTAMP:20260425T090509Z
DTSTART:20260124T150000Z
DTEND:20260124T170000Z
SUMMARY:Sheffield United v Ipswich Town
LOCATION:Bramall Lane
DESCRIPTION:Sheffield United v Ipswich Town - Bramall Lane - Sky Bet Champ
 ionship
STATUS:CONFIRMED
END:VEVENT
BEGIN:VEVENT
UID:a12ec91ddf40249e608f7c88abb534cf@skysports.com
SEQUENCE:0
DTSTAMP:20260425T090509Z
DTSTART:20260131T150000Z
DTEND:20260131T170000Z
SUMMARY:Millwall v Sheffield United
LOCATION:The Den
DESCRIPTION:Millwall v Sheffield United - The Den - Sky Bet Championship
STATUS:CONFIRMED
END:VEVENT
BEGIN:VEVENT
UID:20dd588262e86df0ee488036a4b6a58a@skysports.com
SEQUENCE:0
DTSTAMP:20260425T090509Z
DTSTART:20260209T200100Z
DTEND:20260209T220100Z
SUMMARY:Sheffield United v Middlesbrough
LOCATION:Bramall Lane
DESCRIPTION:Sheffield United v Middlesbrough - Bramall Lane - Sky Bet Cham
 pionship - Live on Sky Sports Football and Sky Sports Main Event
STATUS:CONFIRMED
END:VEVENT
BEGIN:VEVENT
UID:eba0d13abb0829f0454af74c05b45976@skysports.com
SEQUENCE:0
DTSTAMP:20260425T090509Z
DTSTART:20260214T150000Z
DTEND:20260214T170000Z
SUMMARY:Portsmouth v Sheffield United
LOCATION:Fratton Park
DESCRIPTION:Portsmouth v Sheffield United - Fratton Park - Sky Bet Champio
 nship
STATUS:CONFIRMED
END:VEVENT
BEGIN:VEVENT
UID:3751594fc5aeec7ccfa64c22b6373313@skysports.com
SEQUENCE:0
DTSTAMP:20260425T090509Z
DTSTART:20260222T120000Z
DTEND:20260222T140000Z
SUMMARY:Sheffield United v Sheffield Wednesday
LOCATION:Bramall Lane
DESCRIPTION:Sheffield United v Sheffield Wednesday - Bramall Lane - Sky Be
 t Championship - Live on Sky Sports Football
STATUS:CONFIRMED
END:VEVENT
BEGIN:VEVENT
UID:396d409eee0efe8f200cb25d9e8d932a@skysports.com
SEQUENCE:0
DTSTAMP:20260425T090509Z
DTSTART:20260225T194500Z
DTEND:20260225T214500Z
SUMMARY:Sheffield United v Coventry City
LOCATION:Bramall Lane
DESCRIPTION:Sheffield United v Coventry City - Bramall Lane - Sky Bet Cham
 pionship - Live on Sky Sports+
STATUS:CONFIRMED
END:VEVENT
BEGIN:VEVENT
UID:4d37b071a8781a5375cbce5384a29394@skysports.com
SEQUENCE:0
DTSTAMP:20260425T090509Z
DTSTART:20260228T150000Z
DTEND:20260228T170000Z
SUMMARY:Queens Park Rangers v Sheffield United
LOCATION:Loftus Road Stadium
DESCRIPTION:Queens Park Rangers v Sheffield United - Loftus Road Stadium -
  Sky Bet Championship
STATUS:CONFIRMED
END:VEVENT
BEGIN:VEVENT
UID:e66c1aaa38db1b600cf0da9d0a85ac5d@skysports.com
SEQUENCE:0
DTSTAMP:20260425T090509Z
DTSTART:20260307T150000Z
DTEND:20260307T170000Z
SUMMARY:Sheffield United v West Bromwich Albion
LOCATION:Bramall Lane
DESCRIPTION:Sheffield United v West Bromwich Albion - Bramall Lane - Sky B
 et Championship
STATUS:CONFIRMED
END:VEVENT
BEGIN:VEVENT
UID:e272e86f8d9abd738728f4aadb2249fe@skysports.com
SEQUENCE:0
DTSTAMP:20260425T090509Z
DTSTART:20260311T194500Z
DTEND:20260311T214500Z
SUMMARY:Norwich City v Sheffield United
LOCATION:Carrow Road
DESCRIPTION:Norwich City v Sheffield United - Carrow Road - Sky Bet Champi
 onship - Live on Sky Sports+
STATUS:CONFIRMED
END:VEVENT
BEGIN:VEVENT
UID:1d4cfa66603756017f2d9a3e372eacc9@skysports.com
SEQUENCE:0
DTSTAMP:20260425T090509Z
DTSTART:20260314T150000Z
DTEND:20260314T170000Z
SUMMARY:Birmingham City v Sheffield United
LOCATION:St. Andrew's Stadium
DESCRIPTION:Birmingham City v Sheffield United - St. Andrew's Stadium - Sk
 y Bet Championship
STATUS:CONFIRMED
END:VEVENT
BEGIN:VEVENT
UID:1abd772c454fc734ed5928161097a7f4@skysports.com
SEQUENCE:0
DTSTAMP:20260425T090509Z
DTSTART:20260321T150000Z
DTEND:20260321T170000Z
SUMMARY:Sheffield United v Wrexham
LOCATION:Bramall Lane
DESCRIPTION:Sheffield United v Wrexham - Bramall Lane - Sky Bet Championsh
 ip
STATUS:CONFIRMED
END:VEVENT
BEGIN:VEVENT
UID:8ff6f86ab8caddb0c122db785214cd32@skysports.com
SEQUENCE:0
DTSTAMP:20260425T090509Z
DTSTART:20260403T140000Z
DTEND:20260403T160000Z
SUMMARY:Sheffield United v Swansea City
LOCATION:Bramall Lane
DESCRIPTION:Sheffield United v Swansea City - Bramall Lane - Sky Bet Champ
 ionship - Live on Sky Sports+
STATUS:CONFIRMED
END:VEVENT
BEGIN:VEVENT
UID:59356e893d0346fca814b46f24d6093a@skysports.com
SEQUENCE:0
DTSTAMP:20260425T090509Z
DTSTART:20260406T140000Z
DTEND:20260406T160000Z
SUMMARY:Bristol City v Sheffield United
LOCATION:Ashton Gate Stadium
DESCRIPTION:Bristol City v Sheffield United - Ashton Gate Stadium - Sky Be
 t Championship - Live on Sky Sports+
STATUS:CONFIRMED
END:VEVENT
BEGIN:VEVENT
UID:b059da505b8e2c1666c1b2adcc37ac6c@skysports.com
SEQUENCE:0
DTSTAMP:20260425T090509Z
DTSTART:20260411T140000Z
DTEND:20260411T160000Z
SUMMARY:Sheffield United v Hull City
LOCATION:Bramall Lane
DESCRIPTION:Sheffield United v Hull City - Bramall Lane - Sky Bet Champion
 ship
STATUS:CONFIRMED
END:VEVENT
BEGIN:VEVENT
UID:07ef97f084bd755602f5100024f99ec9@skysports.com
SEQUENCE:0
DTSTAMP:20260425T090509Z
DTSTART:20260418T140000Z
DTEND:20260418T160000Z
SUMMARY:Watford v Sheffield United
LOCATION:Vicarage Road
DESCRIPTION:Watford v Sheffield United - Vicarage Road - Sky Bet Champions
 hip
STATUS:CONFIRMED
END:VEVENT
BEGIN:VEVENT
UID:dd9d499ae6275226b2e70319e46f8a9b@skysports.com
SEQUENCE:0
DTSTAMP:20260425T090509Z
DTSTART:20260422T184500Z
DTEND:20260422T204500Z
SUMMARY:Sheffield United v Blackburn Rovers
LOCATION:Bramall Lane
DESCRIPTION:Sheffield United v Blackburn Rovers - Bramall Lane - Sky Bet C
 hampionship - Live on Sky Sports+
STATUS:CONFIRMED
END:VEVENT
BEGIN:VEVENT
UID:f3217231d6eb6ad2d23c7625c5f9db5b@skysports.com
SEQUENCE:0
DTSTAMP:20260425T090509Z
DTSTART:20260425T140000Z
DTEND:20260425T160000Z
SUMMARY:Sheffield United v Preston North End
LOCATION:Bramall Lane
DESCRIPTION:Sheffield United v Preston North End - Bramall Lane - Sky Bet 
 Championship
STATUS:CONFIRMED
END:VEVENT
BEGIN:VEVENT
UID:4dd07851479bbc6556da7794d200802b@skysports.com
SEQUENCE:0
DTSTAMP:20260425T090509Z
DTSTART:20260502T113000Z
DTEND:20260502T133000Z
SUMMARY:Derby County v Sheffield United
LOCATION:Pride Park Stadium
DESCRIPTION:Derby County v Sheffield United - Pride Park Stadium - Sky Bet
  Championship
STATUS:CONFIRMED
END:VEVENT
BEGIN:VEVENT
UID:fc4885839b16f36155aa49ac7b336958@skysports.com
SEQUENCE:0
DTSTAMP:20260425T090509Z
DTSTART:20250813T190000Z
DTEND:20250813T210000Z
SUMMARY:Birmingham City v Sheffield United
LOCATION:St. Andrew's Stadium
DESCRIPTION:Birmingham City v Sheffield United - St. Andrew's Stadium - Ca
 rabao Cup - Live on Sky Sports Football
STATUS:CONFIRMED
END:VEVENT
BEGIN:VEVENT
UID:886534608225561be2e9569946b88a98@skysports.com
SEQUENCE:0
DTSTAMP:20260425T090509Z
DTSTART:20260111T143000Z
DTEND:20260111T163000Z
SUMMARY:Sheffield United v Mansfield Town
LOCATION:Bramall Lane
DESCRIPTION:Sheffield United v Mansfield Town - Bramall Lane - The FA Cup
STATUS:CONFIRMED
END:VEVENT
END:VCALENDAR