BEGIN:VCALENDAR
VERSION:2.0
PRODID:-//Sky Sports SSDM//NONSGML Event Calendar//EN
URL:https://www.skysports.com/calendars/football/fixtures/teams/sparta-rot
 terdam
CALSCALE:GREGORIAN
METHOD:PUBLISH
NAME:Sparta Rotterdam Fixtures
X-WR-CALNAME:Sparta Rotterdam Fixtures
X-WR-CALDESC:Sparta Rotterdam fixtures provided by Sky Sports (https://www
 .skysports.com)
REFRESH-INTERVAL;VALUE=DURATION:PT1H
X-PUBLISHED-TTL:PT1H
BEGIN:VEVENT
UID:383ab3da024ca8c5b8320f9f5b41a302@skysports.com
SEQUENCE:0
DTSTAMP:20260425T091209Z
DTSTART:20250809T190000Z
DTEND:20250809T210000Z
SUMMARY:PSV Eindhoven v Sparta Rotterdam
LOCATION:Philips Stadion
DESCRIPTION:PSV Eindhoven v Sparta Rotterdam - Philips Stadion - Dutch Ere
 divisie
STATUS:CONFIRMED
END:VEVENT
BEGIN:VEVENT
UID:bb492fd369cbbcc98b813112d8b5def7@skysports.com
SEQUENCE:0
DTSTAMP:20260425T091209Z
DTSTART:20250817T123000Z
DTEND:20250817T143000Z
SUMMARY:Sparta Rotterdam v FC Utrecht
LOCATION:Sparta-Stadion
DESCRIPTION:Sparta Rotterdam v FC Utrecht - Sparta-Stadion - Dutch Eredivi
 sie
STATUS:CONFIRMED
END:VEVENT
BEGIN:VEVENT
UID:a46f3d7c075652e56c73f185c083116d@skysports.com
SEQUENCE:0
DTSTAMP:20260425T091209Z
DTSTART:20250823T143000Z
DTEND:20250823T163000Z
SUMMARY:Go Ahead Eagles v Sparta Rotterdam
LOCATION:De Adelaarshorst
DESCRIPTION:Go Ahead Eagles v Sparta Rotterdam - De Adelaarshorst - Dutch 
 Eredivisie
STATUS:CONFIRMED
END:VEVENT
BEGIN:VEVENT
UID:a26568ab8d78dd3cb3ce6634fe02ba38@skysports.com
SEQUENCE:0
DTSTAMP:20260425T091209Z
DTSTART:20250831T123000Z
DTEND:20250831T143000Z
SUMMARY:Sparta Rotterdam v Feyenoord
LOCATION:Sparta-Stadion
DESCRIPTION:Sparta Rotterdam v Feyenoord - Sparta-Stadion - Dutch Eredivis
 ie
STATUS:CONFIRMED
END:VEVENT
BEGIN:VEVENT
UID:2d12bf2c2e1410f96a3f18e2921a8e10@skysports.com
SEQUENCE:0
DTSTAMP:20260425T091209Z
DTSTART:20250914T101500Z
DTEND:20250914T121500Z
SUMMARY:Excelsior v Sparta Rotterdam
LOCATION:Stadion Woudestein
DESCRIPTION:Excelsior v Sparta Rotterdam - Stadion Woudestein - Dutch Ered
 ivisie
STATUS:CONFIRMED
END:VEVENT
BEGIN:VEVENT
UID:fd4668e838f095e5e3e8f854aae7e49e@skysports.com
SEQUENCE:0
DTSTAMP:20260425T091209Z
DTSTART:20250919T180000Z
DTEND:20250919T200000Z
SUMMARY:Sparta Rotterdam v FC Twente
LOCATION:Sparta-Stadion
DESCRIPTION:Sparta Rotterdam v FC Twente - Sparta-Stadion - Dutch Eredivis
 ie
STATUS:CONFIRMED
END:VEVENT
BEGIN:VEVENT
UID:5b418da1335729e6dd650cf65018de20@skysports.com
SEQUENCE:0
DTSTAMP:20260425T091209Z
DTSTART:20250927T190000Z
DTEND:20250927T210000Z
SUMMARY:Heracles Almelo v Sparta Rotterdam
LOCATION:Erve Asito
DESCRIPTION:Heracles Almelo v Sparta Rotterdam - Erve Asito - Dutch Erediv
 isie
STATUS:CONFIRMED
END:VEVENT
BEGIN:VEVENT
UID:be18251bf8780791169d6a1c6f5acf1b@skysports.com
SEQUENCE:0
DTSTAMP:20260425T091209Z
DTSTART:20251004T143000Z
DTEND:20251004T163000Z
SUMMARY:Sparta Rotterdam v Ajax
LOCATION:Sparta-Stadion
DESCRIPTION:Sparta Rotterdam v Ajax - Sparta-Stadion - Dutch Eredivisie
STATUS:CONFIRMED
END:VEVENT
BEGIN:VEVENT
UID:b2aa7990e847c85727cedc126df60970@skysports.com
SEQUENCE:0
DTSTAMP:20260425T091209Z
DTSTART:20251019T123000Z
DTEND:20251019T143000Z
SUMMARY:Groningen v Sparta Rotterdam
LOCATION:Noordlease Stadion
DESCRIPTION:Groningen v Sparta Rotterdam - Noordlease Stadion - Dutch Ered
 ivisie
STATUS:CONFIRMED
END:VEVENT
BEGIN:VEVENT
UID:b1051485514efd060b163ecc4a84b3bd@skysports.com
SEQUENCE:0
DTSTAMP:20260425T091209Z
DTSTART:20251025T164500Z
DTEND:20251025T184500Z
SUMMARY:Sparta Rotterdam v Telstar
LOCATION:Sparta-Stadion
DESCRIPTION:Sparta Rotterdam v Telstar - Sparta-Stadion - Dutch Eredivisie
STATUS:CONFIRMED
END:VEVENT
BEGIN:VEVENT
UID:108a877264ca6e2e8035a8bb0bf4d540@skysports.com
SEQUENCE:0
DTSTAMP:20260425T091209Z
DTSTART:20251102T133000Z
DTEND:20251102T153000Z
SUMMARY:Sparta Rotterdam v AZ Alkmaar
LOCATION:Sparta-Stadion
DESCRIPTION:Sparta Rotterdam v AZ Alkmaar - Sparta-Stadion - Dutch Eredivi
 sie
STATUS:CONFIRMED
END:VEVENT
BEGIN:VEVENT
UID:dd56aef72abae33bd6d26500374fc8b6@skysports.com
SEQUENCE:0
DTSTAMP:20260425T091209Z
DTSTART:20251108T200000Z
DTEND:20251108T220000Z
SUMMARY:PEC Zwolle v Sparta Rotterdam
LOCATION:IJsseldelta Stadion
DESCRIPTION:PEC Zwolle v Sparta Rotterdam - IJsseldelta Stadion - Dutch Er
 edivisie
STATUS:CONFIRMED
END:VEVENT
BEGIN:VEVENT
UID:b9eaa1caad1520f989bf818f7c01a0ed@skysports.com
SEQUENCE:0
DTSTAMP:20260425T091209Z
DTSTART:20251122T200000Z
DTEND:20251122T220000Z
SUMMARY:Sparta Rotterdam v Fortuna Sittard
LOCATION:Sparta-Stadion
DESCRIPTION:Sparta Rotterdam v Fortuna Sittard - Sparta-Stadion - Dutch Er
 edivisie
STATUS:CONFIRMED
END:VEVENT
BEGIN:VEVENT
UID:402a3b4aa54049071c3b9a6ccb1c08b0@skysports.com
SEQUENCE:0
DTSTAMP:20260425T091209Z
DTSTART:20251129T200000Z
DTEND:20251129T220000Z
SUMMARY:NEC Nijmegen v Sparta Rotterdam
LOCATION:Stadion De Goffert
DESCRIPTION:NEC Nijmegen v Sparta Rotterdam - Stadion De Goffert - Dutch E
 redivisie
STATUS:CONFIRMED
END:VEVENT
BEGIN:VEVENT
UID:da1eb328f0bc38dfe8c1864c6a716176@skysports.com
SEQUENCE:0
DTSTAMP:20260425T091209Z
DTSTART:20251207T154500Z
DTEND:20251207T174500Z
SUMMARY:Sparta Rotterdam v NAC Breda
LOCATION:Sparta-Stadion
DESCRIPTION:Sparta Rotterdam v NAC Breda - Sparta-Stadion - Dutch Eredivis
 ie
STATUS:CONFIRMED
END:VEVENT
BEGIN:VEVENT
UID:fe2156e6f7563f6c3fb563c8e57685cf@skysports.com
SEQUENCE:0
DTSTAMP:20260425T091209Z
DTSTART:20251214T111500Z
DTEND:20251214T131500Z
SUMMARY:Sparta Rotterdam v Heerenveen
LOCATION:Sparta-Stadion
DESCRIPTION:Sparta Rotterdam v Heerenveen - Sparta-Stadion - Dutch Eredivi
 sie
STATUS:CONFIRMED
END:VEVENT
BEGIN:VEVENT
UID:f9ca591b0024630714a090b2ea9d380a@skysports.com
SEQUENCE:0
DTSTAMP:20260425T091209Z
DTSTART:20251221T154500Z
DTEND:20251221T174500Z
SUMMARY:FC Volendam v Sparta Rotterdam
LOCATION:Kras Stadion
DESCRIPTION:FC Volendam v Sparta Rotterdam - Kras Stadion - Dutch Eredivis
 ie
STATUS:CONFIRMED
END:VEVENT
BEGIN:VEVENT
UID:13f832a29935a3ad1f95afc5fcc53b38@skysports.com
SEQUENCE:0
DTSTAMP:20260425T091209Z
DTSTART:20260111T154500Z
DTEND:20260111T174500Z
SUMMARY:Sparta Rotterdam v Heracles Almelo
LOCATION:Sparta-Stadion
DESCRIPTION:Sparta Rotterdam v Heracles Almelo - Sparta-Stadion - Dutch Er
 edivisie
STATUS:CONFIRMED
END:VEVENT
BEGIN:VEVENT
UID:fd5a6378b96c868e07bdfd849ea755a9@skysports.com
SEQUENCE:0
DTSTAMP:20260425T091209Z
DTSTART:20260118T154500Z
DTEND:20260118T174500Z
SUMMARY:Feyenoord v Sparta Rotterdam
LOCATION:De Kuip
DESCRIPTION:Feyenoord v Sparta Rotterdam - De Kuip - Dutch Eredivisie
STATUS:CONFIRMED
END:VEVENT
BEGIN:VEVENT
UID:779a50c7a7b8aa241c25dce498f420cc@skysports.com
SEQUENCE:0
DTSTAMP:20260425T091209Z
DTSTART:20260125T154500Z
DTEND:20260125T174500Z
SUMMARY:FC Utrecht v Sparta Rotterdam
LOCATION:Stadion Galgenwaard
DESCRIPTION:FC Utrecht v Sparta Rotterdam - Stadion Galgenwaard - Dutch Er
 edivisie
STATUS:CONFIRMED
END:VEVENT
BEGIN:VEVENT
UID:a0c8503f77b4853b303bfad440f0c08b@skysports.com
SEQUENCE:0
DTSTAMP:20260425T091209Z
DTSTART:20260131T200000Z
DTEND:20260131T220000Z
SUMMARY:Sparta Rotterdam v Groningen
LOCATION:Sparta-Stadion
DESCRIPTION:Sparta Rotterdam v Groningen - Sparta-Stadion - Dutch Eredivis
 ie
STATUS:CONFIRMED
END:VEVENT
BEGIN:VEVENT
UID:248b84134194f880d1c549c20852023f@skysports.com
SEQUENCE:0
DTSTAMP:20260425T091209Z
DTSTART:20260207T200000Z
DTEND:20260207T220000Z
SUMMARY:Fortuna Sittard v Sparta Rotterdam
LOCATION:Fortuna Sittard Stadion
DESCRIPTION:Fortuna Sittard v Sparta Rotterdam - Fortuna Sittard Stadion -
  Dutch Eredivisie
STATUS:CONFIRMED
END:VEVENT
BEGIN:VEVENT
UID:3a3a7730130a85fe601ebad32a426c35@skysports.com
SEQUENCE:0
DTSTAMP:20260425T091209Z
DTSTART:20260217T190000Z
DTEND:20260217T210000Z
SUMMARY:Sparta Rotterdam v NEC Nijmegen
LOCATION:Sparta-Stadion
DESCRIPTION:Sparta Rotterdam v NEC Nijmegen - Sparta-Stadion - Dutch Eredi
 visie
STATUS:CONFIRMED
END:VEVENT
BEGIN:VEVENT
UID:7b84a26785d2105b12ec4d22e3101986@skysports.com
SEQUENCE:0
DTSTAMP:20260425T091209Z
DTSTART:20260222T154500Z
DTEND:20260222T174500Z
SUMMARY:AZ Alkmaar v Sparta Rotterdam
LOCATION:AFAS Stadion
DESCRIPTION:AZ Alkmaar v Sparta Rotterdam - AFAS Stadion - Dutch Eredivisi
 e
STATUS:CONFIRMED
END:VEVENT
BEGIN:VEVENT
UID:c064659f78a12f460a9d85e2338a8716@skysports.com
SEQUENCE:0
DTSTAMP:20260425T091209Z
DTSTART:20260228T153000Z
DTEND:20260228T173000Z
SUMMARY:Heerenveen v Sparta Rotterdam
LOCATION:Abe Lenstra Stadion
DESCRIPTION:Heerenveen v Sparta Rotterdam - Abe Lenstra Stadion - Dutch Er
 edivisie
STATUS:CONFIRMED
END:VEVENT
BEGIN:VEVENT
UID:17160a0534717538341abc7063b1330f@skysports.com
SEQUENCE:0
DTSTAMP:20260425T091209Z
DTSTART:20260308T111500Z
DTEND:20260308T131500Z
SUMMARY:Sparta Rotterdam v PEC Zwolle
LOCATION:Sparta-Stadion
DESCRIPTION:Sparta Rotterdam v PEC Zwolle - Sparta-Stadion - Dutch Eredivi
 sie
STATUS:CONFIRMED
END:VEVENT
BEGIN:VEVENT
UID:f7b9834fe9cb2f416bdafc3b42cfb536@skysports.com
SEQUENCE:0
DTSTAMP:20260425T091209Z
DTSTART:20260314T200000Z
DTEND:20260314T220000Z
SUMMARY:Ajax v Sparta Rotterdam
LOCATION:Amsterdam ArenA
DESCRIPTION:Ajax v Sparta Rotterdam - Amsterdam ArenA - Dutch Eredivisie
STATUS:CONFIRMED
END:VEVENT
BEGIN:VEVENT
UID:b332fc2bd0348b57679a9ab290612309@skysports.com
SEQUENCE:0
DTSTAMP:20260425T091209Z
DTSTART:20260321T174500Z
DTEND:20260321T194500Z
SUMMARY:Sparta Rotterdam v FC Volendam
LOCATION:Sparta-Stadion
DESCRIPTION:Sparta Rotterdam v FC Volendam - Sparta-Stadion - Dutch Erediv
 isie
STATUS:CONFIRMED
END:VEVENT
BEGIN:VEVENT
UID:f1b15c77f3e215eabed36019e4268631@skysports.com
SEQUENCE:0
DTSTAMP:20260425T091209Z
DTSTART:20260405T144500Z
DTEND:20260405T164500Z
SUMMARY:NAC Breda v Sparta Rotterdam
LOCATION:Rat Verlegh Stadion
DESCRIPTION:NAC Breda v Sparta Rotterdam - Rat Verlegh Stadion - Dutch Ere
 divisie
STATUS:CONFIRMED
END:VEVENT
BEGIN:VEVENT
UID:64f673d21f9281fccabc98949af733b9@skysports.com
SEQUENCE:0
DTSTAMP:20260425T091209Z
DTSTART:20260411T164500Z
DTEND:20260411T184500Z
SUMMARY:Sparta Rotterdam v PSV Eindhoven
LOCATION:Sparta-Stadion
DESCRIPTION:Sparta Rotterdam v PSV Eindhoven - Sparta-Stadion - Dutch Ered
 ivisie
STATUS:CONFIRMED
END:VEVENT
BEGIN:VEVENT
UID:71219e81d4f882337fed5084e598fc34@skysports.com
SEQUENCE:0
DTSTAMP:20260425T091209Z
DTSTART:20260422T180000Z
DTEND:20260422T200000Z
SUMMARY:Telstar v Sparta Rotterdam
LOCATION:Rabobank IJmond Stadion
DESCRIPTION:Telstar v Sparta Rotterdam - Rabobank IJmond Stadion - Dutch E
 redivisie
STATUS:CONFIRMED
END:VEVENT
BEGIN:VEVENT
UID:871a99646f2d5b2b90f8f34cf5f28795@skysports.com
SEQUENCE:0
DTSTAMP:20260425T091209Z
DTSTART:20260503T144500Z
DTEND:20260503T164500Z
SUMMARY:Sparta Rotterdam v Go Ahead Eagles
LOCATION:Sparta-Stadion
DESCRIPTION:Sparta Rotterdam v Go Ahead Eagles - Sparta-Stadion - Dutch Er
 edivisie
STATUS:CONFIRMED
END:VEVENT
BEGIN:VEVENT
UID:fd5020f891d6981f0b537813059de060@skysports.com
SEQUENCE:0
DTSTAMP:20260425T091209Z
DTSTART:20260510T144500Z
DTEND:20260510T164500Z
SUMMARY:FC Twente v Sparta Rotterdam
LOCATION:De Grolsch Veste
DESCRIPTION:FC Twente v Sparta Rotterdam - De Grolsch Veste - Dutch Erediv
 isie
STATUS:CONFIRMED
END:VEVENT
BEGIN:VEVENT
UID:12ee327d5b1c82885a79fd75270c251f@skysports.com
SEQUENCE:0
DTSTAMP:20260425T091209Z
DTSTART:20260517T123000Z
DTEND:20260517T143000Z
SUMMARY:Sparta Rotterdam v Excelsior
LOCATION:Sparta-Stadion
DESCRIPTION:Sparta Rotterdam v Excelsior - Sparta-Stadion - Dutch Eredivis
 ie
STATUS:CONFIRMED
END:VEVENT
END:VCALENDAR