BEGIN:VCALENDAR
VERSION:2.0
PRODID:-//Sky Sports SSDM//NONSGML Event Calendar//EN
URL:https://www.skysports.com/calendars/football/fixtures/teams/stoke-city
CALSCALE:GREGORIAN
METHOD:PUBLISH
NAME:Stoke City Fixtures
X-WR-CALNAME:Stoke City Fixtures
X-WR-CALDESC:Stoke City fixtures provided by Sky Sports (https://www.skysp
 orts.com)
REFRESH-INTERVAL;VALUE=DURATION:PT1H
X-PUBLISHED-TTL:PT1H
BEGIN:VEVENT
UID:1d37f7213d706591a26d98a78962e829@skysports.com
SEQUENCE:0
DTSTAMP:20260425T090404Z
DTSTART:20250809T140000Z
DTEND:20250809T160000Z
SUMMARY:Stoke City v Derby County
LOCATION:Bet365 Stadium
DESCRIPTION:Stoke City v Derby County - Bet365 Stadium - Sky Bet Champions
 hip - Live on Sky Sports+
STATUS:CONFIRMED
END:VEVENT
BEGIN:VEVENT
UID:05a739a64e633fc72219f57398270922@skysports.com
SEQUENCE:0
DTSTAMP:20260425T090404Z
DTSTART:20250816T140000Z
DTEND:20250816T160000Z
SUMMARY:Sheffield Wednesday v Stoke City
LOCATION:Hillsborough
DESCRIPTION:Sheffield Wednesday v Stoke City - Hillsborough - Sky Bet Cham
 pionship
STATUS:CONFIRMED
END:VEVENT
BEGIN:VEVENT
UID:3901b7ea0bef4e3c59fbc491c26ce67b@skysports.com
SEQUENCE:0
DTSTAMP:20260425T090404Z
DTSTART:20250823T140000Z
DTEND:20250823T160000Z
SUMMARY:Southampton v Stoke City
LOCATION:St. Mary's Stadium
DESCRIPTION:Southampton v Stoke City - St. Mary's Stadium - Sky Bet Champi
 onship
STATUS:CONFIRMED
END:VEVENT
BEGIN:VEVENT
UID:db19cb7240b8cb1ca2c14e21bb8c6742@skysports.com
SEQUENCE:0
DTSTAMP:20260425T090404Z
DTSTART:20250830T113000Z
DTEND:20250830T133000Z
SUMMARY:Stoke City v West Bromwich Albion
LOCATION:Bet365 Stadium
DESCRIPTION:Stoke City v West Bromwich Albion - Bet365 Stadium - Sky Bet C
 hampionship - Live on Sky Sports+
STATUS:CONFIRMED
END:VEVENT
BEGIN:VEVENT
UID:cfc88aa3063dd2cac000b89258cf396c@skysports.com
SEQUENCE:0
DTSTAMP:20260425T090404Z
DTSTART:20250913T140000Z
DTEND:20250913T160000Z
SUMMARY:Stoke City v Birmingham City
LOCATION:Bet365 Stadium
DESCRIPTION:Stoke City v Birmingham City - Bet365 Stadium - Sky Bet Champi
 onship
STATUS:CONFIRMED
END:VEVENT
BEGIN:VEVENT
UID:e0b2491dbaa6377a75eeb5755874b912@skysports.com
SEQUENCE:0
DTSTAMP:20260425T090404Z
DTSTART:20250920T113000Z
DTEND:20250920T133000Z
SUMMARY:Queens Park Rangers v Stoke City
LOCATION:Loftus Road Stadium
DESCRIPTION:Queens Park Rangers v Stoke City - Loftus Road Stadium - Sky B
 et Championship - Live on Sky Sports+
STATUS:CONFIRMED
END:VEVENT
BEGIN:VEVENT
UID:e77ace0b3a94e9ee0a8c92ec1fd7bd0a@skysports.com
SEQUENCE:0
DTSTAMP:20260425T090404Z
DTSTART:20250927T140000Z
DTEND:20250927T160000Z
SUMMARY:Stoke City v Norwich City
LOCATION:Bet365 Stadium
DESCRIPTION:Stoke City v Norwich City - Bet365 Stadium - Sky Bet Champions
 hip
STATUS:CONFIRMED
END:VEVENT
BEGIN:VEVENT
UID:396f0fb3226c9bf0589d46d9b5fef5a0@skysports.com
SEQUENCE:0
DTSTAMP:20260425T090404Z
DTSTART:20250930T184500Z
DTEND:20250930T204500Z
SUMMARY:Middlesbrough v Stoke City
LOCATION:Riverside Stadium
DESCRIPTION:Middlesbrough v Stoke City - Riverside Stadium - Sky Bet Champ
 ionship - Live on Sky Sports+
STATUS:CONFIRMED
END:VEVENT
BEGIN:VEVENT
UID:5d7ec522732562e9359da931b50c24da@skysports.com
SEQUENCE:0
DTSTAMP:20260425T090404Z
DTSTART:20251004T113000Z
DTEND:20251004T133000Z
SUMMARY:Blackburn Rovers v Stoke City
LOCATION:Ewood Park
DESCRIPTION:Blackburn Rovers v Stoke City - Ewood Park - Sky Bet Champions
 hip - Live on Sky Sports+
STATUS:CONFIRMED
END:VEVENT
BEGIN:VEVENT
UID:f26f8e99945c3d9829c829bb35e06383@skysports.com
SEQUENCE:0
DTSTAMP:20260425T090404Z
DTSTART:20251018T140000Z
DTEND:20251018T160000Z
SUMMARY:Stoke City v Wrexham
LOCATION:Bet365 Stadium
DESCRIPTION:Stoke City v Wrexham - Bet365 Stadium - Sky Bet Championship
STATUS:CONFIRMED
END:VEVENT
BEGIN:VEVENT
UID:b61d75676302c154f2fc341b87b87a3b@skysports.com
SEQUENCE:0
DTSTAMP:20260425T090404Z
DTSTART:20251021T184500Z
DTEND:20251021T204500Z
SUMMARY:Millwall v Stoke City
LOCATION:The Den
DESCRIPTION:Millwall v Stoke City - The Den - Sky Bet Championship - Live 
 on Sky Sports+
STATUS:CONFIRMED
END:VEVENT
BEGIN:VEVENT
UID:b82982a87a766d6a21f44f4594680295@skysports.com
SEQUENCE:0
DTSTAMP:20260425T090404Z
DTSTART:20251025T113000Z
DTEND:20251025T133000Z
SUMMARY:Portsmouth v Stoke City
LOCATION:Fratton Park
DESCRIPTION:Portsmouth v Stoke City - Fratton Park - Sky Bet Championship 
 - Live on Sky Sports+
STATUS:CONFIRMED
END:VEVENT
BEGIN:VEVENT
UID:aa4984ae965cf2a2c65563e795e03b86@skysports.com
SEQUENCE:0
DTSTAMP:20260425T090404Z
DTSTART:20251101T150000Z
DTEND:20251101T170000Z
SUMMARY:Stoke City v Bristol City
LOCATION:Bet365 Stadium
DESCRIPTION:Stoke City v Bristol City - Bet365 Stadium - Sky Bet Champions
 hip
STATUS:CONFIRMED
END:VEVENT
BEGIN:VEVENT
UID:3862a555a50f27bbcb64fd55ab413183@skysports.com
SEQUENCE:0
DTSTAMP:20260425T090404Z
DTSTART:20251104T194500Z
DTEND:20251104T214500Z
SUMMARY:Oxford United v Stoke City
LOCATION:The Kassam Stadium
DESCRIPTION:Oxford United v Stoke City - The Kassam Stadium - Sky Bet Cham
 pionship - Live on Sky Sports+
STATUS:CONFIRMED
END:VEVENT
BEGIN:VEVENT
UID:0417410b8ea04d6d1cc0ef4169c8dd58@skysports.com
SEQUENCE:0
DTSTAMP:20260425T090404Z
DTSTART:20251108T150000Z
DTEND:20251108T170000Z
SUMMARY:Stoke City v Coventry City
LOCATION:Bet365 Stadium
DESCRIPTION:Stoke City v Coventry City - Bet365 Stadium - Sky Bet Champion
 ship
STATUS:CONFIRMED
END:VEVENT
BEGIN:VEVENT
UID:5e13d34fc68ff551c63fe9ed76b9eb74@skysports.com
SEQUENCE:0
DTSTAMP:20260425T090404Z
DTSTART:20251122T150000Z
DTEND:20251122T170000Z
SUMMARY:Leicester City v Stoke City
LOCATION:The King Power Stadium
DESCRIPTION:Leicester City v Stoke City - The King Power Stadium - Sky Bet
  Championship
STATUS:CONFIRMED
END:VEVENT
BEGIN:VEVENT
UID:c04813eeb898db8482b4a3244746fc95@skysports.com
SEQUENCE:0
DTSTAMP:20260425T090404Z
DTSTART:20251125T194500Z
DTEND:20251125T214500Z
SUMMARY:Stoke City v Charlton Athletic
LOCATION:Bet365 Stadium
DESCRIPTION:Stoke City v Charlton Athletic - Bet365 Stadium - Sky Bet Cham
 pionship - Live on Sky Sports+
STATUS:CONFIRMED
END:VEVENT
BEGIN:VEVENT
UID:ad17b09794ee0014cf3eeafef1ce01e0@skysports.com
SEQUENCE:0
DTSTAMP:20260425T090404Z
DTSTART:20251129T123000Z
DTEND:20251129T143000Z
SUMMARY:Stoke City v Hull City
LOCATION:Bet365 Stadium
DESCRIPTION:Stoke City v Hull City - Bet365 Stadium - Sky Bet Championship
  - Live on Sky Sports Football
STATUS:CONFIRMED
END:VEVENT
BEGIN:VEVENT
UID:b5149093a158dab94f84a911a7a9c20c@skysports.com
SEQUENCE:0
DTSTAMP:20260425T090404Z
DTSTART:20251206T150000Z
DTEND:20251206T170000Z
SUMMARY:Sheffield United v Stoke City
LOCATION:Bramall Lane
DESCRIPTION:Sheffield United v Stoke City - Bramall Lane - Sky Bet Champio
 nship
STATUS:CONFIRMED
END:VEVENT
BEGIN:VEVENT
UID:d4ef83af4126da65715dda5994326d4c@skysports.com
SEQUENCE:0
DTSTAMP:20260425T090404Z
DTSTART:20251210T194500Z
DTEND:20251210T214500Z
SUMMARY:Ipswich Town v Stoke City
LOCATION:Portman Road
DESCRIPTION:Ipswich Town v Stoke City - Portman Road - Sky Bet Championshi
 p - Live on Sky Sports+
STATUS:CONFIRMED
END:VEVENT
BEGIN:VEVENT
UID:c4f3a8fa6b0b6b56105d7337789fb642@skysports.com
SEQUENCE:0
DTSTAMP:20260425T090404Z
DTSTART:20251213T123000Z
DTEND:20251213T143000Z
SUMMARY:Stoke City v Swansea City
LOCATION:Bet365 Stadium
DESCRIPTION:Stoke City v Swansea City - Bet365 Stadium - Sky Bet Champions
 hip - Live on Sky Sports+
STATUS:CONFIRMED
END:VEVENT
BEGIN:VEVENT
UID:fab8f3c82356d26e01767ef0743fa40c@skysports.com
SEQUENCE:0
DTSTAMP:20260425T090404Z
DTSTART:20251220T150000Z
DTEND:20251220T170000Z
SUMMARY:Watford v Stoke City
LOCATION:Vicarage Road
DESCRIPTION:Watford v Stoke City - Vicarage Road - Sky Bet Championship
STATUS:CONFIRMED
END:VEVENT
BEGIN:VEVENT
UID:ba13c1d7b8a993ae210a74974b4adfe3@skysports.com
SEQUENCE:0
DTSTAMP:20260425T090404Z
DTSTART:20251226T150000Z
DTEND:20251226T170000Z
SUMMARY:Stoke City v Preston North End
LOCATION:Bet365 Stadium
DESCRIPTION:Stoke City v Preston North End - Bet365 Stadium - Sky Bet Cham
 pionship - Live on Sky Sports+
STATUS:CONFIRMED
END:VEVENT
BEGIN:VEVENT
UID:59fe3e674a2cb25471ec89f7e6d70eb2@skysports.com
SEQUENCE:0
DTSTAMP:20260425T090404Z
DTSTART:20251229T194500Z
DTEND:20251229T214500Z
SUMMARY:Stoke City v Sheffield United
LOCATION:Bet365 Stadium
DESCRIPTION:Stoke City v Sheffield United - Bet365 Stadium - Sky Bet Champ
 ionship
STATUS:CONFIRMED
END:VEVENT
BEGIN:VEVENT
UID:d81e7cf82f5dfdee3dcc4d793d8c8b39@skysports.com
SEQUENCE:0
DTSTAMP:20260425T090404Z
DTSTART:20260101T150000Z
DTEND:20260101T170000Z
SUMMARY:Hull City v Stoke City
LOCATION:MKM Stadium
DESCRIPTION:Hull City v Stoke City - MKM Stadium - Sky Bet Championship - 
 Live on Sky Sports+
STATUS:CONFIRMED
END:VEVENT
BEGIN:VEVENT
UID:d3b15aae0ab8f76eb871340709e596fe@skysports.com
SEQUENCE:0
DTSTAMP:20260425T090404Z
DTSTART:20260104T150000Z
DTEND:20260104T170000Z
SUMMARY:Norwich City v Stoke City
LOCATION:Carrow Road
DESCRIPTION:Norwich City v Stoke City - Carrow Road - Sky Bet Championship
STATUS:CONFIRMED
END:VEVENT
BEGIN:VEVENT
UID:30d9b75b05791de03f739b38c49ac99d@skysports.com
SEQUENCE:0
DTSTAMP:20260425T090404Z
DTSTART:20260117T150000Z
DTEND:20260117T170000Z
SUMMARY:Stoke City v Queens Park Rangers
LOCATION:Bet365 Stadium
DESCRIPTION:Stoke City v Queens Park Rangers - Bet365 Stadium - Sky Bet Ch
 ampionship
STATUS:CONFIRMED
END:VEVENT
BEGIN:VEVENT
UID:83b8557abbcfa28811141918468b2f5e@skysports.com
SEQUENCE:0
DTSTAMP:20260425T090404Z
DTSTART:20260121T200000Z
DTEND:20260121T220000Z
SUMMARY:Stoke City v Middlesbrough
LOCATION:Bet365 Stadium
DESCRIPTION:Stoke City v Middlesbrough - Bet365 Stadium - Sky Bet Champion
 ship - Live on Sky Sports Football
STATUS:CONFIRMED
END:VEVENT
BEGIN:VEVENT
UID:c79f65a0e27bc6e8d234446fd35c3875@skysports.com
SEQUENCE:0
DTSTAMP:20260425T090404Z
DTSTART:20260124T150000Z
DTEND:20260124T170000Z
SUMMARY:Birmingham City v Stoke City
LOCATION:St. Andrew's Stadium
DESCRIPTION:Birmingham City v Stoke City - St. Andrew's Stadium - Sky Bet 
 Championship
STATUS:CONFIRMED
END:VEVENT
BEGIN:VEVENT
UID:113c7c583d2faf9e5545bf5ec0d1251b@skysports.com
SEQUENCE:0
DTSTAMP:20260425T090404Z
DTSTART:20260131T123000Z
DTEND:20260131T143000Z
SUMMARY:Stoke City v Southampton
LOCATION:Bet365 Stadium
DESCRIPTION:Stoke City v Southampton - Bet365 Stadium - Sky Bet Championsh
 ip - Live on Sky Sports Football
STATUS:CONFIRMED
END:VEVENT
BEGIN:VEVENT
UID:8f646041ff899df7ffb2ba7a4e93d98c@skysports.com
SEQUENCE:0
DTSTAMP:20260425T090404Z
DTSTART:20260207T150100Z
DTEND:20260207T170100Z
SUMMARY:West Bromwich Albion v Stoke City
LOCATION:The Hawthorns
DESCRIPTION:West Bromwich Albion v Stoke City - The Hawthorns - Sky Bet Ch
 ampionship
STATUS:CONFIRMED
END:VEVENT
BEGIN:VEVENT
UID:bc4e4e74005ba667c08e18a9a01173d4@skysports.com
SEQUENCE:0
DTSTAMP:20260425T090404Z
DTSTART:20260211T194500Z
DTEND:20260211T214500Z
SUMMARY:Charlton Athletic v Stoke City
LOCATION:The Valley
DESCRIPTION:Charlton Athletic v Stoke City - The Valley - Sky Bet Champion
 ship - Live on Sky Sports+
STATUS:CONFIRMED
END:VEVENT
BEGIN:VEVENT
UID:b5f9aeef8abc9383410923c8b9c84a22@skysports.com
SEQUENCE:0
DTSTAMP:20260425T090404Z
DTSTART:20260221T123000Z
DTEND:20260221T143000Z
SUMMARY:Stoke City v Leicester City
LOCATION:Bet365 Stadium
DESCRIPTION:Stoke City v Leicester City - Bet365 Stadium - Sky Bet Champio
 nship - Live on Sky Sports+
STATUS:CONFIRMED
END:VEVENT
BEGIN:VEVENT
UID:44f24dbb773cf2fb9f08cc6864803346@skysports.com
SEQUENCE:0
DTSTAMP:20260425T090404Z
DTSTART:20260225T200000Z
DTEND:20260225T220000Z
SUMMARY:Stoke City v Oxford United
LOCATION:Bet365 Stadium
DESCRIPTION:Stoke City v Oxford United - Bet365 Stadium - Sky Bet Champion
 ship - Live on Sky Sports Football
STATUS:CONFIRMED
END:VEVENT
BEGIN:VEVENT
UID:4006cfe26d70ee994a0843227befb575@skysports.com
SEQUENCE:0
DTSTAMP:20260425T090404Z
DTSTART:20260228T150000Z
DTEND:20260228T170000Z
SUMMARY:Coventry City v Stoke City
LOCATION:The Coventry Building Society Arena
DESCRIPTION:Coventry City v Stoke City - The Coventry Building Society Are
 na - Sky Bet Championship
STATUS:CONFIRMED
END:VEVENT
BEGIN:VEVENT
UID:3a578e707850fca850c26d063700465a@skysports.com
SEQUENCE:0
DTSTAMP:20260425T090404Z
DTSTART:20260307T150000Z
DTEND:20260307T170000Z
SUMMARY:Swansea City v Stoke City
LOCATION:Swansea.com Stadium
DESCRIPTION:Swansea City v Stoke City - Swansea.com Stadium - Sky Bet Cham
 pionship
STATUS:CONFIRMED
END:VEVENT
BEGIN:VEVENT
UID:432ba708d862fae7f0177f2f387f65fa@skysports.com
SEQUENCE:0
DTSTAMP:20260425T090404Z
DTSTART:20260310T200000Z
DTEND:20260310T220000Z
SUMMARY:Stoke City v Ipswich Town
LOCATION:Bet365 Stadium
DESCRIPTION:Stoke City v Ipswich Town - Bet365 Stadium - Sky Bet Champions
 hip - Live on Sky Sports Main Event and Sky Sports Football
STATUS:CONFIRMED
END:VEVENT
BEGIN:VEVENT
UID:22c717faebed8a5cd3c19a8fbe33550d@skysports.com
SEQUENCE:0
DTSTAMP:20260425T090404Z
DTSTART:20260314T150000Z
DTEND:20260314T170000Z
SUMMARY:Stoke City v Watford
LOCATION:Bet365 Stadium
DESCRIPTION:Stoke City v Watford - Bet365 Stadium - Sky Bet Championship
STATUS:CONFIRMED
END:VEVENT
BEGIN:VEVENT
UID:10ba9da99322f890f16e82add4685499@skysports.com
SEQUENCE:0
DTSTAMP:20260425T090404Z
DTSTART:20260320T200000Z
DTEND:20260320T220000Z
SUMMARY:Preston North End v Stoke City
LOCATION:Deepdale
DESCRIPTION:Preston North End v Stoke City - Deepdale - Sky Bet Championsh
 ip - Live on Sky Sports Football
STATUS:CONFIRMED
END:VEVENT
BEGIN:VEVENT
UID:45499f7bd8e02dfde338d5185d2c6fb5@skysports.com
SEQUENCE:0
DTSTAMP:20260425T090404Z
DTSTART:20260403T140000Z
DTEND:20260403T160000Z
SUMMARY:Stoke City v Sheffield Wednesday
LOCATION:Bet365 Stadium
DESCRIPTION:Stoke City v Sheffield Wednesday - Bet365 Stadium - Sky Bet Ch
 ampionship - Live on Sky Sports+
STATUS:CONFIRMED
END:VEVENT
BEGIN:VEVENT
UID:9b08be05d5d6026420c6d30aae37b349@skysports.com
SEQUENCE:0
DTSTAMP:20260425T090404Z
DTSTART:20260406T140000Z
DTEND:20260406T160000Z
SUMMARY:Derby County v Stoke City
LOCATION:Pride Park Stadium
DESCRIPTION:Derby County v Stoke City - Pride Park Stadium - Sky Bet Champ
 ionship - Live on Sky Sports+
STATUS:CONFIRMED
END:VEVENT
BEGIN:VEVENT
UID:e643bf3fb8e972ec6e8be78f3e1a01ad@skysports.com
SEQUENCE:0
DTSTAMP:20260425T090404Z
DTSTART:20260411T140000Z
DTEND:20260411T160000Z
SUMMARY:Stoke City v Blackburn Rovers
LOCATION:Bet365 Stadium
DESCRIPTION:Stoke City v Blackburn Rovers - Bet365 Stadium - Sky Bet Champ
 ionship
STATUS:CONFIRMED
END:VEVENT
BEGIN:VEVENT
UID:79618a196aa5d14c4db5989f90590cb0@skysports.com
SEQUENCE:0
DTSTAMP:20260425T090404Z
DTSTART:20260418T140000Z
DTEND:20260418T160000Z
SUMMARY:Wrexham v Stoke City
LOCATION:STōK Cae Ras
DESCRIPTION:Wrexham v Stoke City - STōK Cae Ras - Sky Bet Championship
STATUS:CONFIRMED
END:VEVENT
BEGIN:VEVENT
UID:d88fee2ca4e8e3f8aff668e3ce7b0910@skysports.com
SEQUENCE:0
DTSTAMP:20260425T090404Z
DTSTART:20260421T184500Z
DTEND:20260421T204500Z
SUMMARY:Stoke City v Millwall
LOCATION:Bet365 Stadium
DESCRIPTION:Stoke City v Millwall - Bet365 Stadium - Sky Bet Championship 
 - Live on Sky Sports+
STATUS:CONFIRMED
END:VEVENT
BEGIN:VEVENT
UID:7f53aeaf43bab2457a7137b06aeea191@skysports.com
SEQUENCE:0
DTSTAMP:20260425T090404Z
DTSTART:20260425T140000Z
DTEND:20260425T160000Z
SUMMARY:Stoke City v Portsmouth
LOCATION:Bet365 Stadium
DESCRIPTION:Stoke City v Portsmouth - Bet365 Stadium - Sky Bet Championshi
 p
STATUS:CONFIRMED
END:VEVENT
BEGIN:VEVENT
UID:107b24e6556e5c873109fc1aa20bb9ca@skysports.com
SEQUENCE:0
DTSTAMP:20260425T090404Z
DTSTART:20260502T113000Z
DTEND:20260502T133000Z
SUMMARY:Bristol City v Stoke City
LOCATION:Ashton Gate Stadium
DESCRIPTION:Bristol City v Stoke City - Ashton Gate Stadium - Sky Bet Cham
 pionship
STATUS:CONFIRMED
END:VEVENT
BEGIN:VEVENT
UID:aa1d8368022ce83a6e0e098852c9f763@skysports.com
SEQUENCE:0
DTSTAMP:20260425T090404Z
DTSTART:20250812T184500Z
DTEND:20250812T204500Z
SUMMARY:Stoke City v Walsall
LOCATION:Bet365 Stadium
DESCRIPTION:Stoke City v Walsall - Bet365 Stadium - Carabao Cup - Live on 
 Sky Sports+
STATUS:CONFIRMED
END:VEVENT
BEGIN:VEVENT
UID:2c27154d4790779fcee363213a15f59c@skysports.com
SEQUENCE:0
DTSTAMP:20260425T090404Z
DTSTART:20250720T110000Z
DTEND:20250720T130000Z
SUMMARY:Liverpool v Stoke City
LOCATION:Liverpool Academy
DESCRIPTION:Liverpool v Stoke City - Liverpool Academy - Friendly Match
STATUS:CONFIRMED
END:VEVENT
BEGIN:VEVENT
UID:269c73dae9f36ae54642f18ee48724d9@skysports.com
SEQUENCE:0
DTSTAMP:20260425T090404Z
DTSTART:20250826T184500Z
DTEND:20250826T204500Z
SUMMARY:Stoke City v Bradford City
LOCATION:Bet365 Stadium
DESCRIPTION:Stoke City v Bradford City - Bet365 Stadium - Carabao Cup - Li
 ve on Sky Sports+
STATUS:CONFIRMED
END:VEVENT
BEGIN:VEVENT
UID:23b25877ff7a27a26d7dec6cef2af682@skysports.com
SEQUENCE:0
DTSTAMP:20260425T090404Z
DTSTART:20260110T150000Z
DTEND:20260110T170000Z
SUMMARY:Stoke City v Coventry City
LOCATION:Bet365 Stadium
DESCRIPTION:Stoke City v Coventry City - Bet365 Stadium - The FA Cup
STATUS:CONFIRMED
END:VEVENT
BEGIN:VEVENT
UID:dacc2edd074c8e20063fc46024a3a569@skysports.com
SEQUENCE:0
DTSTAMP:20260425T090404Z
DTSTART:20260215T140000Z
DTEND:20260215T160000Z
SUMMARY:Stoke City v Fulham
LOCATION:Bet365 Stadium
DESCRIPTION:Stoke City v Fulham - Bet365 Stadium - The FA Cup
STATUS:CONFIRMED
END:VEVENT
END:VCALENDAR