BEGIN:VCALENDAR
VERSION:2.0
PRODID:-//Sky Sports SSDM//NONSGML Event Calendar//EN
URL:https://www.skysports.com/calendars/football/fixtures/teams/sutton-uni
 ted
CALSCALE:GREGORIAN
METHOD:PUBLISH
NAME:Sutton United Fixtures
X-WR-CALNAME:Sutton United Fixtures
X-WR-CALDESC:Sutton United fixtures provided by Sky Sports (https://www.sk
 ysports.com)
REFRESH-INTERVAL;VALUE=DURATION:PT1H
X-PUBLISHED-TTL:PT1H
BEGIN:VEVENT
UID:21790b93c350be2df3777f8d4a93f382@skysports.com
SEQUENCE:0
DTSTAMP:20260425T091007Z
DTSTART:20250809T140000Z
DTEND:20250809T160000Z
SUMMARY:York City v Sutton United
LOCATION:LNER Community Stadium
DESCRIPTION:York City v Sutton United - LNER Community Stadium - National 
 League
STATUS:CONFIRMED
END:VEVENT
BEGIN:VEVENT
UID:dc24d8697eae9a3a06c65025627a4043@skysports.com
SEQUENCE:0
DTSTAMP:20260425T091007Z
DTSTART:20250816T140000Z
DTEND:20250816T160000Z
SUMMARY:Sutton United v Solihull Moors
LOCATION:VBS Community Stadium
DESCRIPTION:Sutton United v Solihull Moors - VBS Community Stadium - Natio
 nal League
STATUS:CONFIRMED
END:VEVENT
BEGIN:VEVENT
UID:8668b83109600dbf293b908238c3c786@skysports.com
SEQUENCE:0
DTSTAMP:20260425T091007Z
DTSTART:20250820T184500Z
DTEND:20250820T204500Z
SUMMARY:Forest Green Rovers v Sutton United
LOCATION:The innocent New Lawn Stadium
DESCRIPTION:Forest Green Rovers v Sutton United - The innocent New Lawn St
 adium - National League
STATUS:CONFIRMED
END:VEVENT
BEGIN:VEVENT
UID:77db572c84bded291c2dbca205006269@skysports.com
SEQUENCE:0
DTSTAMP:20260425T091007Z
DTSTART:20250823T140000Z
DTEND:20250823T160000Z
SUMMARY:Sutton United v Scunthorpe United
LOCATION:VBS Community Stadium
DESCRIPTION:Sutton United v Scunthorpe United - VBS Community Stadium - Na
 tional League
STATUS:CONFIRMED
END:VEVENT
BEGIN:VEVENT
UID:0c55b805544019f8fda1377f0aaf6fb2@skysports.com
SEQUENCE:0
DTSTAMP:20260425T091007Z
DTSTART:20250825T140000Z
DTEND:20250825T160000Z
SUMMARY:Rochdale v Sutton United
LOCATION:Spotland
DESCRIPTION:Rochdale v Sutton United - Spotland - National League
STATUS:CONFIRMED
END:VEVENT
BEGIN:VEVENT
UID:9f265dd6b1f3ac6f704bc2cf958bab8b@skysports.com
SEQUENCE:0
DTSTAMP:20260425T091007Z
DTSTART:20250830T140000Z
DTEND:20250830T160000Z
SUMMARY:Sutton United v Carlisle United
LOCATION:VBS Community Stadium
DESCRIPTION:Sutton United v Carlisle United - VBS Community Stadium - Nati
 onal League
STATUS:CONFIRMED
END:VEVENT
BEGIN:VEVENT
UID:06b21bb60db0c19a9a7453664af1f77a@skysports.com
SEQUENCE:0
DTSTAMP:20260425T091007Z
DTSTART:20250903T184500Z
DTEND:20250903T204500Z
SUMMARY:Sutton United v Boreham Wood
LOCATION:VBS Community Stadium
DESCRIPTION:Sutton United v Boreham Wood - VBS Community Stadium - Nationa
 l League
STATUS:CONFIRMED
END:VEVENT
BEGIN:VEVENT
UID:0cc6ee3a7138ebf7990e4a0c259bbd62@skysports.com
SEQUENCE:0
DTSTAMP:20260425T091007Z
DTSTART:20250906T113000Z
DTEND:20250906T133000Z
SUMMARY:Altrincham v Sutton United
LOCATION:J. Davidson Stadium
DESCRIPTION:Altrincham v Sutton United - J. Davidson Stadium - National Le
 ague
STATUS:CONFIRMED
END:VEVENT
BEGIN:VEVENT
UID:97b2b4d1bcd748b6f329c51c617a260b@skysports.com
SEQUENCE:0
DTSTAMP:20260425T091007Z
DTSTART:20250913T140000Z
DTEND:20250913T160000Z
SUMMARY:Sutton United v Tamworth
LOCATION:VBS Community Stadium
DESCRIPTION:Sutton United v Tamworth - VBS Community Stadium - National Le
 ague
STATUS:CONFIRMED
END:VEVENT
BEGIN:VEVENT
UID:906e45d0dc27cc3025e96737832faac3@skysports.com
SEQUENCE:0
DTSTAMP:20260425T091007Z
DTSTART:20250920T113000Z
DTEND:20250920T133000Z
SUMMARY:Brackley Town v Sutton United
LOCATION:St. James Park
DESCRIPTION:Brackley Town v Sutton United - St. James Park - National Leag
 ue
STATUS:CONFIRMED
END:VEVENT
BEGIN:VEVENT
UID:07f104f040069ad793c607625e12d723@skysports.com
SEQUENCE:0
DTSTAMP:20260425T091007Z
DTSTART:20250923T184500Z
DTEND:20250923T204500Z
SUMMARY:Woking v Sutton United
LOCATION:The Laithwaite Community Stadium
DESCRIPTION:Woking v Sutton United - The Laithwaite Community Stadium - Na
 tional League
STATUS:CONFIRMED
END:VEVENT
BEGIN:VEVENT
UID:14c2234bb64f3b08b658feaa60415b8b@skysports.com
SEQUENCE:0
DTSTAMP:20260425T091007Z
DTSTART:20250927T140000Z
DTEND:20250927T160000Z
SUMMARY:Sutton United v Boston United
LOCATION:VBS Community Stadium
DESCRIPTION:Sutton United v Boston United - VBS Community Stadium - Nation
 al League
STATUS:CONFIRMED
END:VEVENT
BEGIN:VEVENT
UID:1166b905fea59ddc100e33dc2e841962@skysports.com
SEQUENCE:0
DTSTAMP:20260425T091007Z
DTSTART:20250930T184500Z
DTEND:20250930T204500Z
SUMMARY:Sutton United v Yeovil Town
LOCATION:VBS Community Stadium
DESCRIPTION:Sutton United v Yeovil Town - VBS Community Stadium - National
  League
STATUS:CONFIRMED
END:VEVENT
BEGIN:VEVENT
UID:93d505bde26f5167bf9ca3488a3ec564@skysports.com
SEQUENCE:0
DTSTAMP:20260425T091007Z
DTSTART:20251004T140000Z
DTEND:20251004T160000Z
SUMMARY:Braintree Town v Sutton United
LOCATION:Amlin Stadium
DESCRIPTION:Braintree Town v Sutton United - Amlin Stadium - National Leag
 ue
STATUS:CONFIRMED
END:VEVENT
BEGIN:VEVENT
UID:9791999c77f33d4fec76141114bad392@skysports.com
SEQUENCE:0
DTSTAMP:20260425T091007Z
DTSTART:20251018T163000Z
DTEND:20251018T183000Z
SUMMARY:Sutton United v Hartlepool United
LOCATION:VBS Community Stadium
DESCRIPTION:Sutton United v Hartlepool United - VBS Community Stadium - Na
 tional League
STATUS:CONFIRMED
END:VEVENT
BEGIN:VEVENT
UID:d7dcb5e833580e193598695048b465d0@skysports.com
SEQUENCE:0
DTSTAMP:20260425T091007Z
DTSTART:20251025T140000Z
DTEND:20251025T160000Z
SUMMARY:Wealdstone v Sutton United
LOCATION:Ruislip Manor Sports &amp\; Social Club
DESCRIPTION:Wealdstone v Sutton United - Ruislip Manor Sports &amp\; Socia
 l Club - National League
STATUS:CONFIRMED
END:VEVENT
BEGIN:VEVENT
UID:b160b8c3fa23404853010d7c29198ebc@skysports.com
SEQUENCE:0
DTSTAMP:20260425T091007Z
DTSTART:20251105T194500Z
DTEND:20251105T214500Z
SUMMARY:Sutton United v Eastleigh
LOCATION:VBS Community Stadium
DESCRIPTION:Sutton United v Eastleigh - VBS Community Stadium - National L
 eague
STATUS:CONFIRMED
END:VEVENT
BEGIN:VEVENT
UID:3785a6c34ece6613d019479737a7ca1e@skysports.com
SEQUENCE:0
DTSTAMP:20260425T091007Z
DTSTART:20251108T150000Z
DTEND:20251108T170000Z
SUMMARY:Morecambe v Sutton United
LOCATION:Mazuma Stadium
DESCRIPTION:Morecambe v Sutton United - Mazuma Stadium - National League
STATUS:CONFIRMED
END:VEVENT
BEGIN:VEVENT
UID:ca4a22045e5824c1b432a52e258b5bfc@skysports.com
SEQUENCE:0
DTSTAMP:20260425T091007Z
DTSTART:20251115T150300Z
DTEND:20251115T170300Z
SUMMARY:Sutton United v FC Halifax
LOCATION:VBS Community Stadium
DESCRIPTION:Sutton United v FC Halifax - VBS Community Stadium - National 
 League
STATUS:CONFIRMED
END:VEVENT
BEGIN:VEVENT
UID:084946c794a1f619865181f8064aa153@skysports.com
SEQUENCE:0
DTSTAMP:20260425T091007Z
DTSTART:20251122T150000Z
DTEND:20251122T170000Z
SUMMARY:Truro City v Sutton United
LOCATION:Truro Sports Hub
DESCRIPTION:Truro City v Sutton United - Truro Sports Hub - National Leagu
 e
STATUS:CONFIRMED
END:VEVENT
BEGIN:VEVENT
UID:7273e5e320d9a45de639736b91140967@skysports.com
SEQUENCE:0
DTSTAMP:20260425T091007Z
DTSTART:20251129T150000Z
DTEND:20251129T170000Z
SUMMARY:Sutton United v Gateshead
LOCATION:VBS Community Stadium
DESCRIPTION:Sutton United v Gateshead - VBS Community Stadium - National L
 eague
STATUS:CONFIRMED
END:VEVENT
BEGIN:VEVENT
UID:64a28f7b86d500dd4faa77a13e443f0c@skysports.com
SEQUENCE:0
DTSTAMP:20260425T091007Z
DTSTART:20260110T150000Z
DTEND:20260110T170000Z
SUMMARY:Sutton United v York City
LOCATION:VBS Community Stadium
DESCRIPTION:Sutton United v York City - VBS Community Stadium - National L
 eague
STATUS:CONFIRMED
END:VEVENT
BEGIN:VEVENT
UID:04d9012723dd3380e38501ba5237ca9a@skysports.com
SEQUENCE:0
DTSTAMP:20260425T091007Z
DTSTART:20251221T120000Z
DTEND:20251221T140000Z
SUMMARY:Solihull Moors v Sutton United
LOCATION:The Autotech Stadium
DESCRIPTION:Solihull Moors v Sutton United - The Autotech Stadium - Nation
 al League
STATUS:CONFIRMED
END:VEVENT
BEGIN:VEVENT
UID:5fa037990fe6e91de574f8faa81b8909@skysports.com
SEQUENCE:0
DTSTAMP:20260425T091007Z
DTSTART:20251226T150000Z
DTEND:20251226T170000Z
SUMMARY:Sutton United v Aldershot Town
LOCATION:VBS Community Stadium
DESCRIPTION:Sutton United v Aldershot Town - VBS Community Stadium - Natio
 nal League
STATUS:CONFIRMED
END:VEVENT
BEGIN:VEVENT
UID:25b63ecc2284e3cb8dc2d9fdc854de27@skysports.com
SEQUENCE:0
DTSTAMP:20260425T091007Z
DTSTART:20251230T194500Z
DTEND:20251230T214500Z
SUMMARY:Southend United v Sutton United
LOCATION:Roots Hall
DESCRIPTION:Southend United v Sutton United - Roots Hall - National League
STATUS:CONFIRMED
END:VEVENT
BEGIN:VEVENT
UID:2c4916df7a7f7489802cf5283c7b5c72@skysports.com
SEQUENCE:0
DTSTAMP:20260425T091007Z
DTSTART:20260310T194500Z
DTEND:20260310T214500Z
SUMMARY:Scunthorpe United v Sutton United
LOCATION:Sands Venue Stadium
DESCRIPTION:Scunthorpe United v Sutton United - Sands Venue Stadium - Nati
 onal League
STATUS:CONFIRMED
END:VEVENT
BEGIN:VEVENT
UID:83d936dbdbb785a0c2d8e2bdc1df2d98@skysports.com
SEQUENCE:0
DTSTAMP:20260425T091007Z
DTSTART:20260117T150000Z
DTEND:20260117T170000Z
SUMMARY:Sutton United v Forest Green Rovers
LOCATION:VBS Community Stadium
DESCRIPTION:Sutton United v Forest Green Rovers - VBS Community Stadium - 
 National League
STATUS:CONFIRMED
END:VEVENT
BEGIN:VEVENT
UID:79a20a2c84fa4fd2642061312dbcbe91@skysports.com
SEQUENCE:0
DTSTAMP:20260425T091007Z
DTSTART:20260217T194500Z
DTEND:20260217T214500Z
SUMMARY:Sutton United v Woking
LOCATION:VBS Community Stadium
DESCRIPTION:Sutton United v Woking - VBS Community Stadium - National Leag
 ue
STATUS:CONFIRMED
END:VEVENT
BEGIN:VEVENT
UID:67fe104423e9475a3b5aacfa2eb85219@skysports.com
SEQUENCE:0
DTSTAMP:20260425T091007Z
DTSTART:20260124T150000Z
DTEND:20260124T170000Z
SUMMARY:Tamworth v Sutton United
LOCATION:The Lamb Ground
DESCRIPTION:Tamworth v Sutton United - The Lamb Ground - National League
STATUS:CONFIRMED
END:VEVENT
BEGIN:VEVENT
UID:462c4b8d26382c0641593e594669e89a@skysports.com
SEQUENCE:0
DTSTAMP:20260425T091007Z
DTSTART:20260131T150000Z
DTEND:20260131T170000Z
SUMMARY:Sutton United v Brackley Town
LOCATION:VBS Community Stadium
DESCRIPTION:Sutton United v Brackley Town - VBS Community Stadium - Nation
 al League
STATUS:CONFIRMED
END:VEVENT
BEGIN:VEVENT
UID:6a194fe90711dedbd76934b1401a2ea0@skysports.com
SEQUENCE:0
DTSTAMP:20260425T091007Z
DTSTART:20260207T150000Z
DTEND:20260207T170000Z
SUMMARY:Boston United v Sutton United
LOCATION:The Jakemans Community Stadium
DESCRIPTION:Boston United v Sutton United - The Jakemans Community Stadium
  - National League
STATUS:CONFIRMED
END:VEVENT
BEGIN:VEVENT
UID:4355cfae55a1b3219bf7c466368a92d3@skysports.com
SEQUENCE:0
DTSTAMP:20260425T091007Z
DTSTART:20260211T194500Z
DTEND:20260211T214500Z
SUMMARY:Sutton United v Braintree Town
LOCATION:VBS Community Stadium
DESCRIPTION:Sutton United v Braintree Town - VBS Community Stadium - Natio
 nal League
STATUS:CONFIRMED
END:VEVENT
BEGIN:VEVENT
UID:df0f8286f1cad6ea34608a41fce4d022@skysports.com
SEQUENCE:0
DTSTAMP:20260425T091007Z
DTSTART:20260303T194500Z
DTEND:20260303T214500Z
SUMMARY:Hartlepool United v Sutton United
LOCATION:Suit Direct Stadium
DESCRIPTION:Hartlepool United v Sutton United - Suit Direct Stadium - Nati
 onal League
STATUS:CONFIRMED
END:VEVENT
BEGIN:VEVENT
UID:385a644a699344194af5f28d2f4fc781@skysports.com
SEQUENCE:0
DTSTAMP:20260425T091007Z
DTSTART:20260221T150000Z
DTEND:20260221T170000Z
SUMMARY:Sutton United v Wealdstone
LOCATION:VBS Community Stadium
DESCRIPTION:Sutton United v Wealdstone - VBS Community Stadium - National 
 League
STATUS:CONFIRMED
END:VEVENT
BEGIN:VEVENT
UID:5b394a8b929b509940f7d4817e956cb8@skysports.com
SEQUENCE:0
DTSTAMP:20260425T091007Z
DTSTART:20260225T194500Z
DTEND:20260225T214500Z
SUMMARY:Yeovil Town v Sutton United
LOCATION:Huish Park
DESCRIPTION:Yeovil Town v Sutton United - Huish Park - National League
STATUS:CONFIRMED
END:VEVENT
BEGIN:VEVENT
UID:54c88485654918e99362143d9cbaf038@skysports.com
SEQUENCE:0
DTSTAMP:20260425T091007Z
DTSTART:20260228T150000Z
DTEND:20260228T170000Z
SUMMARY:FC Halifax v Sutton United
LOCATION:The MBi Shay Stadium
DESCRIPTION:FC Halifax v Sutton United - The MBi Shay Stadium - National L
 eague
STATUS:CONFIRMED
END:VEVENT
BEGIN:VEVENT
UID:32bb6966b22d43843f2e30ac5d48bb15@skysports.com
SEQUENCE:0
DTSTAMP:20260425T091007Z
DTSTART:20260307T150000Z
DTEND:20260307T170000Z
SUMMARY:Sutton United v Morecambe
LOCATION:VBS Community Stadium
DESCRIPTION:Sutton United v Morecambe - VBS Community Stadium - National L
 eague
STATUS:CONFIRMED
END:VEVENT
BEGIN:VEVENT
UID:48a80e963a1df97165849764ee98a02f@skysports.com
SEQUENCE:0
DTSTAMP:20260425T091007Z
DTSTART:20260314T150000Z
DTEND:20260314T170000Z
SUMMARY:Gateshead v Sutton United
LOCATION:Gateshead International Stadium
DESCRIPTION:Gateshead v Sutton United - Gateshead International Stadium - 
 National League
STATUS:CONFIRMED
END:VEVENT
BEGIN:VEVENT
UID:6d51dc6fd3b9793061116cfd8a217b66@skysports.com
SEQUENCE:0
DTSTAMP:20260425T091007Z
DTSTART:20260321T150000Z
DTEND:20260321T170000Z
SUMMARY:Sutton United v Truro City
LOCATION:VBS Community Stadium
DESCRIPTION:Sutton United v Truro City - VBS Community Stadium - National 
 League
STATUS:CONFIRMED
END:VEVENT
BEGIN:VEVENT
UID:ac7eff347d0aced7501afafa3ce752da@skysports.com
SEQUENCE:0
DTSTAMP:20260425T091007Z
DTSTART:20260324T194500Z
DTEND:20260324T214500Z
SUMMARY:Eastleigh v Sutton United
LOCATION:Silverlake Stadium
DESCRIPTION:Eastleigh v Sutton United - Silverlake Stadium - National Leag
 ue
STATUS:CONFIRMED
END:VEVENT
BEGIN:VEVENT
UID:b570e8f99d2c0ffb5106e57f4208c87f@skysports.com
SEQUENCE:0
DTSTAMP:20260425T091007Z
DTSTART:20260328T150000Z
DTEND:20260328T170000Z
SUMMARY:Sutton United v Rochdale
LOCATION:VBS Community Stadium
DESCRIPTION:Sutton United v Rochdale - VBS Community Stadium - National Le
 ague
STATUS:CONFIRMED
END:VEVENT
BEGIN:VEVENT
UID:4446fddbff7028283abd123a7b8970b6@skysports.com
SEQUENCE:0
DTSTAMP:20260425T091007Z
DTSTART:20260403T140000Z
DTEND:20260403T160000Z
SUMMARY:Aldershot Town v Sutton United
LOCATION:The EBB Stadium at the Recreation Ground
DESCRIPTION:Aldershot Town v Sutton United - The EBB Stadium at the Recrea
 tion Ground - National League
STATUS:CONFIRMED
END:VEVENT
BEGIN:VEVENT
UID:ea6dd2b4815298dbcc4ed24b8d68fa94@skysports.com
SEQUENCE:0
DTSTAMP:20260425T091007Z
DTSTART:20260406T140000Z
DTEND:20260406T160000Z
SUMMARY:Sutton United v Southend United
LOCATION:VBS Community Stadium
DESCRIPTION:Sutton United v Southend United - VBS Community Stadium - Nati
 onal League
STATUS:CONFIRMED
END:VEVENT
BEGIN:VEVENT
UID:6350a4fada60b5d6726860b7b8eb3163@skysports.com
SEQUENCE:0
DTSTAMP:20260425T091007Z
DTSTART:20260411T140000Z
DTEND:20260411T160000Z
SUMMARY:Carlisle United v Sutton United
LOCATION:Brunton Park
DESCRIPTION:Carlisle United v Sutton United - Brunton Park - National Leag
 ue
STATUS:CONFIRMED
END:VEVENT
BEGIN:VEVENT
UID:4f5cb785b88e1536b719ad729508aab0@skysports.com
SEQUENCE:0
DTSTAMP:20260425T091007Z
DTSTART:20260418T140000Z
DTEND:20260418T160000Z
SUMMARY:Sutton United v Altrincham
LOCATION:VBS Community Stadium
DESCRIPTION:Sutton United v Altrincham - VBS Community Stadium - National 
 League
STATUS:CONFIRMED
END:VEVENT
BEGIN:VEVENT
UID:f83cd3ca99d5335b80f1fa1ddeefa9b2@skysports.com
SEQUENCE:0
DTSTAMP:20260425T091007Z
DTSTART:20260425T113000Z
DTEND:20260425T133000Z
SUMMARY:Boreham Wood v Sutton United
LOCATION:Managata Pay UK Stadium
DESCRIPTION:Boreham Wood v Sutton United - Managata Pay UK Stadium - Natio
 nal League
STATUS:CONFIRMED
END:VEVENT
BEGIN:VEVENT
UID:5c829e73a7be33f3bbe8f85267b98b2a@skysports.com
SEQUENCE:0
DTSTAMP:20260425T091007Z
DTSTART:20251101T150000Z
DTEND:20251101T170000Z
SUMMARY:Sutton United v AFC Telford United
LOCATION:VBS Community Stadium
DESCRIPTION:Sutton United v AFC Telford United - VBS Community Stadium - T
 he FA Cup
STATUS:CONFIRMED
END:VEVENT
BEGIN:VEVENT
UID:d5a6f424d3c483bb776f23f17fee80d2@skysports.com
SEQUENCE:0
DTSTAMP:20260425T091007Z
DTSTART:20251206T171500Z
DTEND:20251206T191500Z
SUMMARY:Sutton United v Shrewsbury Town
LOCATION:VBS Community Stadium
DESCRIPTION:Sutton United v Shrewsbury Town - VBS Community Stadium - The 
 FA Cup
STATUS:CONFIRMED
END:VEVENT
BEGIN:VEVENT
UID:186685343d2d67129123e5d10ac5b427@skysports.com
SEQUENCE:0
DTSTAMP:20260425T091007Z
DTSTART:20251213T150000Z
DTEND:20251213T170000Z
SUMMARY:Walton & Hersham v Sutton United
LOCATION:Elmbridge Sports Hub
DESCRIPTION:Walton & Hersham v Sutton United - Elmbridge Sports Hub - The 
 FA Trophy
STATUS:CONFIRMED
END:VEVENT
END:VCALENDAR