BEGIN:VCALENDAR
VERSION:2.0
PRODID:-//Sky Sports SSDM//NONSGML Event Calendar//EN
URL:https://www.skysports.com/calendars/football/fixtures/teams/swansea-ci
 ty
CALSCALE:GREGORIAN
METHOD:PUBLISH
NAME:Swansea City Fixtures
X-WR-CALNAME:Swansea City Fixtures
X-WR-CALDESC:Swansea City fixtures provided by Sky Sports (https://www.sky
 sports.com)
REFRESH-INTERVAL;VALUE=DURATION:PT1H
X-PUBLISHED-TTL:PT1H
BEGIN:VEVENT
UID:10565c039786ba48e5e9b6d0fca6d3cd@skysports.com
SEQUENCE:0
DTSTAMP:20260425T090307Z
DTSTART:20250809T140000Z
DTEND:20250809T160000Z
SUMMARY:Middlesbrough v Swansea City
LOCATION:Riverside Stadium
DESCRIPTION:Middlesbrough v Swansea City - Riverside Stadium - Sky Bet Cha
 mpionship - Live on Sky Sports+
STATUS:CONFIRMED
END:VEVENT
BEGIN:VEVENT
UID:e3025eb74ce5496594ce0da0bdde56c2@skysports.com
SEQUENCE:0
DTSTAMP:20260425T090307Z
DTSTART:20250816T140000Z
DTEND:20250816T160000Z
SUMMARY:Swansea City v Sheffield United
LOCATION:Swansea.com Stadium
DESCRIPTION:Swansea City v Sheffield United - Swansea.com Stadium - Sky Be
 t Championship
STATUS:CONFIRMED
END:VEVENT
BEGIN:VEVENT
UID:f2b73d89f0540ef02e9dffbd00805b43@skysports.com
SEQUENCE:0
DTSTAMP:20260425T090307Z
DTSTART:20250823T113000Z
DTEND:20250823T133000Z
SUMMARY:Swansea City v Watford
LOCATION:Swansea.com Stadium
DESCRIPTION:Swansea City v Watford - Swansea.com Stadium - Sky Bet Champio
 nship - Live on Sky Sports+
STATUS:CONFIRMED
END:VEVENT
BEGIN:VEVENT
UID:1f8767f9c3417e5f2ec20fc52aed64ad@skysports.com
SEQUENCE:0
DTSTAMP:20260425T090307Z
DTSTART:20250830T140000Z
DTEND:20250830T160000Z
SUMMARY:Sheffield Wednesday v Swansea City
LOCATION:Hillsborough
DESCRIPTION:Sheffield Wednesday v Swansea City - Hillsborough - Sky Bet Ch
 ampionship
STATUS:CONFIRMED
END:VEVENT
BEGIN:VEVENT
UID:377144b6147c4efc7b4dd1fca4e48793@skysports.com
SEQUENCE:0
DTSTAMP:20260425T090307Z
DTSTART:20250913T140000Z
DTEND:20250913T160000Z
SUMMARY:Swansea City v Hull City
LOCATION:Swansea.com Stadium
DESCRIPTION:Swansea City v Hull City - Swansea.com Stadium - Sky Bet Champ
 ionship
STATUS:CONFIRMED
END:VEVENT
BEGIN:VEVENT
UID:d5e82077e0e88c2c4a8dc3665acd72a2@skysports.com
SEQUENCE:0
DTSTAMP:20260425T090307Z
DTSTART:20250920T113000Z
DTEND:20250920T133000Z
SUMMARY:Birmingham City v Swansea City
LOCATION:St. Andrew's Stadium
DESCRIPTION:Birmingham City v Swansea City - St. Andrew's Stadium - Sky Be
 t Championship - Live on Sky Sports+
STATUS:CONFIRMED
END:VEVENT
BEGIN:VEVENT
UID:7845d750e3830d3b1a1ae5cef1f0db10@skysports.com
SEQUENCE:0
DTSTAMP:20260425T090307Z
DTSTART:20250927T113000Z
DTEND:20250927T133000Z
SUMMARY:Swansea City v Millwall
LOCATION:Swansea.com Stadium
DESCRIPTION:Swansea City v Millwall - Swansea.com Stadium - Sky Bet Champi
 onship - Live on Sky Sports+
STATUS:CONFIRMED
END:VEVENT
BEGIN:VEVENT
UID:1087fee72022e935048530421bb908ec@skysports.com
SEQUENCE:0
DTSTAMP:20260425T090307Z
DTSTART:20250930T184500Z
DTEND:20250930T204500Z
SUMMARY:Blackburn Rovers v Swansea City
LOCATION:Ewood Park
DESCRIPTION:Blackburn Rovers v Swansea City - Ewood Park - Sky Bet Champio
 nship - Live on Sky Sports+
STATUS:CONFIRMED
END:VEVENT
BEGIN:VEVENT
UID:7992fbad091797fd4e0dda25a695fc62@skysports.com
SEQUENCE:0
DTSTAMP:20260425T090307Z
DTSTART:20251004T140000Z
DTEND:20251004T160000Z
SUMMARY:Swansea City v Leicester City
LOCATION:Swansea.com Stadium
DESCRIPTION:Swansea City v Leicester City - Swansea.com Stadium - Sky Bet 
 Championship
STATUS:CONFIRMED
END:VEVENT
BEGIN:VEVENT
UID:258ef91044913b530a58cdfb75d4eddd@skysports.com
SEQUENCE:0
DTSTAMP:20260425T090307Z
DTSTART:20251018T113000Z
DTEND:20251018T133000Z
SUMMARY:Southampton v Swansea City
LOCATION:St. Mary's Stadium
DESCRIPTION:Southampton v Swansea City - St. Mary's Stadium - Sky Bet Cham
 pionship - Live on Sky Sports+
STATUS:CONFIRMED
END:VEVENT
BEGIN:VEVENT
UID:a264ab9ab0b4d59dc957bd9bb615c3fc@skysports.com
SEQUENCE:0
DTSTAMP:20260425T090307Z
DTSTART:20251022T184500Z
DTEND:20251022T204500Z
SUMMARY:Swansea City v Queens Park Rangers
LOCATION:Swansea.com Stadium
DESCRIPTION:Swansea City v Queens Park Rangers - Swansea.com Stadium - Sky
  Bet Championship - Live on Sky Sports+
STATUS:CONFIRMED
END:VEVENT
BEGIN:VEVENT
UID:c2014d9d49bd2edfd6f9712520b675e3@skysports.com
SEQUENCE:0
DTSTAMP:20260425T090307Z
DTSTART:20251025T140000Z
DTEND:20251025T160000Z
SUMMARY:Swansea City v Norwich City
LOCATION:Swansea.com Stadium
DESCRIPTION:Swansea City v Norwich City - Swansea.com Stadium - Sky Bet Ch
 ampionship
STATUS:CONFIRMED
END:VEVENT
BEGIN:VEVENT
UID:4ca137033c4b7157bff7a2613d87fef9@skysports.com
SEQUENCE:0
DTSTAMP:20260425T090307Z
DTSTART:20251101T150000Z
DTEND:20251101T170000Z
SUMMARY:Charlton Athletic v Swansea City
LOCATION:The Valley
DESCRIPTION:Charlton Athletic v Swansea City - The Valley - Sky Bet Champi
 onship
STATUS:CONFIRMED
END:VEVENT
BEGIN:VEVENT
UID:2bfc7c703bf0d47824837ffefcfdd0f4@skysports.com
SEQUENCE:0
DTSTAMP:20260425T090307Z
DTSTART:20251105T194500Z
DTEND:20251105T214500Z
SUMMARY:Preston North End v Swansea City
LOCATION:Deepdale
DESCRIPTION:Preston North End v Swansea City - Deepdale - Sky Bet Champion
 ship - Live on Sky Sports+
STATUS:CONFIRMED
END:VEVENT
BEGIN:VEVENT
UID:3f9553247151f0a7b7faa89f1ff779b1@skysports.com
SEQUENCE:0
DTSTAMP:20260425T090307Z
DTSTART:20251108T150000Z
DTEND:20251108T170000Z
SUMMARY:Swansea City v Ipswich Town
LOCATION:Swansea.com Stadium
DESCRIPTION:Swansea City v Ipswich Town - Swansea.com Stadium - Sky Bet Ch
 ampionship
STATUS:CONFIRMED
END:VEVENT
BEGIN:VEVENT
UID:57d3a495b643a5863cb20d17ecb5f95f@skysports.com
SEQUENCE:0
DTSTAMP:20260425T090307Z
DTSTART:20251122T123000Z
DTEND:20251122T143000Z
SUMMARY:Bristol City v Swansea City
LOCATION:Ashton Gate Stadium
DESCRIPTION:Bristol City v Swansea City - Ashton Gate Stadium - Sky Bet Ch
 ampionship - Live on Sky Sports+
STATUS:CONFIRMED
END:VEVENT
BEGIN:VEVENT
UID:3c67f02c1daed0f67946ce64f13d6f64@skysports.com
SEQUENCE:0
DTSTAMP:20260425T090307Z
DTSTART:20251125T194500Z
DTEND:20251125T214500Z
SUMMARY:Swansea City v Derby County
LOCATION:Swansea.com Stadium
DESCRIPTION:Swansea City v Derby County - Swansea.com Stadium - Sky Bet Ch
 ampionship - Live on Sky Sports+
STATUS:CONFIRMED
END:VEVENT
BEGIN:VEVENT
UID:aa2bc1e76d87f543d3928b2c1ed22fbe@skysports.com
SEQUENCE:0
DTSTAMP:20260425T090307Z
DTSTART:20251129T150000Z
DTEND:20251129T170000Z
SUMMARY:West Bromwich Albion v Swansea City
LOCATION:The Hawthorns
DESCRIPTION:West Bromwich Albion v Swansea City - The Hawthorns - Sky Bet 
 Championship
STATUS:CONFIRMED
END:VEVENT
BEGIN:VEVENT
UID:f21d2931446e3292920d67b17b5df1c4@skysports.com
SEQUENCE:0
DTSTAMP:20260425T090307Z
DTSTART:20251206T150000Z
DTEND:20251206T170000Z
SUMMARY:Swansea City v Oxford United
LOCATION:Swansea.com Stadium
DESCRIPTION:Swansea City v Oxford United - Swansea.com Stadium - Sky Bet C
 hampionship
STATUS:CONFIRMED
END:VEVENT
BEGIN:VEVENT
UID:f56c9f010cdd4a2db87440c997f3c7d6@skysports.com
SEQUENCE:0
DTSTAMP:20260425T090307Z
DTSTART:20251209T194500Z
DTEND:20251209T214500Z
SUMMARY:Swansea City v Portsmouth
LOCATION:Swansea.com Stadium
DESCRIPTION:Swansea City v Portsmouth - Swansea.com Stadium - Sky Bet Cham
 pionship - Live on Sky Sports+
STATUS:CONFIRMED
END:VEVENT
BEGIN:VEVENT
UID:c4f3a8fa6b0b6b56105d7337789fb642@skysports.com
SEQUENCE:0
DTSTAMP:20260425T090307Z
DTSTART:20251213T123000Z
DTEND:20251213T143000Z
SUMMARY:Stoke City v Swansea City
LOCATION:Bet365 Stadium
DESCRIPTION:Stoke City v Swansea City - Bet365 Stadium - Sky Bet Champions
 hip - Live on Sky Sports+
STATUS:CONFIRMED
END:VEVENT
BEGIN:VEVENT
UID:a000372ebe51d08acdf988343e5c83f0@skysports.com
SEQUENCE:0
DTSTAMP:20260425T090307Z
DTSTART:20251219T200000Z
DTEND:20251219T220000Z
SUMMARY:Swansea City v Wrexham
LOCATION:Swansea.com Stadium
DESCRIPTION:Swansea City v Wrexham - Swansea.com Stadium - Sky Bet Champio
 nship - Live on Sky Sports Main Event and Sky Sports Football
STATUS:CONFIRMED
END:VEVENT
BEGIN:VEVENT
UID:e0a8eb68069ab76700c022aabb35db3e@skysports.com
SEQUENCE:0
DTSTAMP:20260425T090307Z
DTSTART:20251226T150000Z
DTEND:20251226T170000Z
SUMMARY:Coventry City v Swansea City
LOCATION:The Coventry Building Society Arena
DESCRIPTION:Coventry City v Swansea City - The Coventry Building Society A
 rena - Sky Bet Championship - Live on Sky Sports+
STATUS:CONFIRMED
END:VEVENT
BEGIN:VEVENT
UID:af521b37125e1aef1414cb339ab53d1e@skysports.com
SEQUENCE:0
DTSTAMP:20260425T090307Z
DTSTART:20251229T194500Z
DTEND:20251229T214500Z
SUMMARY:Oxford United v Swansea City
LOCATION:The Kassam Stadium
DESCRIPTION:Oxford United v Swansea City - The Kassam Stadium - Sky Bet Ch
 ampionship
STATUS:CONFIRMED
END:VEVENT
BEGIN:VEVENT
UID:65a9145ca30af53fda0f53c871bda941@skysports.com
SEQUENCE:0
DTSTAMP:20260425T090307Z
DTSTART:20260101T150000Z
DTEND:20260101T170000Z
SUMMARY:Swansea City v West Bromwich Albion
LOCATION:Swansea.com Stadium
DESCRIPTION:Swansea City v West Bromwich Albion - Swansea.com Stadium - Sk
 y Bet Championship - Live on Sky Sports+
STATUS:CONFIRMED
END:VEVENT
BEGIN:VEVENT
UID:f3b312658e838fe4b1b1d10bee4e1ef8@skysports.com
SEQUENCE:0
DTSTAMP:20260425T090307Z
DTSTART:20260104T150000Z
DTEND:20260104T170000Z
SUMMARY:Millwall v Swansea City
LOCATION:The Den
DESCRIPTION:Millwall v Swansea City - The Den - Sky Bet Championship
STATUS:CONFIRMED
END:VEVENT
BEGIN:VEVENT
UID:a920ee76e8087a9219549f90272284d1@skysports.com
SEQUENCE:0
DTSTAMP:20260425T090307Z
DTSTART:20260117T173000Z
DTEND:20260117T193000Z
SUMMARY:Swansea City v Birmingham City
LOCATION:Swansea.com Stadium
DESCRIPTION:Swansea City v Birmingham City - Swansea.com Stadium - Sky Bet
  Championship - Live on Sky Sports Football and Sky Sports Main Event
STATUS:CONFIRMED
END:VEVENT
BEGIN:VEVENT
UID:773a3498871ade956a3cd884464f4713@skysports.com
SEQUENCE:0
DTSTAMP:20260425T090307Z
DTSTART:20260120T194500Z
DTEND:20260120T214500Z
SUMMARY:Swansea City v Blackburn Rovers
LOCATION:Swansea.com Stadium
DESCRIPTION:Swansea City v Blackburn Rovers - Swansea.com Stadium - Sky Be
 t Championship - Live on Sky Sports+
STATUS:CONFIRMED
END:VEVENT
BEGIN:VEVENT
UID:00b032e735295a09c507b1b7c4378a5c@skysports.com
SEQUENCE:0
DTSTAMP:20260425T090307Z
DTSTART:20260124T150000Z
DTEND:20260124T170000Z
SUMMARY:Hull City v Swansea City
LOCATION:MKM Stadium
DESCRIPTION:Hull City v Swansea City - MKM Stadium - Sky Bet Championship
STATUS:CONFIRMED
END:VEVENT
BEGIN:VEVENT
UID:035b3b3c7e52130057f5d9c06bd845f6@skysports.com
SEQUENCE:0
DTSTAMP:20260425T090307Z
DTSTART:20260131T150000Z
DTEND:20260131T170000Z
SUMMARY:Watford v Swansea City
LOCATION:Vicarage Road
DESCRIPTION:Watford v Swansea City - Vicarage Road - Sky Bet Championship
STATUS:CONFIRMED
END:VEVENT
BEGIN:VEVENT
UID:9c760983f45335e71a865a79ca99642d@skysports.com
SEQUENCE:0
DTSTAMP:20260425T090307Z
DTSTART:20260208T120100Z
DTEND:20260208T140100Z
SUMMARY:Swansea City v Sheffield Wednesday
LOCATION:Swansea.com Stadium
DESCRIPTION:Swansea City v Sheffield Wednesday - Swansea.com Stadium - Sky
  Bet Championship - Live on Sky Sports Football
STATUS:CONFIRMED
END:VEVENT
BEGIN:VEVENT
UID:161a7a733c0c1f6bee1c2177493bf528@skysports.com
SEQUENCE:0
DTSTAMP:20260425T090307Z
DTSTART:20260214T150000Z
DTEND:20260214T170000Z
SUMMARY:Derby County v Swansea City
LOCATION:Pride Park Stadium
DESCRIPTION:Derby County v Swansea City - Pride Park Stadium - Sky Bet Cha
 mpionship
STATUS:CONFIRMED
END:VEVENT
BEGIN:VEVENT
UID:98fd1c1fd9a5e5ef7cfe88e4d1199271@skysports.com
SEQUENCE:0
DTSTAMP:20260425T090307Z
DTSTART:20260221T123000Z
DTEND:20260221T143000Z
SUMMARY:Swansea City v Bristol City
LOCATION:Swansea.com Stadium
DESCRIPTION:Swansea City v Bristol City - Swansea.com Stadium - Sky Bet Ch
 ampionship - Live on Sky Sports+
STATUS:CONFIRMED
END:VEVENT
BEGIN:VEVENT
UID:e2a5cefb643aa44c323b6475fb298015@skysports.com
SEQUENCE:0
DTSTAMP:20260425T090307Z
DTSTART:20260224T194500Z
DTEND:20260224T214500Z
SUMMARY:Swansea City v Preston North End
LOCATION:Swansea.com Stadium
DESCRIPTION:Swansea City v Preston North End - Swansea.com Stadium - Sky B
 et Championship - Live on Sky Sports+
STATUS:CONFIRMED
END:VEVENT
BEGIN:VEVENT
UID:7fdb7468196aa7604bfa19cd7dec6684@skysports.com
SEQUENCE:0
DTSTAMP:20260425T090307Z
DTSTART:20260228T150000Z
DTEND:20260228T170000Z
SUMMARY:Ipswich Town v Swansea City
LOCATION:Portman Road
DESCRIPTION:Ipswich Town v Swansea City - Portman Road - Sky Bet Champions
 hip
STATUS:CONFIRMED
END:VEVENT
BEGIN:VEVENT
UID:3a578e707850fca850c26d063700465a@skysports.com
SEQUENCE:0
DTSTAMP:20260425T090307Z
DTSTART:20260307T150000Z
DTEND:20260307T170000Z
SUMMARY:Swansea City v Stoke City
LOCATION:Swansea.com Stadium
DESCRIPTION:Swansea City v Stoke City - Swansea.com Stadium - Sky Bet Cham
 pionship
STATUS:CONFIRMED
END:VEVENT
BEGIN:VEVENT
UID:92dc9edf0dcfd5d5fc6007243219d9f5@skysports.com
SEQUENCE:0
DTSTAMP:20260425T090307Z
DTSTART:20260310T194500Z
DTEND:20260310T214500Z
SUMMARY:Portsmouth v Swansea City
LOCATION:Fratton Park
DESCRIPTION:Portsmouth v Swansea City - Fratton Park - Sky Bet Championshi
 p - Live on Sky Sports+
STATUS:CONFIRMED
END:VEVENT
BEGIN:VEVENT
UID:4ba1d2b052124f1148d14cc4ff40b3fd@skysports.com
SEQUENCE:0
DTSTAMP:20260425T090307Z
DTSTART:20260313T200000Z
DTEND:20260313T220000Z
SUMMARY:Wrexham v Swansea City
LOCATION:STōK Cae Ras
DESCRIPTION:Wrexham v Swansea City - STōK Cae Ras - Sky Bet Championship 
 - Live on Sky Sports Football and Sky Sports Main Event
STATUS:CONFIRMED
END:VEVENT
BEGIN:VEVENT
UID:03edd3ae4e58bb230e76343fa379fae7@skysports.com
SEQUENCE:0
DTSTAMP:20260425T090307Z
DTSTART:20260321T171500Z
DTEND:20260321T191500Z
SUMMARY:Swansea City v Coventry City
LOCATION:Swansea.com Stadium
DESCRIPTION:Swansea City v Coventry City - Swansea.com Stadium - Sky Bet C
 hampionship - Live on Sky Sports Football
STATUS:CONFIRMED
END:VEVENT
BEGIN:VEVENT
UID:8ff6f86ab8caddb0c122db785214cd32@skysports.com
SEQUENCE:0
DTSTAMP:20260425T090307Z
DTSTART:20260403T140000Z
DTEND:20260403T160000Z
SUMMARY:Sheffield United v Swansea City
LOCATION:Bramall Lane
DESCRIPTION:Sheffield United v Swansea City - Bramall Lane - Sky Bet Champ
 ionship - Live on Sky Sports+
STATUS:CONFIRMED
END:VEVENT
BEGIN:VEVENT
UID:0493db9fb43db1c67187c957770ca4c8@skysports.com
SEQUENCE:0
DTSTAMP:20260425T090307Z
DTSTART:20260406T163000Z
DTEND:20260406T183000Z
SUMMARY:Swansea City v Middlesbrough
LOCATION:Swansea.com Stadium
DESCRIPTION:Swansea City v Middlesbrough - Swansea.com Stadium - Sky Bet C
 hampionship - Live on Sky Sports Football and Sky Sports Main Event
STATUS:CONFIRMED
END:VEVENT
BEGIN:VEVENT
UID:5bf8d03735f989f247c944759542c861@skysports.com
SEQUENCE:0
DTSTAMP:20260425T090307Z
DTSTART:20260411T140000Z
DTEND:20260411T160000Z
SUMMARY:Leicester City v Swansea City
LOCATION:The King Power Stadium
DESCRIPTION:Leicester City v Swansea City - The King Power Stadium - Sky B
 et Championship
STATUS:CONFIRMED
END:VEVENT
BEGIN:VEVENT
UID:5162684f515184affad13c6fa5aa4f1c@skysports.com
SEQUENCE:0
DTSTAMP:20260425T090307Z
DTSTART:20260418T140000Z
DTEND:20260418T160000Z
SUMMARY:Swansea City v Southampton
LOCATION:Swansea.com Stadium
DESCRIPTION:Swansea City v Southampton - Swansea.com Stadium - Sky Bet Cha
 mpionship
STATUS:CONFIRMED
END:VEVENT
BEGIN:VEVENT
UID:fb9872743d8aee890129e394566bcf16@skysports.com
SEQUENCE:0
DTSTAMP:20260425T090307Z
DTSTART:20260421T184500Z
DTEND:20260421T204500Z
SUMMARY:Queens Park Rangers v Swansea City
LOCATION:Loftus Road Stadium
DESCRIPTION:Queens Park Rangers v Swansea City - Loftus Road Stadium - Sky
  Bet Championship - Live on Sky Sports+
STATUS:CONFIRMED
END:VEVENT
BEGIN:VEVENT
UID:a571d498cbbe7e3861f5571220a220b0@skysports.com
SEQUENCE:0
DTSTAMP:20260425T090307Z
DTSTART:20260425T140000Z
DTEND:20260425T160000Z
SUMMARY:Norwich City v Swansea City
LOCATION:Carrow Road
DESCRIPTION:Norwich City v Swansea City - Carrow Road - Sky Bet Championsh
 ip
STATUS:CONFIRMED
END:VEVENT
BEGIN:VEVENT
UID:eea3347aeee3212a5a0dd1c6dd981778@skysports.com
SEQUENCE:0
DTSTAMP:20260425T090307Z
DTSTART:20260502T113000Z
DTEND:20260502T133000Z
SUMMARY:Swansea City v Charlton Athletic
LOCATION:Swansea.com Stadium
DESCRIPTION:Swansea City v Charlton Athletic - Swansea.com Stadium - Sky B
 et Championship
STATUS:CONFIRMED
END:VEVENT
BEGIN:VEVENT
UID:a58761215b7162495c82d78a3106a966@skysports.com
SEQUENCE:0
DTSTAMP:20260425T090307Z
DTSTART:20250812T180000Z
DTEND:20250812T200000Z
SUMMARY:Swansea City v Crawley Town
LOCATION:Swansea.com Stadium
DESCRIPTION:Swansea City v Crawley Town - Swansea.com Stadium - Carabao Cu
 p - Live on Sky Sports+
STATUS:CONFIRMED
END:VEVENT
BEGIN:VEVENT
UID:6934537998e2f6fe7b55645ce74ee320@skysports.com
SEQUENCE:0
DTSTAMP:20260425T090307Z
DTSTART:20250826T184500Z
DTEND:20250826T204500Z
SUMMARY:Swansea City v Plymouth Argyle
LOCATION:Swansea.com Stadium
DESCRIPTION:Swansea City v Plymouth Argyle - Swansea.com Stadium - Carabao
  Cup - Live on Sky Sports+
STATUS:CONFIRMED
END:VEVENT
BEGIN:VEVENT
UID:6b061d4c6ed86a2c62e58559ceac4324@skysports.com
SEQUENCE:0
DTSTAMP:20260425T090307Z
DTSTART:20250917T190000Z
DTEND:20250917T210000Z
SUMMARY:Swansea City v Nottingham Forest
LOCATION:Swansea.com Stadium
DESCRIPTION:Swansea City v Nottingham Forest - Swansea.com Stadium - Carab
 ao Cup - Live on Sky Sports Football and Sky Sports Main Event
STATUS:CONFIRMED
END:VEVENT
BEGIN:VEVENT
UID:4fe27b49c3701536cb3df11b3f6f2f63@skysports.com
SEQUENCE:0
DTSTAMP:20260425T090307Z
DTSTART:20251029T194500Z
DTEND:20251029T214500Z
SUMMARY:Swansea City v Manchester City
LOCATION:Swansea.com Stadium
DESCRIPTION:Swansea City v Manchester City - Swansea.com Stadium - Carabao
  Cup - Live on Sky Sports+
STATUS:CONFIRMED
END:VEVENT
BEGIN:VEVENT
UID:8cc085357fa3c45ed413aa32a3f17833@skysports.com
SEQUENCE:0
DTSTAMP:20260425T090307Z
DTSTART:20260111T143000Z
DTEND:20260111T163000Z
SUMMARY:Swansea City v West Bromwich Albion
LOCATION:Swansea.com Stadium
DESCRIPTION:Swansea City v West Bromwich Albion - Swansea.com Stadium - Th
 e FA Cup
STATUS:CONFIRMED
END:VEVENT
END:VCALENDAR