BEGIN:VCALENDAR
VERSION:2.0
PRODID:-//Sky Sports SSDM//NONSGML Event Calendar//EN
URL:https://www.skysports.com/calendars/football/fixtures/teams/swindon-to
 wn
CALSCALE:GREGORIAN
METHOD:PUBLISH
NAME:Swindon Town Fixtures
X-WR-CALNAME:Swindon Town Fixtures
X-WR-CALDESC:Swindon Town fixtures provided by Sky Sports (https://www.sky
 sports.com)
REFRESH-INTERVAL;VALUE=DURATION:PT1H
X-PUBLISHED-TTL:PT1H
BEGIN:VEVENT
UID:f052b0db932c2cbdc37993f9b4204849@skysports.com
SEQUENCE:0
DTSTAMP:20260425T090408Z
DTSTART:20250802T140000Z
DTEND:20250802T160000Z
SUMMARY:Walsall v Swindon Town
LOCATION:Poundland Bescot Stadium
DESCRIPTION:Walsall v Swindon Town - Poundland Bescot Stadium - Sky Bet Le
 ague Two - Live on Sky Sports+
STATUS:CONFIRMED
END:VEVENT
BEGIN:VEVENT
UID:951259d218494c423ce9ee5d9c974b49@skysports.com
SEQUENCE:0
DTSTAMP:20260425T090408Z
DTSTART:20250809T140000Z
DTEND:20250809T160000Z
SUMMARY:Swindon Town v Cambridge United
LOCATION:The County Ground
DESCRIPTION:Swindon Town v Cambridge United - The County Ground - Sky Bet 
 League Two
STATUS:CONFIRMED
END:VEVENT
BEGIN:VEVENT
UID:6b78b87762822a5992f06f4dd0033224@skysports.com
SEQUENCE:0
DTSTAMP:20260425T090408Z
DTSTART:20250816T113000Z
DTEND:20250816T133000Z
SUMMARY:Oldham Athletic v Swindon Town
LOCATION:Boundary Park
DESCRIPTION:Oldham Athletic v Swindon Town - Boundary Park - Sky Bet Leagu
 e Two - Live on Sky Sports+
STATUS:CONFIRMED
END:VEVENT
BEGIN:VEVENT
UID:95dd85a035b5910956873c2359fa68bb@skysports.com
SEQUENCE:0
DTSTAMP:20260425T090408Z
DTSTART:20250819T184500Z
DTEND:20250819T204500Z
SUMMARY:Swindon Town v Barnet
LOCATION:The County Ground
DESCRIPTION:Swindon Town v Barnet - The County Ground - Sky Bet League Two
  - Live on Sky Sports+
STATUS:CONFIRMED
END:VEVENT
BEGIN:VEVENT
UID:3e2a139cdd9adfaa21b55ca6481ec56e@skysports.com
SEQUENCE:0
DTSTAMP:20260425T090408Z
DTSTART:20250823T140000Z
DTEND:20250823T160000Z
SUMMARY:Swindon Town v Shrewsbury Town
LOCATION:The County Ground
DESCRIPTION:Swindon Town v Shrewsbury Town - The County Ground - Sky Bet L
 eague Two
STATUS:CONFIRMED
END:VEVENT
BEGIN:VEVENT
UID:c7fcd7409ae4a5a1be122d40c771d0e1@skysports.com
SEQUENCE:0
DTSTAMP:20260425T090408Z
DTSTART:20250830T113000Z
DTEND:20250830T133000Z
SUMMARY:Crewe Alexandra v Swindon Town
LOCATION:Mornflake Stadium
DESCRIPTION:Crewe Alexandra v Swindon Town - Mornflake Stadium - Sky Bet L
 eague Two - Live on Sky Sports+
STATUS:CONFIRMED
END:VEVENT
BEGIN:VEVENT
UID:77cde515cf18181f1a3ed7ce136999d1@skysports.com
SEQUENCE:0
DTSTAMP:20260425T090408Z
DTSTART:20250906T140000Z
DTEND:20250906T160000Z
SUMMARY:Barrow v Swindon Town
LOCATION:SO Legal Stadium
DESCRIPTION:Barrow v Swindon Town - SO Legal Stadium - Sky Bet League Two 
 - Live on Sky Sports+
STATUS:CONFIRMED
END:VEVENT
BEGIN:VEVENT
UID:6fa7edffeda5e9d1e39887109f5471bc@skysports.com
SEQUENCE:0
DTSTAMP:20260425T090408Z
DTSTART:20250913T140000Z
DTEND:20250913T160000Z
SUMMARY:Swindon Town v Harrogate Town
LOCATION:The County Ground
DESCRIPTION:Swindon Town v Harrogate Town - The County Ground - Sky Bet Le
 ague Two
STATUS:CONFIRMED
END:VEVENT
BEGIN:VEVENT
UID:41b7134fa31875e3a2f0f8dfef01141e@skysports.com
SEQUENCE:0
DTSTAMP:20260425T090408Z
DTSTART:20250920T140000Z
DTEND:20250920T160000Z
SUMMARY:Salford City v Swindon Town
LOCATION:Moor Lane
DESCRIPTION:Salford City v Swindon Town - Moor Lane - Sky Bet League Two
STATUS:CONFIRMED
END:VEVENT
BEGIN:VEVENT
UID:4a8b735c4be456dbf17362a5767c0fc3@skysports.com
SEQUENCE:0
DTSTAMP:20260425T090408Z
DTSTART:20250927T140000Z
DTEND:20250927T160000Z
SUMMARY:Swindon Town v Bromley
LOCATION:The County Ground
DESCRIPTION:Swindon Town v Bromley - The County Ground - Sky Bet League Tw
 o
STATUS:CONFIRMED
END:VEVENT
BEGIN:VEVENT
UID:1d1454c73aa7c1734e5ce452e7d85015@skysports.com
SEQUENCE:0
DTSTAMP:20260425T090408Z
DTSTART:20251004T113000Z
DTEND:20251004T133000Z
SUMMARY:Newport County AFC v Swindon Town
LOCATION:Rodney Parade
DESCRIPTION:Newport County AFC v Swindon Town - Rodney Parade - Sky Bet Le
 ague Two - Live on Sky Sports+
STATUS:CONFIRMED
END:VEVENT
BEGIN:VEVENT
UID:84a1d0bf61f8a6db9b98a2ab0322b2e2@skysports.com
SEQUENCE:0
DTSTAMP:20260425T090408Z
DTSTART:20251021T184500Z
DTEND:20251021T204500Z
SUMMARY:Swindon Town v Notts County
LOCATION:The County Ground
DESCRIPTION:Swindon Town v Notts County - The County Ground - Sky Bet Leag
 ue Two - Live on Sky Sports+
STATUS:CONFIRMED
END:VEVENT
BEGIN:VEVENT
UID:a08c7b35760f210ec9064c6d0cd29f74@skysports.com
SEQUENCE:0
DTSTAMP:20260425T090408Z
DTSTART:20251018T140000Z
DTEND:20251018T160000Z
SUMMARY:Accrington Stanley v Swindon Town
LOCATION:Wham Stadium
DESCRIPTION:Accrington Stanley v Swindon Town - Wham Stadium - Sky Bet Lea
 gue Two
STATUS:CONFIRMED
END:VEVENT
BEGIN:VEVENT
UID:cd7e16864494cd89aa6716afb5b7c14b@skysports.com
SEQUENCE:0
DTSTAMP:20260425T090408Z
DTSTART:20251025T140000Z
DTEND:20251025T160000Z
SUMMARY:Swindon Town v Colchester United
LOCATION:The County Ground
DESCRIPTION:Swindon Town v Colchester United - The County Ground - Sky Bet
  League Two
STATUS:CONFIRMED
END:VEVENT
BEGIN:VEVENT
UID:6d43519e3f4b1b46b172af3e0c1beaf9@skysports.com
SEQUENCE:0
DTSTAMP:20260425T090408Z
DTSTART:20251108T150000Z
DTEND:20251108T170000Z
SUMMARY:Swindon Town v Tranmere Rovers
LOCATION:The County Ground
DESCRIPTION:Swindon Town v Tranmere Rovers - The County Ground - Sky Bet L
 eague Two
STATUS:CONFIRMED
END:VEVENT
BEGIN:VEVENT
UID:301322854a23ff17b4f5886eea73411c@skysports.com
SEQUENCE:0
DTSTAMP:20260425T090408Z
DTSTART:20251115T150000Z
DTEND:20251115T170000Z
SUMMARY:Fleetwood Town v Swindon Town
LOCATION:Highbury Stadium
DESCRIPTION:Fleetwood Town v Swindon Town - Highbury Stadium - Sky Bet Lea
 gue Two - Live on Sky Sports+
STATUS:CONFIRMED
END:VEVENT
BEGIN:VEVENT
UID:cd01fc4c5a6fd9dc082887ffc8199dd6@skysports.com
SEQUENCE:0
DTSTAMP:20260425T090408Z
DTSTART:20251122T150000Z
DTEND:20251122T170000Z
SUMMARY:Swindon Town v Grimsby Town
LOCATION:The County Ground
DESCRIPTION:Swindon Town v Grimsby Town - The County Ground - Sky Bet Leag
 ue Two
STATUS:CONFIRMED
END:VEVENT
BEGIN:VEVENT
UID:2b28a63ddd0cbf806c4c2d4758899850@skysports.com
SEQUENCE:0
DTSTAMP:20260425T090408Z
DTSTART:20251129T150000Z
DTEND:20251129T170000Z
SUMMARY:Chesterfield v Swindon Town
LOCATION:Technique Stadium
DESCRIPTION:Chesterfield v Swindon Town - Technique Stadium - Sky Bet Leag
 ue Two
STATUS:CONFIRMED
END:VEVENT
BEGIN:VEVENT
UID:7b93ab6b2a2b4e7d84444d978db037ab@skysports.com
SEQUENCE:0
DTSTAMP:20260425T090408Z
DTSTART:20251209T194500Z
DTEND:20251209T214500Z
SUMMARY:Swindon Town v Cheltenham Town
LOCATION:The County Ground
DESCRIPTION:Swindon Town v Cheltenham Town - The County Ground - Sky Bet L
 eague Two - Live on Sky Sports+
STATUS:CONFIRMED
END:VEVENT
BEGIN:VEVENT
UID:a41e29f41cd41a1f02bd50f7be3b2bb0@skysports.com
SEQUENCE:0
DTSTAMP:20260425T090408Z
DTSTART:20251213T123000Z
DTEND:20251213T143000Z
SUMMARY:Bristol Rovers v Swindon Town
LOCATION:Memorial Stadium
DESCRIPTION:Bristol Rovers v Swindon Town - Memorial Stadium - Sky Bet Lea
 gue Two - Live on Sky Sports+
STATUS:CONFIRMED
END:VEVENT
BEGIN:VEVENT
UID:dc505c6f0db8acd63e8b14da56d9f857@skysports.com
SEQUENCE:0
DTSTAMP:20260425T090408Z
DTSTART:20251220T150000Z
DTEND:20251220T170000Z
SUMMARY:Swindon Town v Crawley Town
LOCATION:The County Ground
DESCRIPTION:Swindon Town v Crawley Town - The County Ground - Sky Bet Leag
 ue Two
STATUS:CONFIRMED
END:VEVENT
BEGIN:VEVENT
UID:83bfdc4e0bada3c904cb9f3c3456d03b@skysports.com
SEQUENCE:0
DTSTAMP:20260425T090408Z
DTSTART:20251226T150000Z
DTEND:20251226T170000Z
SUMMARY:Milton Keynes Dons v Swindon Town
LOCATION:Stadium:mk
DESCRIPTION:Milton Keynes Dons v Swindon Town - Stadium:mk - Sky Bet Leagu
 e Two - Live on Sky Sports+
STATUS:CONFIRMED
END:VEVENT
BEGIN:VEVENT
UID:49280ff7d37bc246333cf514cceca903@skysports.com
SEQUENCE:0
DTSTAMP:20260425T090408Z
DTSTART:20251229T194500Z
DTEND:20251229T214500Z
SUMMARY:Cheltenham Town v Swindon Town
LOCATION:EV Charger Points Stadium
DESCRIPTION:Cheltenham Town v Swindon Town - EV Charger Points Stadium - S
 ky Bet League Two
STATUS:CONFIRMED
END:VEVENT
BEGIN:VEVENT
UID:1eaa706b9230972b199bb32b7c8113cb@skysports.com
SEQUENCE:0
DTSTAMP:20260425T090408Z
DTSTART:20260101T150000Z
DTEND:20260101T170000Z
SUMMARY:Swindon Town v Gillingham
LOCATION:The County Ground
DESCRIPTION:Swindon Town v Gillingham - The County Ground - Sky Bet League
  Two - Live on Sky Sports+
STATUS:CONFIRMED
END:VEVENT
BEGIN:VEVENT
UID:1484236eb749668fedd9b48449dcf7dc@skysports.com
SEQUENCE:0
DTSTAMP:20260425T090408Z
DTSTART:20260203T194500Z
DTEND:20260203T214500Z
SUMMARY:Harrogate Town v Swindon Town
LOCATION:The Exercise Stadium
DESCRIPTION:Harrogate Town v Swindon Town - The Exercise Stadium - Sky Bet
  League Two - Live on Sky Sports+
STATUS:CONFIRMED
END:VEVENT
BEGIN:VEVENT
UID:b98b3d35561595d09098837818c9c1a4@skysports.com
SEQUENCE:0
DTSTAMP:20260425T090408Z
DTSTART:20260211T200000Z
DTEND:20260211T220000Z
SUMMARY:Swindon Town v Newport County AFC
LOCATION:The County Ground
DESCRIPTION:Swindon Town v Newport County AFC - The County Ground - Sky Be
 t League Two - Live on Sky Sports+
STATUS:CONFIRMED
END:VEVENT
BEGIN:VEVENT
UID:52804954676170fdfeb80c49b0876ac6@skysports.com
SEQUENCE:0
DTSTAMP:20260425T090408Z
DTSTART:20260117T150000Z
DTEND:20260117T170000Z
SUMMARY:Swindon Town v Salford City
LOCATION:The County Ground
DESCRIPTION:Swindon Town v Salford City - The County Ground - Sky Bet Leag
 ue Two
STATUS:CONFIRMED
END:VEVENT
BEGIN:VEVENT
UID:544baaef751b6919dea93f3ad702f567@skysports.com
SEQUENCE:0
DTSTAMP:20260425T090408Z
DTSTART:20260124T150000Z
DTEND:20260124T170000Z
SUMMARY:Bromley v Swindon Town
LOCATION:Hayes Lane Stadium
DESCRIPTION:Bromley v Swindon Town - Hayes Lane Stadium - Sky Bet League T
 wo
STATUS:CONFIRMED
END:VEVENT
BEGIN:VEVENT
UID:c703a68b3e7df53b08fe65325aaf2e4d@skysports.com
SEQUENCE:0
DTSTAMP:20260425T090408Z
DTSTART:20260127T194500Z
DTEND:20260127T214500Z
SUMMARY:Notts County v Swindon Town
LOCATION:Meadow Lane
DESCRIPTION:Notts County v Swindon Town - Meadow Lane - Sky Bet League Two
  - Live on Sky Sports+
STATUS:CONFIRMED
END:VEVENT
BEGIN:VEVENT
UID:020ce3250912ab7c7cb06c623748d16a@skysports.com
SEQUENCE:0
DTSTAMP:20260425T090408Z
DTSTART:20260131T150000Z
DTEND:20260131T170000Z
SUMMARY:Swindon Town v Barrow
LOCATION:The County Ground
DESCRIPTION:Swindon Town v Barrow - The County Ground - Sky Bet League Two
STATUS:CONFIRMED
END:VEVENT
BEGIN:VEVENT
UID:a67a43ec78cb57c29a9513e32bd682b0@skysports.com
SEQUENCE:0
DTSTAMP:20260425T090408Z
DTSTART:20260207T123100Z
DTEND:20260207T143100Z
SUMMARY:Swindon Town v Oldham Athletic
LOCATION:The County Ground
DESCRIPTION:Swindon Town v Oldham Athletic - The County Ground - Sky Bet L
 eague Two - Live on Sky Sports+
STATUS:CONFIRMED
END:VEVENT
BEGIN:VEVENT
UID:251eccfb79acc217b8e83b067c28ca1e@skysports.com
SEQUENCE:0
DTSTAMP:20260425T090408Z
DTSTART:20260214T150000Z
DTEND:20260214T170000Z
SUMMARY:Shrewsbury Town v Swindon Town
LOCATION:The Croud Meadow
DESCRIPTION:Shrewsbury Town v Swindon Town - The Croud Meadow - Sky Bet Le
 ague Two
STATUS:CONFIRMED
END:VEVENT
BEGIN:VEVENT
UID:04c3a65b5b33a4fd9bfab7f576caf6cc@skysports.com
SEQUENCE:0
DTSTAMP:20260425T090408Z
DTSTART:20260217T194500Z
DTEND:20260217T214500Z
SUMMARY:Barnet v Swindon Town
LOCATION:The Hive Stadium
DESCRIPTION:Barnet v Swindon Town - The Hive Stadium - Sky Bet League Two 
 - Live on Sky Sports+
STATUS:CONFIRMED
END:VEVENT
BEGIN:VEVENT
UID:03606d4d97bec5f0ac08dce68b0e9ff0@skysports.com
SEQUENCE:0
DTSTAMP:20260425T090408Z
DTSTART:20260221T123000Z
DTEND:20260221T143000Z
SUMMARY:Swindon Town v Crewe Alexandra
LOCATION:The County Ground
DESCRIPTION:Swindon Town v Crewe Alexandra - The County Ground - Sky Bet L
 eague Two - Live on Sky Sports+
STATUS:CONFIRMED
END:VEVENT
BEGIN:VEVENT
UID:b15e60295cf0ab1dda1c34389321f369@skysports.com
SEQUENCE:0
DTSTAMP:20260425T090408Z
DTSTART:20260228T123000Z
DTEND:20260228T143000Z
SUMMARY:Swindon Town v Bristol Rovers
LOCATION:The County Ground
DESCRIPTION:Swindon Town v Bristol Rovers - The County Ground - Sky Bet Le
 ague Two - Live on Sky Sports+
STATUS:CONFIRMED
END:VEVENT
BEGIN:VEVENT
UID:d06048243c726a41e35d1a4b6c14d554@skysports.com
SEQUENCE:0
DTSTAMP:20260425T090408Z
DTSTART:20260307T150000Z
DTEND:20260307T170000Z
SUMMARY:Crawley Town v Swindon Town
LOCATION:Broadfield Stadium
DESCRIPTION:Crawley Town v Swindon Town - Broadfield Stadium - Sky Bet Lea
 gue Two
STATUS:CONFIRMED
END:VEVENT
BEGIN:VEVENT
UID:ffd3c6693ff23046ce462ffce6231a2a@skysports.com
SEQUENCE:0
DTSTAMP:20260425T090408Z
DTSTART:20260314T150000Z
DTEND:20260314T170000Z
SUMMARY:Swindon Town v Milton Keynes Dons
LOCATION:The County Ground
DESCRIPTION:Swindon Town v Milton Keynes Dons - The County Ground - Sky Be
 t League Two
STATUS:CONFIRMED
END:VEVENT
BEGIN:VEVENT
UID:8a0b0862b75cc584ac885be7c880fc85@skysports.com
SEQUENCE:0
DTSTAMP:20260425T090408Z
DTSTART:20260317T194500Z
DTEND:20260317T214500Z
SUMMARY:Gillingham v Swindon Town
LOCATION:MEMS Priestfield Stadium
DESCRIPTION:Gillingham v Swindon Town - MEMS Priestfield Stadium - Sky Bet
  League Two - Live on Sky Sports+
STATUS:CONFIRMED
END:VEVENT
BEGIN:VEVENT
UID:aa83120710e56fd5dca571fc0f466352@skysports.com
SEQUENCE:0
DTSTAMP:20260425T090408Z
DTSTART:20260321T150000Z
DTEND:20260321T170000Z
SUMMARY:Tranmere Rovers v Swindon Town
LOCATION:Prenton Park
DESCRIPTION:Tranmere Rovers v Swindon Town - Prenton Park - Sky Bet League
  Two
STATUS:CONFIRMED
END:VEVENT
BEGIN:VEVENT
UID:adcd583ad291501de57b13e8ecdb99f1@skysports.com
SEQUENCE:0
DTSTAMP:20260425T090408Z
DTSTART:20260328T150000Z
DTEND:20260328T170000Z
SUMMARY:Swindon Town v Fleetwood Town
LOCATION:The County Ground
DESCRIPTION:Swindon Town v Fleetwood Town - The County Ground - Sky Bet Le
 ague Two - Live on Sky Sports+
STATUS:CONFIRMED
END:VEVENT
BEGIN:VEVENT
UID:e25bc2d7eeae8c83a7942b127d637c5c@skysports.com
SEQUENCE:0
DTSTAMP:20260425T090408Z
DTSTART:20260402T190000Z
DTEND:20260402T210000Z
SUMMARY:Cambridge United v Swindon Town
LOCATION:The Cledara Abbey Stadium
DESCRIPTION:Cambridge United v Swindon Town - The Cledara Abbey Stadium - 
 Sky Bet League Two - Live on Sky Sports Football
STATUS:CONFIRMED
END:VEVENT
BEGIN:VEVENT
UID:aafe3b77579310713b340c6d4f642f7f@skysports.com
SEQUENCE:0
DTSTAMP:20260425T090408Z
DTSTART:20260406T140000Z
DTEND:20260406T160000Z
SUMMARY:Swindon Town v Walsall
LOCATION:The County Ground
DESCRIPTION:Swindon Town v Walsall - The County Ground - Sky Bet League Tw
 o - Live on Sky Sports+
STATUS:CONFIRMED
END:VEVENT
BEGIN:VEVENT
UID:ddb1375988d0c217debaecbe3d9dee75@skysports.com
SEQUENCE:0
DTSTAMP:20260425T090408Z
DTSTART:20260410T184500Z
DTEND:20260410T204500Z
SUMMARY:Colchester United v Swindon Town
LOCATION:JobServe Community Stadium
DESCRIPTION:Colchester United v Swindon Town - JobServe Community Stadium 
 - Sky Bet League Two - Live on Sky Sports+
STATUS:CONFIRMED
END:VEVENT
BEGIN:VEVENT
UID:0579297198819bf66d9e3bf24b39379f@skysports.com
SEQUENCE:0
DTSTAMP:20260425T090408Z
DTSTART:20260418T113000Z
DTEND:20260418T133000Z
SUMMARY:Swindon Town v Accrington Stanley
LOCATION:The County Ground
DESCRIPTION:Swindon Town v Accrington Stanley - The County Ground - Sky Be
 t League Two - Live on Sky Sports+
STATUS:CONFIRMED
END:VEVENT
BEGIN:VEVENT
UID:eb29ec808b25b4330da361f9c0e51b67@skysports.com
SEQUENCE:0
DTSTAMP:20260425T090408Z
DTSTART:20260425T113000Z
DTEND:20260425T133000Z
SUMMARY:Grimsby Town v Swindon Town
LOCATION:Blundell Park
DESCRIPTION:Grimsby Town v Swindon Town - Blundell Park - Sky Bet League T
 wo - Live on Sky Sports+ Red Button
STATUS:CONFIRMED
END:VEVENT
BEGIN:VEVENT
UID:aa5b33e6f46bf255b18eb79e319bd99e@skysports.com
SEQUENCE:0
DTSTAMP:20260425T090408Z
DTSTART:20260502T140000Z
DTEND:20260502T160000Z
SUMMARY:Swindon Town v Chesterfield
LOCATION:The County Ground
DESCRIPTION:Swindon Town v Chesterfield - The County Ground - Sky Bet Leag
 ue Two
STATUS:CONFIRMED
END:VEVENT
BEGIN:VEVENT
UID:d207886ddadf0fcdc1f1ed648c31fe13@skysports.com
SEQUENCE:0
DTSTAMP:20260425T090408Z
DTSTART:20250812T184500Z
DTEND:20250812T204500Z
SUMMARY:Cardiff City v Swindon Town
LOCATION:Cardiff City Stadium
DESCRIPTION:Cardiff City v Swindon Town - Cardiff City Stadium - Carabao C
 up - Live on Sky Sports+
STATUS:CONFIRMED
END:VEVENT
BEGIN:VEVENT
UID:5fb2256400675322c94267793a05d4ff@skysports.com
SEQUENCE:0
DTSTAMP:20260425T090408Z
DTSTART:20250902T180000Z
DTEND:20250902T200000Z
SUMMARY:Swindon Town v Reading
LOCATION:The County Ground
DESCRIPTION:Swindon Town v Reading - The County Ground - Vertu Trophy - Li
 ve on Sky Sports+
STATUS:CONFIRMED
END:VEVENT
BEGIN:VEVENT
UID:505bcb0c6dc3729bb2ddd3db66e8a9fb@skysports.com
SEQUENCE:0
DTSTAMP:20260425T090408Z
DTSTART:20251111T190000Z
DTEND:20251111T210000Z
SUMMARY:Milton Keynes Dons v Swindon Town
LOCATION:Stadium:mk
DESCRIPTION:Milton Keynes Dons v Swindon Town - Stadium:mk - Vertu Trophy 
 - Live on Sky Sports+
STATUS:CONFIRMED
END:VEVENT
BEGIN:VEVENT
UID:eb542f062e2b964bd933f25c8e1b10ce@skysports.com
SEQUENCE:0
DTSTAMP:20260425T090408Z
DTSTART:20251028T190000Z
DTEND:20251028T210000Z
SUMMARY:Swindon Town v West Ham United U21
LOCATION:The County Ground
DESCRIPTION:Swindon Town v West Ham United U21 - The County Ground - Vertu
  Trophy - Live on Sky Sports+
STATUS:CONFIRMED
END:VEVENT
BEGIN:VEVENT
UID:836e0625bb41067b534f672a754753b0@skysports.com
SEQUENCE:0
DTSTAMP:20260425T090408Z
DTSTART:20251101T150000Z
DTEND:20251101T170000Z
SUMMARY:Rotherham United v Swindon Town
LOCATION:New York Stadium
DESCRIPTION:Rotherham United v Swindon Town - New York Stadium - The FA Cu
 p
STATUS:CONFIRMED
END:VEVENT
BEGIN:VEVENT
UID:783ca79bd98340a6b8dcd19c084f1e8e@skysports.com
SEQUENCE:0
DTSTAMP:20260425T090408Z
DTSTART:20251206T150000Z
DTEND:20251206T170000Z
SUMMARY:Swindon Town v Bolton Wanderers
LOCATION:The County Ground
DESCRIPTION:Swindon Town v Bolton Wanderers - The County Ground - The FA C
 up
STATUS:CONFIRMED
END:VEVENT
BEGIN:VEVENT
UID:fdb42c2290eb856475c36b7b10fceb01@skysports.com
SEQUENCE:0
DTSTAMP:20260425T090408Z
DTSTART:20251202T193000Z
DTEND:20251202T213000Z
SUMMARY:Swindon Town v Peterborough United
LOCATION:The County Ground
DESCRIPTION:Swindon Town v Peterborough United - The County Ground - Vertu
  Trophy - Live on Sky Sports+
STATUS:CONFIRMED
END:VEVENT
BEGIN:VEVENT
UID:e9a49eaf6961513a9eddb1b6e11d17ca@skysports.com
SEQUENCE:0
DTSTAMP:20260425T090408Z
DTSTART:20260113T190000Z
DTEND:20260113T210000Z
SUMMARY:Luton Town v Swindon Town
LOCATION:Kenilworth Road
DESCRIPTION:Luton Town v Swindon Town - Kenilworth Road - Vertu Trophy - L
 ive on Sky Sports+
STATUS:CONFIRMED
END:VEVENT
BEGIN:VEVENT
UID:fac6aee9f92cf1ce1c9a0fca70b84a39@skysports.com
SEQUENCE:0
DTSTAMP:20260425T090408Z
DTSTART:20260120T194500Z
DTEND:20260120T214500Z
SUMMARY:Salford City v Swindon Town
LOCATION:Moor Lane
DESCRIPTION:Salford City v Swindon Town - Moor Lane - The FA Cup
STATUS:CONFIRMED
END:VEVENT
END:VCALENDAR