BEGIN:VCALENDAR
VERSION:2.0
PRODID:-//Sky Sports SSDM//NONSGML Event Calendar//EN
URL:https://www.skysports.com/calendars/football/fixtures/teams/switzerlan
 d
CALSCALE:GREGORIAN
METHOD:PUBLISH
NAME:Switzerland Fixtures
X-WR-CALNAME:Switzerland Fixtures
X-WR-CALDESC:Switzerland fixtures provided by Sky Sports (https://www.skys
 ports.com)
REFRESH-INTERVAL;VALUE=DURATION:PT1H
X-PUBLISHED-TTL:PT1H
BEGIN:VEVENT
UID:42529fe0c6db28ac6d9ca5ca7d062c49@skysports.com
SEQUENCE:0
DTSTAMP:20260425T091510Z
DTSTART:20260613T190000Z
DTEND:20260613T210000Z
SUMMARY:Qatar v Switzerland
LOCATION:Levi's Stadium
DESCRIPTION:Qatar v Switzerland - Levi's Stadium - FIFA World Cup
STATUS:CONFIRMED
END:VEVENT
BEGIN:VEVENT
UID:015aeade82cd23d707b9a21844e137c8@skysports.com
SEQUENCE:0
DTSTAMP:20260425T091510Z
DTSTART:20260618T190000Z
DTEND:20260618T210000Z
SUMMARY:Switzerland v Bosnia and Herzegovina
LOCATION:SoFi Stadium
DESCRIPTION:Switzerland v Bosnia and Herzegovina - SoFi Stadium - FIFA Wor
 ld Cup
STATUS:CONFIRMED
END:VEVENT
BEGIN:VEVENT
UID:2dbbd4df2225af1ee5b3312be00ebd05@skysports.com
SEQUENCE:0
DTSTAMP:20260425T091510Z
DTSTART:20260624T190000Z
DTEND:20260624T210000Z
SUMMARY:Switzerland v Canada
LOCATION:BC Place
DESCRIPTION:Switzerland v Canada - BC Place - FIFA World Cup
STATUS:CONFIRMED
END:VEVENT
BEGIN:VEVENT
UID:eafc154df104da23b76cb52e2126534b@skysports.com
SEQUENCE:0
DTSTAMP:20260425T091510Z
DTSTART:20260327T194500Z
DTEND:20260327T214500Z
SUMMARY:Switzerland v Germany
LOCATION:St Jakob-Park
DESCRIPTION:Switzerland v Germany - St Jakob-Park - International Match
STATUS:CONFIRMED
END:VEVENT
BEGIN:VEVENT
UID:2e3916c500ea58cf20699effca05259e@skysports.com
SEQUENCE:0
DTSTAMP:20260425T091510Z
DTSTART:20260331T160000Z
DTEND:20260331T180000Z
SUMMARY:Norway v Switzerland
LOCATION:Ullevaal Stadion
DESCRIPTION:Norway v Switzerland - Ullevaal Stadion - International Match
STATUS:CONFIRMED
END:VEVENT
BEGIN:VEVENT
UID:7c9dd1c9a84a8069bcb301f4123aba44@skysports.com
SEQUENCE:0
DTSTAMP:20260425T091510Z
DTSTART:20260926T184500Z
DTEND:20260926T204500Z
SUMMARY:North Macedonia v Switzerland
LOCATION:TBC
DESCRIPTION:North Macedonia v Switzerland - TBC - UEFA Nations League
STATUS:CONFIRMED
END:VEVENT
BEGIN:VEVENT
UID:64290cd2596a6a527df8519f46595417@skysports.com
SEQUENCE:0
DTSTAMP:20260425T091510Z
DTSTART:20260929T184500Z
DTEND:20260929T204500Z
SUMMARY:Scotland v Switzerland
LOCATION:TBC
DESCRIPTION:Scotland v Switzerland - TBC - UEFA Nations League
STATUS:CONFIRMED
END:VEVENT
BEGIN:VEVENT
UID:6ed708eeaf83ff8083d2950b4dcf8518@skysports.com
SEQUENCE:0
DTSTAMP:20260425T091510Z
DTSTART:20261003T184500Z
DTEND:20261003T204500Z
SUMMARY:Switzerland v Slovenia
LOCATION:TBC
DESCRIPTION:Switzerland v Slovenia - TBC - UEFA Nations League
STATUS:CONFIRMED
END:VEVENT
BEGIN:VEVENT
UID:69a03e3a5e45e83e1fa7b912b1cf7f1f@skysports.com
SEQUENCE:0
DTSTAMP:20260425T091510Z
DTSTART:20261006T184500Z
DTEND:20261006T204500Z
SUMMARY:Switzerland v North Macedonia
LOCATION:TBC
DESCRIPTION:Switzerland v North Macedonia - TBC - UEFA Nations League
STATUS:CONFIRMED
END:VEVENT
BEGIN:VEVENT
UID:675dbacee223b7595f20a09adeb7a3c4@skysports.com
SEQUENCE:0
DTSTAMP:20260425T091510Z
DTSTART:20261113T194500Z
DTEND:20261113T214500Z
SUMMARY:Slovenia v Switzerland
LOCATION:TBC
DESCRIPTION:Slovenia v Switzerland - TBC - UEFA Nations League
STATUS:CONFIRMED
END:VEVENT
BEGIN:VEVENT
UID:e088368f3f54fd9481814bacf22d4bc9@skysports.com
SEQUENCE:0
DTSTAMP:20260425T091510Z
DTSTART:20261116T194500Z
DTEND:20261116T214500Z
SUMMARY:Switzerland v Scotland
LOCATION:TBC
DESCRIPTION:Switzerland v Scotland - TBC - UEFA Nations League
STATUS:CONFIRMED
END:VEVENT
BEGIN:VEVENT
UID:45320a16801b22e76ee05dcaab653ed5@skysports.com
SEQUENCE:0
DTSTAMP:20260425T091510Z
DTSTART:20260531T130000Z
DTEND:20260531T150000Z
SUMMARY:Switzerland v Jordan
LOCATION:Kybunpark
DESCRIPTION:Switzerland v Jordan - Kybunpark - International Match
STATUS:CONFIRMED
END:VEVENT
BEGIN:VEVENT
UID:4dc730cf380967353ea250dee0a2cd5f@skysports.com
SEQUENCE:0
DTSTAMP:20260425T091510Z
DTSTART:20260606T190000Z
DTEND:20260606T210000Z
SUMMARY:Australia v Switzerland
LOCATION:Snapdragon Stadium
DESCRIPTION:Australia v Switzerland - Snapdragon Stadium - International M
 atch
STATUS:CONFIRMED
END:VEVENT
END:VCALENDAR