BEGIN:VCALENDAR
VERSION:2.0
PRODID:-//Sky Sports SSDM//NONSGML Event Calendar//EN
URL:https://www.skysports.com/calendars/football/fixtures/teams/tottenham-
 hotspur
CALSCALE:GREGORIAN
METHOD:PUBLISH
NAME:Tottenham Hotspur Fixtures
X-WR-CALNAME:Tottenham Hotspur Fixtures
X-WR-CALDESC:Tottenham Hotspur fixtures provided by Sky Sports (https://ww
 w.skysports.com)
REFRESH-INTERVAL;VALUE=DURATION:PT1H
X-PUBLISHED-TTL:PT1H
BEGIN:VEVENT
UID:02d717d6264e7604b91f1d8645588e38@skysports.com
SEQUENCE:0
DTSTAMP:20260425T090703Z
DTSTART:20250731T113000Z
DTEND:20250731T133000Z
SUMMARY:Arsenal v Tottenham Hotspur
LOCATION:Kai Tak Sports Park
DESCRIPTION:Arsenal v Tottenham Hotspur - Kai Tak Sports Park - Friendly M
 atch
STATUS:CONFIRMED
END:VEVENT
BEGIN:VEVENT
UID:779a8a04bbbaf1e316661b1bb3859a6e@skysports.com
SEQUENCE:0
DTSTAMP:20260425T090703Z
DTSTART:20250813T190000Z
DTEND:20250813T210000Z
SUMMARY:Paris Saint-Germain v Tottenham Hotspur
LOCATION:Dacia Arena
DESCRIPTION:Paris Saint-Germain v Tottenham Hotspur - Dacia Arena - UEFA S
 uper Cup
STATUS:CONFIRMED
END:VEVENT
BEGIN:VEVENT
UID:2414abe836e322f75b7e949580d9972a@skysports.com
SEQUENCE:0
DTSTAMP:20260425T090703Z
DTSTART:20250807T163000Z
DTEND:20250807T183000Z
SUMMARY:Bayern Munich v Tottenham Hotspur
LOCATION:Allianz Arena
DESCRIPTION:Bayern Munich v Tottenham Hotspur - Allianz Arena - Friendly M
 atch
STATUS:CONFIRMED
END:VEVENT
BEGIN:VEVENT
UID:8ce7be15729f55d2399fb0317febb003@skysports.com
SEQUENCE:0
DTSTAMP:20260425T090703Z
DTSTART:20250726T140000Z
DTEND:20250726T160000Z
SUMMARY:Luton Town v Tottenham Hotspur
LOCATION:Kenilworth Road
DESCRIPTION:Luton Town v Tottenham Hotspur - Kenilworth Road - Friendly Ma
 tch
STATUS:CONFIRMED
END:VEVENT
BEGIN:VEVENT
UID:994cac03353255116a05f1b2e47d105e@skysports.com
SEQUENCE:0
DTSTAMP:20260425T090703Z
DTSTART:20250803T110000Z
DTEND:20250803T130000Z
SUMMARY:Tottenham Hotspur v Newcastle United
LOCATION:Seoul World Cup Stadium
DESCRIPTION:Tottenham Hotspur v Newcastle United - Seoul World Cup Stadium
  - Friendly Match
STATUS:CONFIRMED
END:VEVENT
BEGIN:VEVENT
UID:b3f12fda3be018376decdaf3e71582a7@skysports.com
SEQUENCE:0
DTSTAMP:20260425T090703Z
DTSTART:20250816T140000Z
DTEND:20250816T160000Z
SUMMARY:Tottenham Hotspur v Burnley
LOCATION:Tottenham Hotspur Stadium
DESCRIPTION:Tottenham Hotspur v Burnley - Tottenham Hotspur Stadium - Prem
 ier League
STATUS:CONFIRMED
END:VEVENT
BEGIN:VEVENT
UID:4d3d87acf21eb3d45e913c7b0d20753c@skysports.com
SEQUENCE:0
DTSTAMP:20260425T090703Z
DTSTART:20250823T113000Z
DTEND:20250823T133000Z
SUMMARY:Manchester City v Tottenham Hotspur
LOCATION:Etihad Stadium
DESCRIPTION:Manchester City v Tottenham Hotspur - Etihad Stadium - Premier
  League
STATUS:CONFIRMED
END:VEVENT
BEGIN:VEVENT
UID:14d612a596d94fc73d0d45e22aefcfed@skysports.com
SEQUENCE:0
DTSTAMP:20260425T090703Z
DTSTART:20250830T140000Z
DTEND:20250830T160000Z
SUMMARY:Tottenham Hotspur v Bournemouth
LOCATION:Tottenham Hotspur Stadium
DESCRIPTION:Tottenham Hotspur v Bournemouth - Tottenham Hotspur Stadium - 
 Premier League
STATUS:CONFIRMED
END:VEVENT
BEGIN:VEVENT
UID:452dfeb2e75ae6d2c501b43fa4549024@skysports.com
SEQUENCE:0
DTSTAMP:20260425T090703Z
DTSTART:20250913T163000Z
DTEND:20250913T183000Z
SUMMARY:West Ham United v Tottenham Hotspur
LOCATION:London Stadium
DESCRIPTION:West Ham United v Tottenham Hotspur - London Stadium - Premier
  League - Live on Sky Sports Main Event and Sky Sports Premier League
STATUS:CONFIRMED
END:VEVENT
BEGIN:VEVENT
UID:e295032e3317a192f824e3e5b2c129ee@skysports.com
SEQUENCE:0
DTSTAMP:20260425T090703Z
DTSTART:20250920T140000Z
DTEND:20250920T160000Z
SUMMARY:Brighton and Hove Albion v Tottenham Hotspur
LOCATION:Amex Stadium
DESCRIPTION:Brighton and Hove Albion v Tottenham Hotspur - Amex Stadium - 
 Premier League
STATUS:CONFIRMED
END:VEVENT
BEGIN:VEVENT
UID:83e8dd9a615297f71215ca8766e50b52@skysports.com
SEQUENCE:0
DTSTAMP:20260425T090703Z
DTSTART:20250927T190000Z
DTEND:20250927T210000Z
SUMMARY:Tottenham Hotspur v Wolverhampton Wanderers
LOCATION:Tottenham Hotspur Stadium
DESCRIPTION:Tottenham Hotspur v Wolverhampton Wanderers - Tottenham Hotspu
 r Stadium - Premier League - Live on Sky Sports Premier League
STATUS:CONFIRMED
END:VEVENT
BEGIN:VEVENT
UID:1b64d68cbd349a34b3ff33ae2dee610a@skysports.com
SEQUENCE:0
DTSTAMP:20260425T090703Z
DTSTART:20251004T113000Z
DTEND:20251004T133000Z
SUMMARY:Leeds United v Tottenham Hotspur
LOCATION:Elland Road
DESCRIPTION:Leeds United v Tottenham Hotspur - Elland Road - Premier Leagu
 e
STATUS:CONFIRMED
END:VEVENT
BEGIN:VEVENT
UID:15d31a3679c38d834df39d9c17244761@skysports.com
SEQUENCE:0
DTSTAMP:20260425T090703Z
DTSTART:20251019T130000Z
DTEND:20251019T150000Z
SUMMARY:Tottenham Hotspur v Aston Villa
LOCATION:Tottenham Hotspur Stadium
DESCRIPTION:Tottenham Hotspur v Aston Villa - Tottenham Hotspur Stadium - 
 Premier League - Live on Sky Sports Premier League and Sky Sports Main Eve
 nt
STATUS:CONFIRMED
END:VEVENT
BEGIN:VEVENT
UID:8d05b495062c73d7045c76c766e0aa2b@skysports.com
SEQUENCE:0
DTSTAMP:20260425T090703Z
DTSTART:20251026T163000Z
DTEND:20251026T183000Z
SUMMARY:Everton v Tottenham Hotspur
LOCATION:Hill Dickinson Stadium
DESCRIPTION:Everton v Tottenham Hotspur - Hill Dickinson Stadium - Premier
  League - Live on Sky Sports Main Event and Sky Sports Premier League
STATUS:CONFIRMED
END:VEVENT
BEGIN:VEVENT
UID:d6ad347e6a20d925a0a9bdd6d4c9b270@skysports.com
SEQUENCE:0
DTSTAMP:20260425T090703Z
DTSTART:20251101T173000Z
DTEND:20251101T193000Z
SUMMARY:Tottenham Hotspur v Chelsea
LOCATION:Tottenham Hotspur Stadium
DESCRIPTION:Tottenham Hotspur v Chelsea - Tottenham Hotspur Stadium - Prem
 ier League - Live on Sky Sports Premier League and Sky Sports Main Event
STATUS:CONFIRMED
END:VEVENT
BEGIN:VEVENT
UID:36e1b57537c75bd957c9843b14a5ba6e@skysports.com
SEQUENCE:0
DTSTAMP:20260425T090703Z
DTSTART:20251108T123000Z
DTEND:20251108T143000Z
SUMMARY:Tottenham Hotspur v Manchester United
LOCATION:Tottenham Hotspur Stadium
DESCRIPTION:Tottenham Hotspur v Manchester United - Tottenham Hotspur Stad
 ium - Premier League
STATUS:CONFIRMED
END:VEVENT
BEGIN:VEVENT
UID:748d0a7b3a0f1d184915da60a441f4b3@skysports.com
SEQUENCE:0
DTSTAMP:20260425T090703Z
DTSTART:20251123T163000Z
DTEND:20251123T183000Z
SUMMARY:Arsenal v Tottenham Hotspur
LOCATION:Emirates Stadium
DESCRIPTION:Arsenal v Tottenham Hotspur - Emirates Stadium - Premier Leagu
 e - Live on Sky Sports Premier League and Sky Sports Main Event
STATUS:CONFIRMED
END:VEVENT
BEGIN:VEVENT
UID:012cd29f3ac5047228ce674b3612b2b0@skysports.com
SEQUENCE:0
DTSTAMP:20260425T090703Z
DTSTART:20251129T200000Z
DTEND:20251129T220000Z
SUMMARY:Tottenham Hotspur v Fulham
LOCATION:Tottenham Hotspur Stadium
DESCRIPTION:Tottenham Hotspur v Fulham - Tottenham Hotspur Stadium - Premi
 er League - Live on Sky Sports Main Event and Sky Sports Premier League
STATUS:CONFIRMED
END:VEVENT
BEGIN:VEVENT
UID:15b977fd1d274f2187e3d4af66f0d00f@skysports.com
SEQUENCE:0
DTSTAMP:20260425T090703Z
DTSTART:20251202T201500Z
DTEND:20251202T221500Z
SUMMARY:Newcastle United v Tottenham Hotspur
LOCATION:St James' Park\, Newcastle
DESCRIPTION:Newcastle United v Tottenham Hotspur - St James' Park and Newc
 astle - Premier League - Live on Sky Sports Premier League
STATUS:CONFIRMED
END:VEVENT
BEGIN:VEVENT
UID:6cb7f6bfdd4eab001fd2d34ca73823d8@skysports.com
SEQUENCE:0
DTSTAMP:20260425T090703Z
DTSTART:20251206T150000Z
DTEND:20251206T170000Z
SUMMARY:Tottenham Hotspur v Brentford
LOCATION:Tottenham Hotspur Stadium
DESCRIPTION:Tottenham Hotspur v Brentford - Tottenham Hotspur Stadium - Pr
 emier League
STATUS:CONFIRMED
END:VEVENT
BEGIN:VEVENT
UID:dfea1d4f79224b465508190687ffa834@skysports.com
SEQUENCE:0
DTSTAMP:20260425T090703Z
DTSTART:20251214T140000Z
DTEND:20251214T160000Z
SUMMARY:Nottingham Forest v Tottenham Hotspur
LOCATION:The City Ground
DESCRIPTION:Nottingham Forest v Tottenham Hotspur - The City Ground - Prem
 ier League - Live on Sky Sports+
STATUS:CONFIRMED
END:VEVENT
BEGIN:VEVENT
UID:072197e34f61b6ecfad4a4c18c8b09a8@skysports.com
SEQUENCE:0
DTSTAMP:20260425T090703Z
DTSTART:20251220T173000Z
DTEND:20251220T193000Z
SUMMARY:Tottenham Hotspur v Liverpool
LOCATION:Tottenham Hotspur Stadium
DESCRIPTION:Tottenham Hotspur v Liverpool - Tottenham Hotspur Stadium - Pr
 emier League - Live on Sky Sports Main Event and Sky Sports Premier League
STATUS:CONFIRMED
END:VEVENT
BEGIN:VEVENT
UID:94d7c7c8adcfddf4d63790b2e3b3bb0d@skysports.com
SEQUENCE:0
DTSTAMP:20260425T090703Z
DTSTART:20251228T163000Z
DTEND:20251228T183000Z
SUMMARY:Crystal Palace v Tottenham Hotspur
LOCATION:Selhurst Park
DESCRIPTION:Crystal Palace v Tottenham Hotspur - Selhurst Park - Premier L
 eague - Live on Sky Sports Premier League and Sky Sports Main Event
STATUS:CONFIRMED
END:VEVENT
BEGIN:VEVENT
UID:e0ec7c5faf3b00ead5d2eec485859c33@skysports.com
SEQUENCE:0
DTSTAMP:20260425T090703Z
DTSTART:20260101T200000Z
DTEND:20260101T220000Z
SUMMARY:Brentford v Tottenham Hotspur
LOCATION:Gtech Community Stadium
DESCRIPTION:Brentford v Tottenham Hotspur - Gtech Community Stadium - Prem
 ier League - Live on Sky Sports Premier League
STATUS:CONFIRMED
END:VEVENT
BEGIN:VEVENT
UID:fd219121bef902424e6d3e7b2b6de4d9@skysports.com
SEQUENCE:0
DTSTAMP:20260425T090703Z
DTSTART:20260104T150000Z
DTEND:20260104T170000Z
SUMMARY:Tottenham Hotspur v Sunderland
LOCATION:Tottenham Hotspur Stadium
DESCRIPTION:Tottenham Hotspur v Sunderland - Tottenham Hotspur Stadium - P
 remier League - Live on Sky Sports Football
STATUS:CONFIRMED
END:VEVENT
BEGIN:VEVENT
UID:7983fbbd6771ea67a51deb83f85221f4@skysports.com
SEQUENCE:0
DTSTAMP:20260425T090703Z
DTSTART:20260107T193000Z
DTEND:20260107T213000Z
SUMMARY:Bournemouth v Tottenham Hotspur
LOCATION:Vitality Stadium
DESCRIPTION:Bournemouth v Tottenham Hotspur - Vitality Stadium - Premier L
 eague - Live on Sky Sports Golf
STATUS:CONFIRMED
END:VEVENT
BEGIN:VEVENT
UID:1031fedd4f040ed04881933ee1591f7d@skysports.com
SEQUENCE:0
DTSTAMP:20260425T090703Z
DTSTART:20260117T150000Z
DTEND:20260117T170000Z
SUMMARY:Tottenham Hotspur v West Ham United
LOCATION:Tottenham Hotspur Stadium
DESCRIPTION:Tottenham Hotspur v West Ham United - Tottenham Hotspur Stadiu
 m - Premier League
STATUS:CONFIRMED
END:VEVENT
BEGIN:VEVENT
UID:784293f79e5675639dbf4c7e931152ec@skysports.com
SEQUENCE:0
DTSTAMP:20260425T090703Z
DTSTART:20260124T150000Z
DTEND:20260124T170000Z
SUMMARY:Burnley v Tottenham Hotspur
LOCATION:Turf Moor
DESCRIPTION:Burnley v Tottenham Hotspur - Turf Moor - Premier League
STATUS:CONFIRMED
END:VEVENT
BEGIN:VEVENT
UID:1e53bd36644de0c9dcd998deab340bd8@skysports.com
SEQUENCE:0
DTSTAMP:20260425T090703Z
DTSTART:20260201T163000Z
DTEND:20260201T183000Z
SUMMARY:Tottenham Hotspur v Manchester City
LOCATION:Tottenham Hotspur Stadium
DESCRIPTION:Tottenham Hotspur v Manchester City - Tottenham Hotspur Stadiu
 m - Premier League - Live on Sky Sports Main Event and Sky Sports Premier 
 League
STATUS:CONFIRMED
END:VEVENT
BEGIN:VEVENT
UID:67a51ce0bb935fa04b04388804006138@skysports.com
SEQUENCE:0
DTSTAMP:20260425T090703Z
DTSTART:20260207T123000Z
DTEND:20260207T143000Z
SUMMARY:Manchester United v Tottenham Hotspur
LOCATION:Old Trafford
DESCRIPTION:Manchester United v Tottenham Hotspur - Old Trafford - Premier
  League
STATUS:CONFIRMED
END:VEVENT
BEGIN:VEVENT
UID:8e4b561186f3166fe23e344c6d78b843@skysports.com
SEQUENCE:0
DTSTAMP:20260425T090703Z
DTSTART:20260210T193000Z
DTEND:20260210T213000Z
SUMMARY:Tottenham Hotspur v Newcastle United
LOCATION:Tottenham Hotspur Stadium
DESCRIPTION:Tottenham Hotspur v Newcastle United - Tottenham Hotspur Stadi
 um - Premier League
STATUS:CONFIRMED
END:VEVENT
BEGIN:VEVENT
UID:0c50b2e89f0af3a964ad884285e89efe@skysports.com
SEQUENCE:0
DTSTAMP:20260425T090703Z
DTSTART:20260222T163000Z
DTEND:20260222T183000Z
SUMMARY:Tottenham Hotspur v Arsenal
LOCATION:Tottenham Hotspur Stadium
DESCRIPTION:Tottenham Hotspur v Arsenal - Tottenham Hotspur Stadium - Prem
 ier League - Live on Sky Sports Main Event and Sky Sports Premier League
STATUS:CONFIRMED
END:VEVENT
BEGIN:VEVENT
UID:15a344644e7b063d19d9b6c6ebf7c176@skysports.com
SEQUENCE:0
DTSTAMP:20260425T090703Z
DTSTART:20260301T140000Z
DTEND:20260301T160000Z
SUMMARY:Fulham v Tottenham Hotspur
LOCATION:Craven Cottage
DESCRIPTION:Fulham v Tottenham Hotspur - Craven Cottage - Premier League -
  Live on Sky Sports+
STATUS:CONFIRMED
END:VEVENT
BEGIN:VEVENT
UID:e39acaab90ca343f8ec47da0b5c846d2@skysports.com
SEQUENCE:0
DTSTAMP:20260425T090703Z
DTSTART:20260305T200000Z
DTEND:20260305T220000Z
SUMMARY:Tottenham Hotspur v Crystal Palace
LOCATION:Tottenham Hotspur Stadium
DESCRIPTION:Tottenham Hotspur v Crystal Palace - Tottenham Hotspur Stadium
  - Premier League
STATUS:CONFIRMED
END:VEVENT
BEGIN:VEVENT
UID:5a1d0eb6e7d2a3a1500d671277c352da@skysports.com
SEQUENCE:0
DTSTAMP:20260425T090703Z
DTSTART:20260315T163000Z
DTEND:20260315T183000Z
SUMMARY:Liverpool v Tottenham Hotspur
LOCATION:Anfield
DESCRIPTION:Liverpool v Tottenham Hotspur - Anfield - Premier League - Liv
 e on Sky Sports Main Event and Sky Sports Premier League
STATUS:CONFIRMED
END:VEVENT
BEGIN:VEVENT
UID:3a7ac12498958c2263b73fe603e29c69@skysports.com
SEQUENCE:0
DTSTAMP:20260425T090703Z
DTSTART:20260322T141500Z
DTEND:20260322T161500Z
SUMMARY:Tottenham Hotspur v Nottingham Forest
LOCATION:Tottenham Hotspur Stadium
DESCRIPTION:Tottenham Hotspur v Nottingham Forest - Tottenham Hotspur Stad
 ium - Premier League - Live on Sky Sports Main Event and Sky Sports Premie
 r League
STATUS:CONFIRMED
END:VEVENT
BEGIN:VEVENT
UID:aba492a4260f596167aafa3cdc41d972@skysports.com
SEQUENCE:0
DTSTAMP:20260425T090703Z
DTSTART:20260412T130000Z
DTEND:20260412T150000Z
SUMMARY:Sunderland v Tottenham Hotspur
LOCATION:Stadium of Light
DESCRIPTION:Sunderland v Tottenham Hotspur - Stadium of Light - Premier Le
 ague - Live on Sky Sports Main Event and Sky Sports Premier League
STATUS:CONFIRMED
END:VEVENT
BEGIN:VEVENT
UID:4040d24ec59b0bbb044a7e7a7b27767a@skysports.com
SEQUENCE:0
DTSTAMP:20260425T090703Z
DTSTART:20260418T163000Z
DTEND:20260418T183000Z
SUMMARY:Tottenham Hotspur v Brighton and Hove Albion
LOCATION:Tottenham Hotspur Stadium
DESCRIPTION:Tottenham Hotspur v Brighton and Hove Albion - Tottenham Hotsp
 ur Stadium - Premier League - Live on Sky Sports Premier League and Sky Sp
 orts Main Event
STATUS:CONFIRMED
END:VEVENT
BEGIN:VEVENT
UID:90cf7048817af6176af465c89f23fe4d@skysports.com
SEQUENCE:0
DTSTAMP:20260425T090703Z
DTSTART:20260425T140000Z
DTEND:20260425T160000Z
SUMMARY:Wolverhampton Wanderers v Tottenham Hotspur
LOCATION:Molineux
DESCRIPTION:Wolverhampton Wanderers v Tottenham Hotspur - Molineux - Premi
 er League
STATUS:CONFIRMED
END:VEVENT
BEGIN:VEVENT
UID:e967e4208c50578e82fce702b4588df7@skysports.com
SEQUENCE:0
DTSTAMP:20260425T090703Z
DTSTART:20260503T180000Z
DTEND:20260503T200000Z
SUMMARY:Aston Villa v Tottenham Hotspur
LOCATION:Villa Park
DESCRIPTION:Aston Villa v Tottenham Hotspur - Villa Park - Premier League
STATUS:CONFIRMED
END:VEVENT
BEGIN:VEVENT
UID:3318b5e736cdcd8c6ec5039459d84f25@skysports.com
SEQUENCE:0
DTSTAMP:20260425T090703Z
DTSTART:20260511T190000Z
DTEND:20260511T210000Z
SUMMARY:Tottenham Hotspur v Leeds United
LOCATION:Tottenham Hotspur Stadium
DESCRIPTION:Tottenham Hotspur v Leeds United - Tottenham Hotspur Stadium -
  Premier League - Live on Sky Sports Premier League and Sky Sports Main Ev
 ent
STATUS:CONFIRMED
END:VEVENT
BEGIN:VEVENT
UID:d19848ed1fd71a1434edd3666c3a98a0@skysports.com
SEQUENCE:0
DTSTAMP:20260425T090703Z
DTSTART:20260517T140000Z
DTEND:20260517T160000Z
SUMMARY:Chelsea v Tottenham Hotspur
LOCATION:Stamford Bridge
DESCRIPTION:Chelsea v Tottenham Hotspur - Stamford Bridge - Premier League
STATUS:CONFIRMED
END:VEVENT
BEGIN:VEVENT
UID:c25f6093ba3441bec1f0c643f8e9c7cc@skysports.com
SEQUENCE:0
DTSTAMP:20260425T090703Z
DTSTART:20260524T150000Z
DTEND:20260524T170000Z
SUMMARY:Tottenham Hotspur v Everton
LOCATION:Tottenham Hotspur Stadium
DESCRIPTION:Tottenham Hotspur v Everton - Tottenham Hotspur Stadium - Prem
 ier League
STATUS:CONFIRMED
END:VEVENT
BEGIN:VEVENT
UID:75bf000ff4424f11cb4ce6c47151497e@skysports.com
SEQUENCE:0
DTSTAMP:20260425T090703Z
DTSTART:20250719T140000Z
DTEND:20250719T160000Z
SUMMARY:Reading v Tottenham Hotspur
LOCATION:Select Car Leasing Stadium
DESCRIPTION:Reading v Tottenham Hotspur - Select Car Leasing Stadium - Fri
 endly Match
STATUS:CONFIRMED
END:VEVENT
BEGIN:VEVENT
UID:5b0874f07eea24d27472574591bd2d91@skysports.com
SEQUENCE:0
DTSTAMP:20260425T090703Z
DTSTART:20250726T100000Z
DTEND:20250726T120000Z
SUMMARY:Tottenham Hotspur v Wycombe Wanderers
LOCATION:Hotspur Way
DESCRIPTION:Tottenham Hotspur v Wycombe Wanderers - Hotspur Way - Friendly
  Match
STATUS:CONFIRMED
END:VEVENT
BEGIN:VEVENT
UID:18816278c38153311eb619ee43af25d9@skysports.com
SEQUENCE:0
DTSTAMP:20260425T090703Z
DTSTART:20250916T190000Z
DTEND:20250916T210000Z
SUMMARY:Tottenham Hotspur v Villarreal
LOCATION:Tottenham Hotspur Stadium
DESCRIPTION:Tottenham Hotspur v Villarreal - Tottenham Hotspur Stadium - U
 EFA Champions League
STATUS:CONFIRMED
END:VEVENT
BEGIN:VEVENT
UID:fc5cc5d098d53eace9ec6ad922c013ce@skysports.com
SEQUENCE:0
DTSTAMP:20260425T090703Z
DTSTART:20250930T190000Z
DTEND:20250930T210000Z
SUMMARY:Bodo/Glimt v Tottenham Hotspur
LOCATION:Aspmyra Stadion
DESCRIPTION:Bodo/Glimt v Tottenham Hotspur - Aspmyra Stadion - UEFA Champi
 ons League
STATUS:CONFIRMED
END:VEVENT
BEGIN:VEVENT
UID:a9af99fb1e9745c2ab01fd6508d84ab4@skysports.com
SEQUENCE:0
DTSTAMP:20260425T090703Z
DTSTART:20251022T190000Z
DTEND:20251022T210000Z
SUMMARY:Monaco v Tottenham Hotspur
LOCATION:Stade Louis-II
DESCRIPTION:Monaco v Tottenham Hotspur - Stade Louis-II - UEFA Champions L
 eague
STATUS:CONFIRMED
END:VEVENT
BEGIN:VEVENT
UID:fb15c8a151bac3a3d1b6449dba7b66cf@skysports.com
SEQUENCE:0
DTSTAMP:20260425T090703Z
DTSTART:20251104T200000Z
DTEND:20251104T220000Z
SUMMARY:Tottenham Hotspur v FC Copenhagen
LOCATION:Tottenham Hotspur Stadium
DESCRIPTION:Tottenham Hotspur v FC Copenhagen - Tottenham Hotspur Stadium 
 - UEFA Champions League
STATUS:CONFIRMED
END:VEVENT
BEGIN:VEVENT
UID:5f11c666a3bb78475a71c333a6db21ee@skysports.com
SEQUENCE:0
DTSTAMP:20260425T090703Z
DTSTART:20251126T200000Z
DTEND:20251126T220000Z
SUMMARY:Paris Saint-Germain v Tottenham Hotspur
LOCATION:Parc des Princes
DESCRIPTION:Paris Saint-Germain v Tottenham Hotspur - Parc des Princes - U
 EFA Champions League
STATUS:CONFIRMED
END:VEVENT
BEGIN:VEVENT
UID:9f6acb10bec5a3199b30af7521fd3d0d@skysports.com
SEQUENCE:0
DTSTAMP:20260425T090703Z
DTSTART:20251209T200000Z
DTEND:20251209T220000Z
SUMMARY:Tottenham Hotspur v Slavia Prague
LOCATION:Tottenham Hotspur Stadium
DESCRIPTION:Tottenham Hotspur v Slavia Prague - Tottenham Hotspur Stadium 
 - UEFA Champions League
STATUS:CONFIRMED
END:VEVENT
BEGIN:VEVENT
UID:ad9c79f7dfbe45179ea0f224036298b0@skysports.com
SEQUENCE:0
DTSTAMP:20260425T090703Z
DTSTART:20260120T200000Z
DTEND:20260120T220000Z
SUMMARY:Tottenham Hotspur v Borussia Dortmund
LOCATION:Tottenham Hotspur Stadium
DESCRIPTION:Tottenham Hotspur v Borussia Dortmund - Tottenham Hotspur Stad
 ium - UEFA Champions League
STATUS:CONFIRMED
END:VEVENT
BEGIN:VEVENT
UID:fd20b92c377bc5ed40f676acfa19aa7a@skysports.com
SEQUENCE:0
DTSTAMP:20260425T090703Z
DTSTART:20260128T200000Z
DTEND:20260128T220000Z
SUMMARY:Eintracht Frankfurt v Tottenham Hotspur
LOCATION:Commerzbank-Arena
DESCRIPTION:Eintracht Frankfurt v Tottenham Hotspur - Commerzbank-Arena - 
 UEFA Champions League
STATUS:CONFIRMED
END:VEVENT
BEGIN:VEVENT
UID:4a37c53f5d5db3c78ec8db51c82df46c@skysports.com
SEQUENCE:0
DTSTAMP:20260425T090703Z
DTSTART:20250924T184500Z
DTEND:20250924T204500Z
SUMMARY:Tottenham Hotspur v Doncaster Rovers
LOCATION:Tottenham Hotspur Stadium
DESCRIPTION:Tottenham Hotspur v Doncaster Rovers - Tottenham Hotspur Stadi
 um - Carabao Cup - Live on Sky Sports+
STATUS:CONFIRMED
END:VEVENT
BEGIN:VEVENT
UID:569981e631d7c6860a871f0b70ec3b99@skysports.com
SEQUENCE:0
DTSTAMP:20260425T090703Z
DTSTART:20251029T200000Z
DTEND:20251029T220000Z
SUMMARY:Newcastle United v Tottenham Hotspur
LOCATION:St James' Park\, Newcastle
DESCRIPTION:Newcastle United v Tottenham Hotspur - St James' Park and Newc
 astle - Carabao Cup - Live on Sky Sports Main Event
STATUS:CONFIRMED
END:VEVENT
BEGIN:VEVENT
UID:30ca66684bf577b4c62215ddd1c906ec@skysports.com
SEQUENCE:0
DTSTAMP:20260425T090703Z
DTSTART:20260110T174500Z
DTEND:20260110T194500Z
SUMMARY:Tottenham Hotspur v Aston Villa
LOCATION:Tottenham Hotspur Stadium
DESCRIPTION:Tottenham Hotspur v Aston Villa - Tottenham Hotspur Stadium - 
 The FA Cup
STATUS:CONFIRMED
END:VEVENT
BEGIN:VEVENT
UID:c3f53e5c9b39a214ad54864a0b79bad2@skysports.com
SEQUENCE:0
DTSTAMP:20260425T090703Z
DTSTART:20260310T200000Z
DTEND:20260310T220000Z
SUMMARY:Atletico Madrid v Tottenham Hotspur
LOCATION:Wanda Metropolitano
DESCRIPTION:Atletico Madrid v Tottenham Hotspur - Wanda Metropolitano - UE
 FA Champions League
STATUS:CONFIRMED
END:VEVENT
BEGIN:VEVENT
UID:3977a24b29d8aa8c5ff4737f2ff47117@skysports.com
SEQUENCE:0
DTSTAMP:20260425T090703Z
DTSTART:20260318T200000Z
DTEND:20260318T220000Z
SUMMARY:Tottenham Hotspur v Atletico Madrid
LOCATION:Tottenham Hotspur Stadium
DESCRIPTION:Tottenham Hotspur v Atletico Madrid - Tottenham Hotspur Stadiu
 m - UEFA Champions League
STATUS:CONFIRMED
END:VEVENT
BEGIN:VEVENT
UID:edefb59016bb2fbe79b2a2574977883d@skysports.com
SEQUENCE:0
DTSTAMP:20260425T090703Z
DTSTART:20260726T033000Z
DTEND:20260726T053000Z
SUMMARY:Auckland FC v Tottenham Hotspur
LOCATION:Eden Park
DESCRIPTION:Auckland FC v Tottenham Hotspur - Eden Park - Friendly Match
STATUS:CONFIRMED
END:VEVENT
END:VCALENDAR