BEGIN:VCALENDAR
VERSION:2.0
PRODID:-//Sky Sports SSDM//NONSGML Event Calendar//EN
URL:https://www.skysports.com/calendars/football/fixtures/teams/werder-bre
 men
CALSCALE:GREGORIAN
METHOD:PUBLISH
NAME:Werder Bremen Fixtures
X-WR-CALNAME:Werder Bremen Fixtures
X-WR-CALDESC:Werder Bremen fixtures provided by Sky Sports (https://www.sk
 ysports.com)
REFRESH-INTERVAL;VALUE=DURATION:PT1H
X-PUBLISHED-TTL:PT1H
BEGIN:VEVENT
UID:0de0c6025c94ce1732ab8d49386f2408@skysports.com
SEQUENCE:0
DTSTAMP:20260425T091008Z
DTSTART:20250815T184500Z
DTEND:20250815T204500Z
SUMMARY:Arminia Bielefeld v Werder Bremen
LOCATION:SchucoArena
DESCRIPTION:Arminia Bielefeld v Werder Bremen - SchucoArena - German DFB C
 up
STATUS:CONFIRMED
END:VEVENT
BEGIN:VEVENT
UID:5da77680a1e6024a63718b6dd65eedb7@skysports.com
SEQUENCE:0
DTSTAMP:20260425T091008Z
DTSTART:20250823T133000Z
DTEND:20250823T153000Z
SUMMARY:Eintracht Frankfurt v Werder Bremen
LOCATION:Commerzbank-Arena
DESCRIPTION:Eintracht Frankfurt v Werder Bremen - Commerzbank-Arena - Germ
 an Bundesliga
STATUS:CONFIRMED
END:VEVENT
BEGIN:VEVENT
UID:2de3577450396cb1496131f014ebbbf3@skysports.com
SEQUENCE:0
DTSTAMP:20260425T091008Z
DTSTART:20250830T133000Z
DTEND:20250830T153000Z
SUMMARY:Werder Bremen v Bayer Leverkusen
LOCATION:Weser-Stadion
DESCRIPTION:Werder Bremen v Bayer Leverkusen - Weser-Stadion - German Bund
 esliga
STATUS:CONFIRMED
END:VEVENT
BEGIN:VEVENT
UID:51a5cdc37cfed76c14ba1237e89cb2b8@skysports.com
SEQUENCE:0
DTSTAMP:20260425T091008Z
DTSTART:20250914T153000Z
DTEND:20250914T173000Z
SUMMARY:Mönchengladbach v Werder Bremen
LOCATION:BORUSSIA-PARK
DESCRIPTION:Mönchengladbach v Werder Bremen - BORUSSIA-PARK - German Bund
 esliga
STATUS:CONFIRMED
END:VEVENT
BEGIN:VEVENT
UID:ac1ce2b713457fd2c27056832f333a74@skysports.com
SEQUENCE:0
DTSTAMP:20260425T091008Z
DTSTART:20250920T133000Z
DTEND:20250920T153000Z
SUMMARY:Werder Bremen v SC Freiburg
LOCATION:Weser-Stadion
DESCRIPTION:Werder Bremen v SC Freiburg - Weser-Stadion - German Bundeslig
 a
STATUS:CONFIRMED
END:VEVENT
BEGIN:VEVENT
UID:1eb8f1d2b0c71e083d587e18bc9ed1b5@skysports.com
SEQUENCE:0
DTSTAMP:20260425T091008Z
DTSTART:20250926T183000Z
DTEND:20250926T203000Z
SUMMARY:Bayern Munich v Werder Bremen
LOCATION:Allianz Arena
DESCRIPTION:Bayern Munich v Werder Bremen - Allianz Arena - German Bundesl
 iga
STATUS:CONFIRMED
END:VEVENT
BEGIN:VEVENT
UID:a209dd268883566136f572f93ae6f7c9@skysports.com
SEQUENCE:0
DTSTAMP:20260425T091008Z
DTSTART:20251004T133000Z
DTEND:20251004T153000Z
SUMMARY:Werder Bremen v St Pauli
LOCATION:Weser-Stadion
DESCRIPTION:Werder Bremen v St Pauli - Weser-Stadion - German Bundesliga
STATUS:CONFIRMED
END:VEVENT
BEGIN:VEVENT
UID:319768f90c7cb6b566d563eebb6a249b@skysports.com
SEQUENCE:0
DTSTAMP:20260425T091008Z
DTSTART:20251018T133000Z
DTEND:20251018T153000Z
SUMMARY:1. FC Heidenheim 1846 v Werder Bremen
LOCATION:Voith-Arena
DESCRIPTION:1. FC Heidenheim 1846 v Werder Bremen - Voith-Arena - German B
 undesliga
STATUS:CONFIRMED
END:VEVENT
BEGIN:VEVENT
UID:914e00f74ad5659587cee478cdfe0f8e@skysports.com
SEQUENCE:0
DTSTAMP:20260425T091008Z
DTSTART:20251024T183000Z
DTEND:20251024T203000Z
SUMMARY:Werder Bremen v 1. FC Union Berlin
LOCATION:Weser-Stadion
DESCRIPTION:Werder Bremen v 1. FC Union Berlin - Weser-Stadion - German Bu
 ndesliga
STATUS:CONFIRMED
END:VEVENT
BEGIN:VEVENT
UID:e9e13be0ec3f5ae2b5d91de232f3bf4e@skysports.com
SEQUENCE:0
DTSTAMP:20260425T091008Z
DTSTART:20251101T143000Z
DTEND:20251101T163000Z
SUMMARY:Mainz v Werder Bremen
LOCATION:Coface Arena
DESCRIPTION:Mainz v Werder Bremen - Coface Arena - German Bundesliga
STATUS:CONFIRMED
END:VEVENT
BEGIN:VEVENT
UID:f4fb66fb8aa3d051d23b7a36135c8cf8@skysports.com
SEQUENCE:0
DTSTAMP:20260425T091008Z
DTSTART:20251107T193000Z
DTEND:20251107T213000Z
SUMMARY:Werder Bremen v Wolfsburg
LOCATION:Weser-Stadion
DESCRIPTION:Werder Bremen v Wolfsburg - Weser-Stadion - German Bundesliga
STATUS:CONFIRMED
END:VEVENT
BEGIN:VEVENT
UID:a8dfbe50f8c606158c776a5620dfd518@skysports.com
SEQUENCE:0
DTSTAMP:20260425T091008Z
DTSTART:20251123T143000Z
DTEND:20251123T163000Z
SUMMARY:RB Leipzig v Werder Bremen
LOCATION:Leipzig Stadium
DESCRIPTION:RB Leipzig v Werder Bremen - Leipzig Stadium - German Bundesli
 ga
STATUS:CONFIRMED
END:VEVENT
BEGIN:VEVENT
UID:dc254ee3d2d4410630af87139d5b0274@skysports.com
SEQUENCE:0
DTSTAMP:20260425T091008Z
DTSTART:20251129T143000Z
DTEND:20251129T163000Z
SUMMARY:Werder Bremen v Cologne
LOCATION:Weser-Stadion
DESCRIPTION:Werder Bremen v Cologne - Weser-Stadion - German Bundesliga
STATUS:CONFIRMED
END:VEVENT
BEGIN:VEVENT
UID:d5442eece77888ab04f5f2ba72721f28@skysports.com
SEQUENCE:0
DTSTAMP:20260425T091008Z
DTSTART:20251207T143000Z
DTEND:20251207T163000Z
SUMMARY:Hamburg v Werder Bremen
LOCATION:Volksparkstadion
DESCRIPTION:Hamburg v Werder Bremen - Volksparkstadion - German Bundesliga
STATUS:CONFIRMED
END:VEVENT
BEGIN:VEVENT
UID:92e87f1a805967ab4742145f0fbc9bdb@skysports.com
SEQUENCE:0
DTSTAMP:20260425T091008Z
DTSTART:20251214T183000Z
DTEND:20251214T203000Z
SUMMARY:Werder Bremen v Stuttgart
LOCATION:Weser-Stadion
DESCRIPTION:Werder Bremen v Stuttgart - Weser-Stadion - German Bundesliga
STATUS:CONFIRMED
END:VEVENT
BEGIN:VEVENT
UID:5ba8bbcf3e7b48e01ec3d63c61abfe68@skysports.com
SEQUENCE:0
DTSTAMP:20260425T091008Z
DTSTART:20251220T143000Z
DTEND:20251220T163000Z
SUMMARY:FC Augsburg v Werder Bremen
LOCATION:SGL Arena
DESCRIPTION:FC Augsburg v Werder Bremen - SGL Arena - German Bundesliga
STATUS:CONFIRMED
END:VEVENT
BEGIN:VEVENT
UID:0c0d0a5e2e4a4901b4715acfd385d93a@skysports.com
SEQUENCE:0
DTSTAMP:20260425T091008Z
DTSTART:20260127T193000Z
DTEND:20260127T213000Z
SUMMARY:Werder Bremen v TSG Hoffenheim
LOCATION:Weser-Stadion
DESCRIPTION:Werder Bremen v TSG Hoffenheim - Weser-Stadion - German Bundes
 liga
STATUS:CONFIRMED
END:VEVENT
BEGIN:VEVENT
UID:bc762ff99aa8112d7f25c82190cc1d12@skysports.com
SEQUENCE:0
DTSTAMP:20260425T091008Z
DTSTART:20260113T193000Z
DTEND:20260113T213000Z
SUMMARY:Borussia Dortmund v Werder Bremen
LOCATION:Signal Iduna Park
DESCRIPTION:Borussia Dortmund v Werder Bremen - Signal Iduna Park - German
  Bundesliga - Live on Sky Sports+
STATUS:CONFIRMED
END:VEVENT
BEGIN:VEVENT
UID:98c7df6e76a719125b619355b28ec9a2@skysports.com
SEQUENCE:0
DTSTAMP:20260425T091008Z
DTSTART:20260116T193000Z
DTEND:20260116T213000Z
SUMMARY:Werder Bremen v Eintracht Frankfurt
LOCATION:Weser-Stadion
DESCRIPTION:Werder Bremen v Eintracht Frankfurt - Weser-Stadion - German B
 undesliga
STATUS:CONFIRMED
END:VEVENT
BEGIN:VEVENT
UID:addaa5f8c4bd537e885c2ba6307f139b@skysports.com
SEQUENCE:0
DTSTAMP:20260425T091008Z
DTSTART:20260124T143000Z
DTEND:20260124T163000Z
SUMMARY:Bayer Leverkusen v Werder Bremen
LOCATION:BayArena
DESCRIPTION:Bayer Leverkusen v Werder Bremen - BayArena - German Bundeslig
 a
STATUS:CONFIRMED
END:VEVENT
BEGIN:VEVENT
UID:6857f7737f27647d302f27f4192c26ec@skysports.com
SEQUENCE:0
DTSTAMP:20260425T091008Z
DTSTART:20260131T143000Z
DTEND:20260131T163000Z
SUMMARY:Werder Bremen v Mönchengladbach
LOCATION:Weser-Stadion
DESCRIPTION:Werder Bremen v Mönchengladbach - Weser-Stadion - German Bund
 esliga
STATUS:CONFIRMED
END:VEVENT
BEGIN:VEVENT
UID:e2103563507ef6f6f23e06cb7327acba@skysports.com
SEQUENCE:0
DTSTAMP:20260425T091008Z
DTSTART:20260207T143000Z
DTEND:20260207T163000Z
SUMMARY:SC Freiburg v Werder Bremen
LOCATION:Europa-Park Stadion
DESCRIPTION:SC Freiburg v Werder Bremen - Europa-Park Stadion - German Bun
 desliga
STATUS:CONFIRMED
END:VEVENT
BEGIN:VEVENT
UID:bc571fec711cecd88967f0653d7387ef@skysports.com
SEQUENCE:0
DTSTAMP:20260425T091008Z
DTSTART:20260214T143000Z
DTEND:20260214T163000Z
SUMMARY:Werder Bremen v Bayern Munich
LOCATION:Weser-Stadion
DESCRIPTION:Werder Bremen v Bayern Munich - Weser-Stadion - German Bundesl
 iga
STATUS:CONFIRMED
END:VEVENT
BEGIN:VEVENT
UID:b30450cd6cc84484e61a301768711660@skysports.com
SEQUENCE:0
DTSTAMP:20260425T091008Z
DTSTART:20260222T163000Z
DTEND:20260222T183000Z
SUMMARY:St Pauli v Werder Bremen
LOCATION:Millerntor-Stadion
DESCRIPTION:St Pauli v Werder Bremen - Millerntor-Stadion - German Bundesl
 iga
STATUS:CONFIRMED
END:VEVENT
BEGIN:VEVENT
UID:e9f9b6093ea925c37634b7e5a18d145f@skysports.com
SEQUENCE:0
DTSTAMP:20260425T091008Z
DTSTART:20260228T143000Z
DTEND:20260228T163000Z
SUMMARY:Werder Bremen v 1. FC Heidenheim 1846
LOCATION:Weser-Stadion
DESCRIPTION:Werder Bremen v 1. FC Heidenheim 1846 - Weser-Stadion - German
  Bundesliga
STATUS:CONFIRMED
END:VEVENT
BEGIN:VEVENT
UID:e79b5e49a97bbba403b9b79ae8b1e34d@skysports.com
SEQUENCE:0
DTSTAMP:20260425T091008Z
DTSTART:20260308T163000Z
DTEND:20260308T183000Z
SUMMARY:1. FC Union Berlin v Werder Bremen
LOCATION:An der Alten Forsterei
DESCRIPTION:1. FC Union Berlin v Werder Bremen - An der Alten Forsterei - 
 German Bundesliga
STATUS:CONFIRMED
END:VEVENT
BEGIN:VEVENT
UID:756bb8803effce9bfc6fe236c14289a6@skysports.com
SEQUENCE:0
DTSTAMP:20260425T091008Z
DTSTART:20260315T143000Z
DTEND:20260315T163000Z
SUMMARY:Werder Bremen v Mainz
LOCATION:Weser-Stadion
DESCRIPTION:Werder Bremen v Mainz - Weser-Stadion - German Bundesliga
STATUS:CONFIRMED
END:VEVENT
BEGIN:VEVENT
UID:3c6fdf3c0abfeee03cc57ea1e0b5ce37@skysports.com
SEQUENCE:0
DTSTAMP:20260425T091008Z
DTSTART:20260321T143000Z
DTEND:20260321T163000Z
SUMMARY:Wolfsburg v Werder Bremen
LOCATION:Volkswagen Arena
DESCRIPTION:Wolfsburg v Werder Bremen - Volkswagen Arena - German Bundesli
 ga
STATUS:CONFIRMED
END:VEVENT
BEGIN:VEVENT
UID:49d13cb030bfbe4adc48b8c0e2484c89@skysports.com
SEQUENCE:0
DTSTAMP:20260425T091008Z
DTSTART:20260404T133000Z
DTEND:20260404T153000Z
SUMMARY:Werder Bremen v RB Leipzig
LOCATION:Weser-Stadion
DESCRIPTION:Werder Bremen v RB Leipzig - Weser-Stadion - German Bundesliga
STATUS:CONFIRMED
END:VEVENT
BEGIN:VEVENT
UID:5c831a68071588704fd6152c72de3b8b@skysports.com
SEQUENCE:0
DTSTAMP:20260425T091008Z
DTSTART:20260412T133000Z
DTEND:20260412T153000Z
SUMMARY:Cologne v Werder Bremen
LOCATION:RheinEnergieStadion
DESCRIPTION:Cologne v Werder Bremen - RheinEnergieStadion - German Bundesl
 iga
STATUS:CONFIRMED
END:VEVENT
BEGIN:VEVENT
UID:ee0bcba4d05f6c14e6e7c6514ce2b59a@skysports.com
SEQUENCE:0
DTSTAMP:20260425T091008Z
DTSTART:20260418T133000Z
DTEND:20260418T153000Z
SUMMARY:Werder Bremen v Hamburg
LOCATION:Weser-Stadion
DESCRIPTION:Werder Bremen v Hamburg - Weser-Stadion - German Bundesliga
STATUS:CONFIRMED
END:VEVENT
BEGIN:VEVENT
UID:2cd1792dbce486ee7038bab1190e425b@skysports.com
SEQUENCE:0
DTSTAMP:20260425T091008Z
DTSTART:20260426T133000Z
DTEND:20260426T153000Z
SUMMARY:Stuttgart v Werder Bremen
LOCATION:MHP Arena
DESCRIPTION:Stuttgart v Werder Bremen - MHP Arena - German Bundesliga
STATUS:CONFIRMED
END:VEVENT
BEGIN:VEVENT
UID:458a6b8510e2587d9841a70fb6e3c7f5@skysports.com
SEQUENCE:0
DTSTAMP:20260425T091008Z
DTSTART:20260502T133000Z
DTEND:20260502T153000Z
SUMMARY:Werder Bremen v FC Augsburg
LOCATION:Weser-Stadion
DESCRIPTION:Werder Bremen v FC Augsburg - Weser-Stadion - German Bundeslig
 a
STATUS:CONFIRMED
END:VEVENT
BEGIN:VEVENT
UID:c21335e079b1fe0c23f019651a0e6a6b@skysports.com
SEQUENCE:0
DTSTAMP:20260425T091008Z
DTSTART:20260509T133000Z
DTEND:20260509T153000Z
SUMMARY:TSG Hoffenheim v Werder Bremen
LOCATION:PreZero Arena
DESCRIPTION:TSG Hoffenheim v Werder Bremen - PreZero Arena - German Bundes
 liga
STATUS:CONFIRMED
END:VEVENT
BEGIN:VEVENT
UID:3f5a26bae143b3c6fec9c7edeec24899@skysports.com
SEQUENCE:0
DTSTAMP:20260425T091008Z
DTSTART:20260516T133000Z
DTEND:20260516T153000Z
SUMMARY:Werder Bremen v Borussia Dortmund
LOCATION:Weser-Stadion
DESCRIPTION:Werder Bremen v Borussia Dortmund - Weser-Stadion - German Bun
 desliga
STATUS:CONFIRMED
END:VEVENT
END:VCALENDAR