BEGIN:VCALENDAR
VERSION:2.0
PRODID:-//Sky Sports SSDM//NONSGML Event Calendar//EN
URL:https://www.skysports.com/calendars/football/fixtures/teams/wolverhamp
 ton-wanderers
CALSCALE:GREGORIAN
METHOD:PUBLISH
NAME:Wolverhampton Wanderers Fixtures
X-WR-CALNAME:Wolverhampton Wanderers Fixtures
X-WR-CALDESC:Wolverhampton Wanderers fixtures provided by Sky Sports (http
 s://www.skysports.com)
REFRESH-INTERVAL;VALUE=DURATION:PT1H
X-PUBLISHED-TTL:PT1H
BEGIN:VEVENT
UID:67c1be58966603cb0b8de9cfb4e0be0f@skysports.com
SEQUENCE:0
DTSTAMP:20260425T090104Z
DTSTART:20250816T163000Z
DTEND:20250816T183000Z
SUMMARY:Wolverhampton Wanderers v Manchester City
LOCATION:Molineux
DESCRIPTION:Wolverhampton Wanderers v Manchester City - Molineux - Premier
  League - Live on Sky Sports Premier League and Sky Sports Main Event
STATUS:CONFIRMED
END:VEVENT
BEGIN:VEVENT
UID:517ed6692f78e43237ffcd40208ea536@skysports.com
SEQUENCE:0
DTSTAMP:20260425T090104Z
DTSTART:20250823T140000Z
DTEND:20250823T160000Z
SUMMARY:Bournemouth v Wolverhampton Wanderers
LOCATION:Vitality Stadium
DESCRIPTION:Bournemouth v Wolverhampton Wanderers - Vitality Stadium - Pre
 mier League
STATUS:CONFIRMED
END:VEVENT
BEGIN:VEVENT
UID:d86642a65e798fa7cf4915192d1237c8@skysports.com
SEQUENCE:0
DTSTAMP:20260425T090104Z
DTSTART:20250830T140000Z
DTEND:20250830T160000Z
SUMMARY:Wolverhampton Wanderers v Everton
LOCATION:Molineux
DESCRIPTION:Wolverhampton Wanderers v Everton - Molineux - Premier League
STATUS:CONFIRMED
END:VEVENT
BEGIN:VEVENT
UID:72b9cf85f93bf91328d027b34d65be74@skysports.com
SEQUENCE:0
DTSTAMP:20260425T090104Z
DTSTART:20250913T140000Z
DTEND:20250913T160000Z
SUMMARY:Newcastle United v Wolverhampton Wanderers
LOCATION:St James' Park\, Newcastle
DESCRIPTION:Newcastle United v Wolverhampton Wanderers - St James' Park\, 
 Newcastle - Premier League
STATUS:CONFIRMED
END:VEVENT
BEGIN:VEVENT
UID:2bcf10635eb1388c0ac694373644ba5f@skysports.com
SEQUENCE:0
DTSTAMP:20260425T090104Z
DTSTART:20250920T140000Z
DTEND:20250920T160000Z
SUMMARY:Wolverhampton Wanderers v Leeds United
LOCATION:Molineux
DESCRIPTION:Wolverhampton Wanderers v Leeds United - Molineux - Premier Le
 ague
STATUS:CONFIRMED
END:VEVENT
BEGIN:VEVENT
UID:83e8dd9a615297f71215ca8766e50b52@skysports.com
SEQUENCE:0
DTSTAMP:20260425T090104Z
DTSTART:20250927T190000Z
DTEND:20250927T210000Z
SUMMARY:Tottenham Hotspur v Wolverhampton Wanderers
LOCATION:Tottenham Hotspur Stadium
DESCRIPTION:Tottenham Hotspur v Wolverhampton Wanderers - Tottenham Hotspu
 r Stadium - Premier League - Live on Sky Sports Premier League
STATUS:CONFIRMED
END:VEVENT
BEGIN:VEVENT
UID:ddb2b2d2f903db2193ff8754bcc95c4e@skysports.com
SEQUENCE:0
DTSTAMP:20260425T090104Z
DTSTART:20251005T130000Z
DTEND:20251005T150000Z
SUMMARY:Wolverhampton Wanderers v Brighton and Hove Albion
LOCATION:Molineux
DESCRIPTION:Wolverhampton Wanderers v Brighton and Hove Albion - Molineux 
 - Premier League - Live on Sky Sports Mix
STATUS:CONFIRMED
END:VEVENT
BEGIN:VEVENT
UID:cd7383260514098e0c51af559de4d7b2@skysports.com
SEQUENCE:0
DTSTAMP:20260425T090104Z
DTSTART:20251018T140000Z
DTEND:20251018T160000Z
SUMMARY:Sunderland v Wolverhampton Wanderers
LOCATION:Stadium of Light
DESCRIPTION:Sunderland v Wolverhampton Wanderers - Stadium of Light - Prem
 ier League
STATUS:CONFIRMED
END:VEVENT
BEGIN:VEVENT
UID:d21ccf1917ca869ee0b709df0f8b5784@skysports.com
SEQUENCE:0
DTSTAMP:20260425T090104Z
DTSTART:20251026T140000Z
DTEND:20251026T160000Z
SUMMARY:Wolverhampton Wanderers v Burnley
LOCATION:Molineux
DESCRIPTION:Wolverhampton Wanderers v Burnley - Molineux - Premier League 
 - Live on Sky Sports F1
STATUS:CONFIRMED
END:VEVENT
BEGIN:VEVENT
UID:e2cf864771a7fa658a9290d82a461a4e@skysports.com
SEQUENCE:0
DTSTAMP:20260425T090104Z
DTSTART:20251101T150000Z
DTEND:20251101T170000Z
SUMMARY:Fulham v Wolverhampton Wanderers
LOCATION:Craven Cottage
DESCRIPTION:Fulham v Wolverhampton Wanderers - Craven Cottage - Premier Le
 ague
STATUS:CONFIRMED
END:VEVENT
BEGIN:VEVENT
UID:ff0734a091b39e88d1fe3baf8e88b64a@skysports.com
SEQUENCE:0
DTSTAMP:20260425T090104Z
DTSTART:20251108T200000Z
DTEND:20251108T220000Z
SUMMARY:Chelsea v Wolverhampton Wanderers
LOCATION:Stamford Bridge
DESCRIPTION:Chelsea v Wolverhampton Wanderers - Stamford Bridge - Premier 
 League - Live on Sky Sports Premier League and Sky Sports Main Event
STATUS:CONFIRMED
END:VEVENT
BEGIN:VEVENT
UID:0bceb22c67b66ce864d58e615bbfa4f2@skysports.com
SEQUENCE:0
DTSTAMP:20260425T090104Z
DTSTART:20251122T150000Z
DTEND:20251122T170000Z
SUMMARY:Wolverhampton Wanderers v Crystal Palace
LOCATION:Molineux
DESCRIPTION:Wolverhampton Wanderers v Crystal Palace - Molineux - Premier 
 League
STATUS:CONFIRMED
END:VEVENT
BEGIN:VEVENT
UID:a6914e821b67f144a2ceba8bfc019f3c@skysports.com
SEQUENCE:0
DTSTAMP:20260425T090104Z
DTSTART:20251130T140500Z
DTEND:20251130T160500Z
SUMMARY:Aston Villa v Wolverhampton Wanderers
LOCATION:Villa Park
DESCRIPTION:Aston Villa v Wolverhampton Wanderers - Villa Park - Premier L
 eague - Live on Sky Sports Premier League
STATUS:CONFIRMED
END:VEVENT
BEGIN:VEVENT
UID:d0ebc131eb734b46b64a0e7e33b67daa@skysports.com
SEQUENCE:0
DTSTAMP:20260425T090104Z
DTSTART:20251203T193000Z
DTEND:20251203T213000Z
SUMMARY:Wolverhampton Wanderers v Nottingham Forest
LOCATION:Molineux
DESCRIPTION:Wolverhampton Wanderers v Nottingham Forest - Molineux - Premi
 er League - Live on Sky Sports F1
STATUS:CONFIRMED
END:VEVENT
BEGIN:VEVENT
UID:67d6a0c38c78ae247dc7c4f4c10f378b@skysports.com
SEQUENCE:0
DTSTAMP:20260425T090104Z
DTSTART:20251208T200000Z
DTEND:20251208T220000Z
SUMMARY:Wolverhampton Wanderers v Manchester United
LOCATION:Molineux
DESCRIPTION:Wolverhampton Wanderers v Manchester United - Molineux - Premi
 er League - Live on Sky Sports Main Event and Sky Sports Premier League
STATUS:CONFIRMED
END:VEVENT
BEGIN:VEVENT
UID:36c32cd3877d7964c12e455327377a21@skysports.com
SEQUENCE:0
DTSTAMP:20260425T090104Z
DTSTART:20251213T200000Z
DTEND:20251213T220000Z
SUMMARY:Arsenal v Wolverhampton Wanderers
LOCATION:Emirates Stadium
DESCRIPTION:Arsenal v Wolverhampton Wanderers - Emirates Stadium - Premier
  League
STATUS:CONFIRMED
END:VEVENT
BEGIN:VEVENT
UID:a5d04462a90ad2ecadb7cb8095b2f6fb@skysports.com
SEQUENCE:0
DTSTAMP:20260425T090104Z
DTSTART:20251220T150000Z
DTEND:20251220T170000Z
SUMMARY:Wolverhampton Wanderers v Brentford
LOCATION:Molineux
DESCRIPTION:Wolverhampton Wanderers v Brentford - Molineux - Premier Leagu
 e
STATUS:CONFIRMED
END:VEVENT
BEGIN:VEVENT
UID:f8607253c7753b5a0921e7918120fc1b@skysports.com
SEQUENCE:0
DTSTAMP:20260425T090104Z
DTSTART:20251227T150000Z
DTEND:20251227T170000Z
SUMMARY:Liverpool v Wolverhampton Wanderers
LOCATION:Anfield
DESCRIPTION:Liverpool v Wolverhampton Wanderers - Anfield - Premier League
STATUS:CONFIRMED
END:VEVENT
BEGIN:VEVENT
UID:509661ea3d9b6296ae64baf7cc014075@skysports.com
SEQUENCE:0
DTSTAMP:20260425T090104Z
DTSTART:20251230T201500Z
DTEND:20251230T221500Z
SUMMARY:Manchester United v Wolverhampton Wanderers
LOCATION:Old Trafford
DESCRIPTION:Manchester United v Wolverhampton Wanderers - Old Trafford - P
 remier League - Live on Sky Sports Football
STATUS:CONFIRMED
END:VEVENT
BEGIN:VEVENT
UID:298648065979b35201b6fbfe95b980cf@skysports.com
SEQUENCE:0
DTSTAMP:20260425T090104Z
DTSTART:20260103T150000Z
DTEND:20260103T170000Z
SUMMARY:Wolverhampton Wanderers v West Ham United
LOCATION:Molineux
DESCRIPTION:Wolverhampton Wanderers v West Ham United - Molineux - Premier
  League
STATUS:CONFIRMED
END:VEVENT
BEGIN:VEVENT
UID:24e7f94d783b30843260c9edf25bf02c@skysports.com
SEQUENCE:0
DTSTAMP:20260425T090104Z
DTSTART:20260107T193000Z
DTEND:20260107T213000Z
SUMMARY:Everton v Wolverhampton Wanderers
LOCATION:Hill Dickinson Stadium
DESCRIPTION:Everton v Wolverhampton Wanderers - Hill Dickinson Stadium - P
 remier League - Live on Sky Sports F1
STATUS:CONFIRMED
END:VEVENT
BEGIN:VEVENT
UID:9d75c9b58296538b96b39501e837e223@skysports.com
SEQUENCE:0
DTSTAMP:20260425T090104Z
DTSTART:20260118T140000Z
DTEND:20260118T160000Z
SUMMARY:Wolverhampton Wanderers v Newcastle United
LOCATION:Molineux
DESCRIPTION:Wolverhampton Wanderers v Newcastle United - Molineux - Premie
 r League - Live on Sky Sports Premier League and Sky Sports Main Event
STATUS:CONFIRMED
END:VEVENT
BEGIN:VEVENT
UID:fd97eda5e01b307c4acc88992a8eac76@skysports.com
SEQUENCE:0
DTSTAMP:20260425T090104Z
DTSTART:20260124T150000Z
DTEND:20260124T170000Z
SUMMARY:Manchester City v Wolverhampton Wanderers
LOCATION:Etihad Stadium
DESCRIPTION:Manchester City v Wolverhampton Wanderers - Etihad Stadium - P
 remier League
STATUS:CONFIRMED
END:VEVENT
BEGIN:VEVENT
UID:46141a8e762c8f8cb38b60e0d87ff263@skysports.com
SEQUENCE:0
DTSTAMP:20260425T090104Z
DTSTART:20260131T150000Z
DTEND:20260131T170000Z
SUMMARY:Wolverhampton Wanderers v Bournemouth
LOCATION:Molineux
DESCRIPTION:Wolverhampton Wanderers v Bournemouth - Molineux - Premier Lea
 gue
STATUS:CONFIRMED
END:VEVENT
BEGIN:VEVENT
UID:b8ed6719ab425210ae169eea9fda587f@skysports.com
SEQUENCE:0
DTSTAMP:20260425T090104Z
DTSTART:20260207T150000Z
DTEND:20260207T170000Z
SUMMARY:Wolverhampton Wanderers v Chelsea
LOCATION:Molineux
DESCRIPTION:Wolverhampton Wanderers v Chelsea - Molineux - Premier League
STATUS:CONFIRMED
END:VEVENT
BEGIN:VEVENT
UID:35a40d4491888309d4a9d128bd0a2211@skysports.com
SEQUENCE:0
DTSTAMP:20260425T090104Z
DTSTART:20260211T193000Z
DTEND:20260211T213000Z
SUMMARY:Nottingham Forest v Wolverhampton Wanderers
LOCATION:The City Ground
DESCRIPTION:Nottingham Forest v Wolverhampton Wanderers - The City Ground 
 - Premier League
STATUS:CONFIRMED
END:VEVENT
BEGIN:VEVENT
UID:2b4ebd289d7f9309db3e49687d05dded@skysports.com
SEQUENCE:0
DTSTAMP:20260425T090104Z
DTSTART:20260222T140000Z
DTEND:20260222T160000Z
SUMMARY:Crystal Palace v Wolverhampton Wanderers
LOCATION:Selhurst Park
DESCRIPTION:Crystal Palace v Wolverhampton Wanderers - Selhurst Park - Pre
 mier League - Live on Sky Sports+
STATUS:CONFIRMED
END:VEVENT
BEGIN:VEVENT
UID:2332510c22c99c2beb8c578cefc57739@skysports.com
SEQUENCE:0
DTSTAMP:20260425T090104Z
DTSTART:20260227T200000Z
DTEND:20260227T220000Z
SUMMARY:Wolverhampton Wanderers v Aston Villa
LOCATION:Molineux
DESCRIPTION:Wolverhampton Wanderers v Aston Villa - Molineux - Premier Lea
 gue - Live on Sky Sports Main Event and Sky Sports Premier League
STATUS:CONFIRMED
END:VEVENT
BEGIN:VEVENT
UID:83c17f35d9c710f01a89648ebc272759@skysports.com
SEQUENCE:0
DTSTAMP:20260425T090104Z
DTSTART:20260303T201500Z
DTEND:20260303T221500Z
SUMMARY:Wolverhampton Wanderers v Liverpool
LOCATION:Molineux
DESCRIPTION:Wolverhampton Wanderers v Liverpool - Molineux - Premier Leagu
 e
STATUS:CONFIRMED
END:VEVENT
BEGIN:VEVENT
UID:e5535f68d94791ad1ee13ddaf3168c62@skysports.com
SEQUENCE:0
DTSTAMP:20260425T090104Z
DTSTART:20260316T200000Z
DTEND:20260316T220000Z
SUMMARY:Brentford v Wolverhampton Wanderers
LOCATION:Gtech Community Stadium
DESCRIPTION:Brentford v Wolverhampton Wanderers - Gtech Community Stadium 
 - Premier League - Live on Sky Sports Main Event and Sky Sports Premier Le
 ague
STATUS:CONFIRMED
END:VEVENT
BEGIN:VEVENT
UID:82ebc4ff5eece38f41431dabbab0938d@skysports.com
SEQUENCE:0
DTSTAMP:20260425T090104Z
DTSTART:20260218T200000Z
DTEND:20260218T220000Z
SUMMARY:Wolverhampton Wanderers v Arsenal
LOCATION:Molineux
DESCRIPTION:Wolverhampton Wanderers v Arsenal - Molineux - Premier League 
 - Live on Sky Sports Main Event HD
STATUS:CONFIRMED
END:VEVENT
BEGIN:VEVENT
UID:cdd6d25539dd9721b4a586b98c173bc1@skysports.com
SEQUENCE:0
DTSTAMP:20260425T090104Z
DTSTART:20260410T190000Z
DTEND:20260410T210000Z
SUMMARY:West Ham United v Wolverhampton Wanderers
LOCATION:London Stadium
DESCRIPTION:West Ham United v Wolverhampton Wanderers - London Stadium - P
 remier League - Live on Sky Sports Premier League and Sky Sports Main Even
 t
STATUS:CONFIRMED
END:VEVENT
BEGIN:VEVENT
UID:0f1aa1ba15d082347fad8ac91a349395@skysports.com
SEQUENCE:0
DTSTAMP:20260425T090104Z
DTSTART:20260418T140000Z
DTEND:20260418T160000Z
SUMMARY:Leeds United v Wolverhampton Wanderers
LOCATION:Elland Road
DESCRIPTION:Leeds United v Wolverhampton Wanderers - Elland Road - Premier
  League
STATUS:CONFIRMED
END:VEVENT
BEGIN:VEVENT
UID:90cf7048817af6176af465c89f23fe4d@skysports.com
SEQUENCE:0
DTSTAMP:20260425T090104Z
DTSTART:20260425T140000Z
DTEND:20260425T160000Z
SUMMARY:Wolverhampton Wanderers v Tottenham Hotspur
LOCATION:Molineux
DESCRIPTION:Wolverhampton Wanderers v Tottenham Hotspur - Molineux - Premi
 er League
STATUS:CONFIRMED
END:VEVENT
BEGIN:VEVENT
UID:f0dc94c6aee9642be7121ced82c93e27@skysports.com
SEQUENCE:0
DTSTAMP:20260425T090104Z
DTSTART:20260502T140000Z
DTEND:20260502T160000Z
SUMMARY:Wolverhampton Wanderers v Sunderland
LOCATION:Molineux
DESCRIPTION:Wolverhampton Wanderers v Sunderland - Molineux - Premier Leag
 ue
STATUS:CONFIRMED
END:VEVENT
BEGIN:VEVENT
UID:a612ac0a7b08b2019461a2a7872d20ad@skysports.com
SEQUENCE:0
DTSTAMP:20260425T090104Z
DTSTART:20260509T140000Z
DTEND:20260509T160000Z
SUMMARY:Brighton and Hove Albion v Wolverhampton Wanderers
LOCATION:Amex Stadium
DESCRIPTION:Brighton and Hove Albion v Wolverhampton Wanderers - Amex Stad
 ium - Premier League
STATUS:CONFIRMED
END:VEVENT
BEGIN:VEVENT
UID:0eab5f5209d96f72dfa85c65c9d26c16@skysports.com
SEQUENCE:0
DTSTAMP:20260425T090104Z
DTSTART:20260517T140000Z
DTEND:20260517T160000Z
SUMMARY:Wolverhampton Wanderers v Fulham
LOCATION:Molineux
DESCRIPTION:Wolverhampton Wanderers v Fulham - Molineux - Premier League
STATUS:CONFIRMED
END:VEVENT
BEGIN:VEVENT
UID:8bc9db1b0928c046e115c8e645d89047@skysports.com
SEQUENCE:0
DTSTAMP:20260425T090104Z
DTSTART:20260524T150000Z
DTEND:20260524T170000Z
SUMMARY:Burnley v Wolverhampton Wanderers
LOCATION:Turf Moor
DESCRIPTION:Burnley v Wolverhampton Wanderers - Turf Moor - Premier League
STATUS:CONFIRMED
END:VEVENT
BEGIN:VEVENT
UID:1bbfed07a39b0bbb565502b40a59cfeb@skysports.com
SEQUENCE:0
DTSTAMP:20260425T090104Z
DTSTART:20250826T183000Z
DTEND:20250826T203000Z
SUMMARY:Wolverhampton Wanderers v West Ham United
LOCATION:Molineux
DESCRIPTION:Wolverhampton Wanderers v West Ham United - Molineux - Carabao
  Cup - Live on Sky Sports+
STATUS:CONFIRMED
END:VEVENT
BEGIN:VEVENT
UID:0510d0705ae45fac214cb531e5970684@skysports.com
SEQUENCE:0
DTSTAMP:20260425T090104Z
DTSTART:20250923T184500Z
DTEND:20250923T204500Z
SUMMARY:Wolverhampton Wanderers v Everton
LOCATION:Molineux
DESCRIPTION:Wolverhampton Wanderers v Everton - Molineux - Carabao Cup - L
 ive on Sky Sports+
STATUS:CONFIRMED
END:VEVENT
BEGIN:VEVENT
UID:cb68ce3d2e06bdc611d54f6c669e51fb@skysports.com
SEQUENCE:0
DTSTAMP:20260425T090104Z
DTSTART:20251029T194500Z
DTEND:20251029T214500Z
SUMMARY:Wolverhampton Wanderers v Chelsea
LOCATION:Molineux
DESCRIPTION:Wolverhampton Wanderers v Chelsea - Molineux - Carabao Cup - L
 ive on Sky Sports+
STATUS:CONFIRMED
END:VEVENT
BEGIN:VEVENT
UID:921d47c8edd40209da328fb7b7fde7bb@skysports.com
SEQUENCE:0
DTSTAMP:20260425T090104Z
DTSTART:20260110T121500Z
DTEND:20260110T141500Z
SUMMARY:Wolverhampton Wanderers v Shrewsbury Town
LOCATION:Molineux
DESCRIPTION:Wolverhampton Wanderers v Shrewsbury Town - Molineux - The FA 
 Cup
STATUS:CONFIRMED
END:VEVENT
BEGIN:VEVENT
UID:f54882e8b2d6ee031754a0e47e143c33@skysports.com
SEQUENCE:0
DTSTAMP:20260425T090104Z
DTSTART:20260215T133000Z
DTEND:20260215T153000Z
SUMMARY:Grimsby Town v Wolverhampton Wanderers
LOCATION:Blundell Park
DESCRIPTION:Grimsby Town v Wolverhampton Wanderers - Blundell Park - The F
 A Cup
STATUS:CONFIRMED
END:VEVENT
BEGIN:VEVENT
UID:b7fe53ef8598dc66f0353adbd48179df@skysports.com
SEQUENCE:0
DTSTAMP:20260425T090104Z
DTSTART:20260306T200000Z
DTEND:20260306T220000Z
SUMMARY:Wolverhampton Wanderers v Liverpool
LOCATION:Molineux
DESCRIPTION:Wolverhampton Wanderers v Liverpool - Molineux - The FA Cup
STATUS:CONFIRMED
END:VEVENT
END:VCALENDAR