BEGIN:VCALENDAR
VERSION:2.0
PRODID:-//Sky Sports SSDM//NONSGML Event Calendar//EN
URL:https://www.skysports.com/calendars/football/fixtures/teams/wycombe-wa
 nderers
CALSCALE:GREGORIAN
METHOD:PUBLISH
NAME:Wycombe Wanderers Fixtures
X-WR-CALNAME:Wycombe Wanderers Fixtures
X-WR-CALDESC:Wycombe Wanderers fixtures provided by Sky Sports (https://ww
 w.skysports.com)
REFRESH-INTERVAL;VALUE=DURATION:PT1H
X-PUBLISHED-TTL:PT1H
BEGIN:VEVENT
UID:8613cbdc93f28f804884929873e02410@skysports.com
SEQUENCE:0
DTSTAMP:20260425T090409Z
DTSTART:20250802T140000Z
DTEND:20250802T160000Z
SUMMARY:Bradford City v Wycombe Wanderers
LOCATION:University of Bradford Stadium
DESCRIPTION:Bradford City v Wycombe Wanderers - University of Bradford Sta
 dium - Sky Bet League One - Live on Sky Sports+
STATUS:CONFIRMED
END:VEVENT
BEGIN:VEVENT
UID:5100db9956b0bc9409191274b519b61f@skysports.com
SEQUENCE:0
DTSTAMP:20260425T090409Z
DTSTART:20250809T140000Z
DTEND:20250809T160000Z
SUMMARY:Wycombe Wanderers v Stockport County
LOCATION:Adams Park
DESCRIPTION:Wycombe Wanderers v Stockport County - Adams Park - Sky Bet Le
 ague One
STATUS:CONFIRMED
END:VEVENT
BEGIN:VEVENT
UID:d46a65e5eaba2d216567e67dfe4a9d67@skysports.com
SEQUENCE:0
DTSTAMP:20260425T090409Z
DTSTART:20250816T140000Z
DTEND:20250816T160000Z
SUMMARY:Doncaster Rovers v Wycombe Wanderers
LOCATION:Eco-Power Stadium
DESCRIPTION:Doncaster Rovers v Wycombe Wanderers - Eco-Power Stadium - Sky
  Bet League One
STATUS:CONFIRMED
END:VEVENT
BEGIN:VEVENT
UID:7cd13dd3026de1e781632c7d81886a5d@skysports.com
SEQUENCE:0
DTSTAMP:20260425T090409Z
DTSTART:20250819T184500Z
DTEND:20250819T204500Z
SUMMARY:Wycombe Wanderers v Exeter City
LOCATION:Adams Park
DESCRIPTION:Wycombe Wanderers v Exeter City - Adams Park - Sky Bet League 
 One - Live on Sky Sports+
STATUS:CONFIRMED
END:VEVENT
BEGIN:VEVENT
UID:31add39bf64b5ffeb0dbf2a1e0749f6d@skysports.com
SEQUENCE:0
DTSTAMP:20260425T090409Z
DTSTART:20250823T140000Z
DTEND:20250823T160000Z
SUMMARY:Wycombe Wanderers v Reading
LOCATION:Adams Park
DESCRIPTION:Wycombe Wanderers v Reading - Adams Park - Sky Bet League One
STATUS:CONFIRMED
END:VEVENT
BEGIN:VEVENT
UID:e5e21f4ef5f57012feb6db2fe33f9a5b@skysports.com
SEQUENCE:0
DTSTAMP:20260425T090409Z
DTSTART:20250830T140000Z
DTEND:20250830T160000Z
SUMMARY:Stevenage v Wycombe Wanderers
LOCATION:Lamex Stadium
DESCRIPTION:Stevenage v Wycombe Wanderers - Lamex Stadium - Sky Bet League
  One
STATUS:CONFIRMED
END:VEVENT
BEGIN:VEVENT
UID:f6eee6dd3b7d0773438e7bc225466194@skysports.com
SEQUENCE:0
DTSTAMP:20260425T090409Z
DTSTART:20250906T140000Z
DTEND:20250906T160000Z
SUMMARY:Wycombe Wanderers v Mansfield Town
LOCATION:Adams Park
DESCRIPTION:Wycombe Wanderers v Mansfield Town - Adams Park - Sky Bet Leag
 ue One - Live on Sky Sports+
STATUS:CONFIRMED
END:VEVENT
BEGIN:VEVENT
UID:93be825ddf68fd751150a1db8b465a4e@skysports.com
SEQUENCE:0
DTSTAMP:20260425T090409Z
DTSTART:20250913T140000Z
DTEND:20250913T160000Z
SUMMARY:Peterborough United v Wycombe Wanderers
LOCATION:Weston Homes Stadium
DESCRIPTION:Peterborough United v Wycombe Wanderers - Weston Homes Stadium
  - Sky Bet League One
STATUS:CONFIRMED
END:VEVENT
BEGIN:VEVENT
UID:6982982f5e45f7e50674c137a248aa83@skysports.com
SEQUENCE:0
DTSTAMP:20260425T090409Z
DTSTART:20250920T140000Z
DTEND:20250920T160000Z
SUMMARY:Wycombe Wanderers v Northampton Town
LOCATION:Adams Park
DESCRIPTION:Wycombe Wanderers v Northampton Town - Adams Park - Sky Bet Le
 ague One
STATUS:CONFIRMED
END:VEVENT
BEGIN:VEVENT
UID:b0661f26dfaadb9538aadaaf31ee38f4@skysports.com
SEQUENCE:0
DTSTAMP:20260425T090409Z
DTSTART:20250927T113000Z
DTEND:20250927T133000Z
SUMMARY:AFC Wimbledon v Wycombe Wanderers
LOCATION:The Cherry Red Records Stadium
DESCRIPTION:AFC Wimbledon v Wycombe Wanderers - The Cherry Red Records Sta
 dium - Sky Bet League One - Live on Sky Sports+
STATUS:CONFIRMED
END:VEVENT
BEGIN:VEVENT
UID:98649d2a27328360cc1e38398bb707c2@skysports.com
SEQUENCE:0
DTSTAMP:20260425T090409Z
DTSTART:20251004T113000Z
DTEND:20251004T133000Z
SUMMARY:Wycombe Wanderers v Barnsley
LOCATION:Adams Park
DESCRIPTION:Wycombe Wanderers v Barnsley - Adams Park - Sky Bet League One
  - Live on Sky Sports+
STATUS:CONFIRMED
END:VEVENT
BEGIN:VEVENT
UID:a6bd8f396909cb1bbd91c5861587d7cb@skysports.com
SEQUENCE:0
DTSTAMP:20260425T090409Z
DTSTART:20251011T140000Z
DTEND:20251011T160000Z
SUMMARY:Wigan Athletic v Wycombe Wanderers
LOCATION:DW Stadium
DESCRIPTION:Wigan Athletic v Wycombe Wanderers - DW Stadium - Sky Bet Leag
 ue One - Live on Sky Sports+
STATUS:CONFIRMED
END:VEVENT
BEGIN:VEVENT
UID:7f425f92ef2bad35f3fc57415e56b232@skysports.com
SEQUENCE:0
DTSTAMP:20260425T090409Z
DTSTART:20251018T140000Z
DTEND:20251018T160000Z
SUMMARY:Blackpool v Wycombe Wanderers
LOCATION:Bloomfield Road
DESCRIPTION:Blackpool v Wycombe Wanderers - Bloomfield Road - Sky Bet Leag
 ue One
STATUS:CONFIRMED
END:VEVENT
BEGIN:VEVENT
UID:9bcf8d7ca88634cd53c0453839b672bf@skysports.com
SEQUENCE:0
DTSTAMP:20260425T090409Z
DTSTART:20251025T140000Z
DTEND:20251025T160000Z
SUMMARY:Wycombe Wanderers v Huddersfield Town
LOCATION:Adams Park
DESCRIPTION:Wycombe Wanderers v Huddersfield Town - Adams Park - Sky Bet L
 eague One
STATUS:CONFIRMED
END:VEVENT
BEGIN:VEVENT
UID:8ca7e963e2f6d858e502750637dcdbc9@skysports.com
SEQUENCE:0
DTSTAMP:20260425T090409Z
DTSTART:20251108T123000Z
DTEND:20251108T143000Z
SUMMARY:Wycombe Wanderers v Leyton Orient
LOCATION:Adams Park
DESCRIPTION:Wycombe Wanderers v Leyton Orient - Adams Park - Sky Bet Leagu
 e One - Live on Sky Sports+
STATUS:CONFIRMED
END:VEVENT
BEGIN:VEVENT
UID:022cd0a0ecf669642f2d2c20884a8939@skysports.com
SEQUENCE:0
DTSTAMP:20260425T090409Z
DTSTART:20251115T150000Z
DTEND:20251115T170000Z
SUMMARY:Port Vale v Wycombe Wanderers
LOCATION:Vale Park
DESCRIPTION:Port Vale v Wycombe Wanderers - Vale Park - Sky Bet League One
  - Live on Sky Sports+
STATUS:CONFIRMED
END:VEVENT
BEGIN:VEVENT
UID:39e43eb81ebfbea95bcf25f50cfac8b5@skysports.com
SEQUENCE:0
DTSTAMP:20260425T090409Z
DTSTART:20251122T150000Z
DTEND:20251122T170000Z
SUMMARY:Wycombe Wanderers v Lincoln City
LOCATION:Adams Park
DESCRIPTION:Wycombe Wanderers v Lincoln City - Adams Park - Sky Bet League
  One
STATUS:CONFIRMED
END:VEVENT
BEGIN:VEVENT
UID:9053521f84845042684088ebe965d29b@skysports.com
SEQUENCE:0
DTSTAMP:20260425T090409Z
DTSTART:20251129T150000Z
DTEND:20251129T170000Z
SUMMARY:Rotherham United v Wycombe Wanderers
LOCATION:New York Stadium
DESCRIPTION:Rotherham United v Wycombe Wanderers - New York Stadium - Sky 
 Bet League One
STATUS:CONFIRMED
END:VEVENT
BEGIN:VEVENT
UID:84122baef284e6b56a44f637c79ed8d8@skysports.com
SEQUENCE:0
DTSTAMP:20260425T090409Z
DTSTART:20251209T194500Z
DTEND:20251209T214500Z
SUMMARY:Wycombe Wanderers v Plymouth Argyle
LOCATION:Adams Park
DESCRIPTION:Wycombe Wanderers v Plymouth Argyle - Adams Park - Sky Bet Lea
 gue One - Live on Sky Sports+
STATUS:CONFIRMED
END:VEVENT
BEGIN:VEVENT
UID:a06be336fc07e51e3c5fe0be9403b268@skysports.com
SEQUENCE:0
DTSTAMP:20260425T090409Z
DTSTART:20251213T150000Z
DTEND:20251213T170000Z
SUMMARY:Burton Albion v Wycombe Wanderers
LOCATION:Pirelli Stadium
DESCRIPTION:Burton Albion v Wycombe Wanderers - Pirelli Stadium - Sky Bet 
 League One
STATUS:CONFIRMED
END:VEVENT
BEGIN:VEVENT
UID:cc195dc4d5608db3b54c371ef635f22d@skysports.com
SEQUENCE:0
DTSTAMP:20260425T090409Z
DTSTART:20251220T150000Z
DTEND:20251220T170000Z
SUMMARY:Wycombe Wanderers v Bolton Wanderers
LOCATION:Adams Park
DESCRIPTION:Wycombe Wanderers v Bolton Wanderers - Adams Park - Sky Bet Le
 ague One
STATUS:CONFIRMED
END:VEVENT
BEGIN:VEVENT
UID:7f2cccce27618e792eea86323955e62f@skysports.com
SEQUENCE:0
DTSTAMP:20260425T090409Z
DTSTART:20251226T150000Z
DTEND:20251226T170000Z
SUMMARY:Luton Town v Wycombe Wanderers
LOCATION:Kenilworth Road
DESCRIPTION:Luton Town v Wycombe Wanderers - Kenilworth Road - Sky Bet Lea
 gue One - Live on Sky Sports+
STATUS:CONFIRMED
END:VEVENT
BEGIN:VEVENT
UID:f2b59b021c002eeb100d822023d4cf2d@skysports.com
SEQUENCE:0
DTSTAMP:20260425T090409Z
DTSTART:20251229T194500Z
DTEND:20251229T214500Z
SUMMARY:Plymouth Argyle v Wycombe Wanderers
LOCATION:Home Park
DESCRIPTION:Plymouth Argyle v Wycombe Wanderers - Home Park - Sky Bet Leag
 ue One - Live on Sky Sports+
STATUS:CONFIRMED
END:VEVENT
BEGIN:VEVENT
UID:e8d138f280133782477d87ce37bcd2eb@skysports.com
SEQUENCE:0
DTSTAMP:20260425T090409Z
DTSTART:20260101T150000Z
DTEND:20260101T170000Z
SUMMARY:Wycombe Wanderers v Cardiff City
LOCATION:Adams Park
DESCRIPTION:Wycombe Wanderers v Cardiff City - Adams Park - Sky Bet League
  One - Live on Sky Sports Football
STATUS:CONFIRMED
END:VEVENT
BEGIN:VEVENT
UID:04f43c3fccc07cad96015caec2fe2ee8@skysports.com
SEQUENCE:0
DTSTAMP:20260425T090409Z
DTSTART:20260104T150000Z
DTEND:20260104T170000Z
SUMMARY:Wycombe Wanderers v AFC Wimbledon
LOCATION:Adams Park
DESCRIPTION:Wycombe Wanderers v AFC Wimbledon - Adams Park - Sky Bet Leagu
 e One
STATUS:CONFIRMED
END:VEVENT
BEGIN:VEVENT
UID:c4c33d81e8724e3305573be72306a5e0@skysports.com
SEQUENCE:0
DTSTAMP:20260425T090409Z
DTSTART:20260303T194500Z
DTEND:20260303T214500Z
SUMMARY:Barnsley v Wycombe Wanderers
LOCATION:Oakwell Stadium
DESCRIPTION:Barnsley v Wycombe Wanderers - Oakwell Stadium - Sky Bet Leagu
 e One - Live on Sky Sports+
STATUS:CONFIRMED
END:VEVENT
BEGIN:VEVENT
UID:a9caa9b6db6917add7e370561783a181@skysports.com
SEQUENCE:0
DTSTAMP:20260425T090409Z
DTSTART:20260117T150000Z
DTEND:20260117T170000Z
SUMMARY:Northampton Town v Wycombe Wanderers
LOCATION:Sixfields Stadium
DESCRIPTION:Northampton Town v Wycombe Wanderers - Sixfields Stadium - Sky
  Bet League One
STATUS:CONFIRMED
END:VEVENT
BEGIN:VEVENT
UID:b7a9e2007af742e67fb6b9ac435dbb4f@skysports.com
SEQUENCE:0
DTSTAMP:20260425T090409Z
DTSTART:20260124T150000Z
DTEND:20260124T170000Z
SUMMARY:Wycombe Wanderers v Peterborough United
LOCATION:Adams Park
DESCRIPTION:Wycombe Wanderers v Peterborough United - Adams Park - Sky Bet
  League One
STATUS:CONFIRMED
END:VEVENT
BEGIN:VEVENT
UID:a7b5b53b0d4737d75b652b9af7145f2c@skysports.com
SEQUENCE:0
DTSTAMP:20260425T090409Z
DTSTART:20260127T194500Z
DTEND:20260127T214500Z
SUMMARY:Wycombe Wanderers v Wigan Athletic
LOCATION:Adams Park
DESCRIPTION:Wycombe Wanderers v Wigan Athletic - Adams Park - Sky Bet Leag
 ue One - Live on Sky Sports+
STATUS:CONFIRMED
END:VEVENT
BEGIN:VEVENT
UID:ab28320b6500dac46d70f460f7e277c7@skysports.com
SEQUENCE:0
DTSTAMP:20260425T090409Z
DTSTART:20260131T150000Z
DTEND:20260131T170000Z
SUMMARY:Mansfield Town v Wycombe Wanderers
LOCATION:One Call Stadium
DESCRIPTION:Mansfield Town v Wycombe Wanderers - One Call Stadium - Sky Be
 t League One
STATUS:CONFIRMED
END:VEVENT
BEGIN:VEVENT
UID:c2e1ff75ee869f0f25e9e783dc856511@skysports.com
SEQUENCE:0
DTSTAMP:20260425T090409Z
DTSTART:20260207T150100Z
DTEND:20260207T170100Z
SUMMARY:Wycombe Wanderers v Doncaster Rovers
LOCATION:Adams Park
DESCRIPTION:Wycombe Wanderers v Doncaster Rovers - Adams Park - Sky Bet Le
 ague One
STATUS:CONFIRMED
END:VEVENT
BEGIN:VEVENT
UID:134c55e765b3a82e4e423821c75913f7@skysports.com
SEQUENCE:0
DTSTAMP:20260425T090409Z
DTSTART:20260214T123000Z
DTEND:20260214T143000Z
SUMMARY:Reading v Wycombe Wanderers
LOCATION:Select Car Leasing Stadium
DESCRIPTION:Reading v Wycombe Wanderers - Select Car Leasing Stadium - Sky
  Bet League One - Live on Sky Sports+
STATUS:CONFIRMED
END:VEVENT
BEGIN:VEVENT
UID:bbd47888c68d1560e51dfb92eebe9426@skysports.com
SEQUENCE:0
DTSTAMP:20260425T090409Z
DTSTART:20260217T194500Z
DTEND:20260217T214500Z
SUMMARY:Exeter City v Wycombe Wanderers
LOCATION:St James Park
DESCRIPTION:Exeter City v Wycombe Wanderers - St James Park - Sky Bet Leag
 ue One - Live on Sky Sports+
STATUS:CONFIRMED
END:VEVENT
BEGIN:VEVENT
UID:23aea5dbdef7d53aa3c03edbeda27314@skysports.com
SEQUENCE:0
DTSTAMP:20260425T090409Z
DTSTART:20260221T123000Z
DTEND:20260221T143000Z
SUMMARY:Wycombe Wanderers v Stevenage
LOCATION:Adams Park
DESCRIPTION:Wycombe Wanderers v Stevenage - Adams Park - Sky Bet League On
 e - Live on Sky Sports+
STATUS:CONFIRMED
END:VEVENT
BEGIN:VEVENT
UID:6bab5f6dd429b1ebe0e2679cfa8a3188@skysports.com
SEQUENCE:0
DTSTAMP:20260425T090409Z
DTSTART:20260228T150000Z
DTEND:20260228T170000Z
SUMMARY:Wycombe Wanderers v Burton Albion
LOCATION:Adams Park
DESCRIPTION:Wycombe Wanderers v Burton Albion - Adams Park - Sky Bet Leagu
 e One
STATUS:CONFIRMED
END:VEVENT
BEGIN:VEVENT
UID:62b4e417d0edf02ccd3c9ffb83e0102d@skysports.com
SEQUENCE:0
DTSTAMP:20260425T090409Z
DTSTART:20260307T150000Z
DTEND:20260307T170000Z
SUMMARY:Bolton Wanderers v Wycombe Wanderers
LOCATION:University of Bolton Stadium
DESCRIPTION:Bolton Wanderers v Wycombe Wanderers - University of Bolton St
 adium - Sky Bet League One
STATUS:CONFIRMED
END:VEVENT
BEGIN:VEVENT
UID:08e1ee794c1e169b5e0a7c663dbdc996@skysports.com
SEQUENCE:0
DTSTAMP:20260425T090409Z
DTSTART:20260314T150000Z
DTEND:20260314T170000Z
SUMMARY:Wycombe Wanderers v Luton Town
LOCATION:Adams Park
DESCRIPTION:Wycombe Wanderers v Luton Town - Adams Park - Sky Bet League O
 ne
STATUS:CONFIRMED
END:VEVENT
BEGIN:VEVENT
UID:0e367b37bea3ce3c2844501282f50b72@skysports.com
SEQUENCE:0
DTSTAMP:20260425T090409Z
DTSTART:20260317T194500Z
DTEND:20260317T214500Z
SUMMARY:Cardiff City v Wycombe Wanderers
LOCATION:Cardiff City Stadium
DESCRIPTION:Cardiff City v Wycombe Wanderers - Cardiff City Stadium - Sky 
 Bet League One - Live on Sky Sports+
STATUS:CONFIRMED
END:VEVENT
BEGIN:VEVENT
UID:e1db9df6b4ff484ae374c2f6d8385841@skysports.com
SEQUENCE:0
DTSTAMP:20260425T090409Z
DTSTART:20260321T150000Z
DTEND:20260321T170000Z
SUMMARY:Leyton Orient v Wycombe Wanderers
LOCATION:BetWright Stadium
DESCRIPTION:Leyton Orient v Wycombe Wanderers - BetWright Stadium - Sky Be
 t League One
STATUS:CONFIRMED
END:VEVENT
BEGIN:VEVENT
UID:f06f5b4fa8d70ed75f8867c6d50d1995@skysports.com
SEQUENCE:0
DTSTAMP:20260425T090409Z
DTSTART:20260328T150000Z
DTEND:20260328T170000Z
SUMMARY:Wycombe Wanderers v Port Vale
LOCATION:Adams Park
DESCRIPTION:Wycombe Wanderers v Port Vale - Adams Park - Sky Bet League On
 e - Live on Sky Sports+
STATUS:CONFIRMED
END:VEVENT
BEGIN:VEVENT
UID:986a0858f1a742d34ff7666dc5e9be4a@skysports.com
SEQUENCE:0
DTSTAMP:20260425T090409Z
DTSTART:20260403T140000Z
DTEND:20260403T160000Z
SUMMARY:Stockport County v Wycombe Wanderers
LOCATION:Edgeley Park
DESCRIPTION:Stockport County v Wycombe Wanderers - Edgeley Park - Sky Bet 
 League One - Live on Sky Sports+
STATUS:CONFIRMED
END:VEVENT
BEGIN:VEVENT
UID:e58e6c6d3845ea30a6321d77cbf0114a@skysports.com
SEQUENCE:0
DTSTAMP:20260425T090409Z
DTSTART:20260406T140000Z
DTEND:20260406T160000Z
SUMMARY:Wycombe Wanderers v Bradford City
LOCATION:Adams Park
DESCRIPTION:Wycombe Wanderers v Bradford City - Adams Park - Sky Bet Leagu
 e One - Live on Sky Sports+
STATUS:CONFIRMED
END:VEVENT
BEGIN:VEVENT
UID:95ddfdabd0f40a32891a45c51cd51d44@skysports.com
SEQUENCE:0
DTSTAMP:20260425T090409Z
DTSTART:20260411T140000Z
DTEND:20260411T160000Z
SUMMARY:Huddersfield Town v Wycombe Wanderers
LOCATION:The Accu Stadium
DESCRIPTION:Huddersfield Town v Wycombe Wanderers - The Accu Stadium - Sky
  Bet League One
STATUS:CONFIRMED
END:VEVENT
BEGIN:VEVENT
UID:8e64344e3db4f6ba9bc8f9d8c98bd9c4@skysports.com
SEQUENCE:0
DTSTAMP:20260425T090409Z
DTSTART:20260418T140000Z
DTEND:20260418T160000Z
SUMMARY:Wycombe Wanderers v Blackpool
LOCATION:Adams Park
DESCRIPTION:Wycombe Wanderers v Blackpool - Adams Park - Sky Bet League On
 e
STATUS:CONFIRMED
END:VEVENT
BEGIN:VEVENT
UID:357bc2bf534e8e72fe8491add3c44c0b@skysports.com
SEQUENCE:0
DTSTAMP:20260425T090409Z
DTSTART:20260425T140000Z
DTEND:20260425T160000Z
SUMMARY:Lincoln City v Wycombe Wanderers
LOCATION:LNER Stadium
DESCRIPTION:Lincoln City v Wycombe Wanderers - LNER Stadium - Sky Bet Leag
 ue One
STATUS:CONFIRMED
END:VEVENT
BEGIN:VEVENT
UID:e54e1dba3ae28adc41361c7da7beef6b@skysports.com
SEQUENCE:0
DTSTAMP:20260425T090409Z
DTSTART:20260502T140000Z
DTEND:20260502T160000Z
SUMMARY:Wycombe Wanderers v Rotherham United
LOCATION:Adams Park
DESCRIPTION:Wycombe Wanderers v Rotherham United - Adams Park - Sky Bet Le
 ague One
STATUS:CONFIRMED
END:VEVENT
BEGIN:VEVENT
UID:105c882b80421650f31211f3570fd286@skysports.com
SEQUENCE:0
DTSTAMP:20260425T090409Z
DTSTART:20250812T184500Z
DTEND:20250812T204500Z
SUMMARY:Leyton Orient v Wycombe Wanderers
LOCATION:BetWright Stadium
DESCRIPTION:Leyton Orient v Wycombe Wanderers - BetWright Stadium - Caraba
 o Cup - Live on Sky Sports+
STATUS:CONFIRMED
END:VEVENT
BEGIN:VEVENT
UID:5b0874f07eea24d27472574591bd2d91@skysports.com
SEQUENCE:0
DTSTAMP:20260425T090409Z
DTSTART:20250726T100000Z
DTEND:20250726T120000Z
SUMMARY:Tottenham Hotspur v Wycombe Wanderers
LOCATION:Hotspur Way
DESCRIPTION:Tottenham Hotspur v Wycombe Wanderers - Hotspur Way - Friendly
  Match
STATUS:CONFIRMED
END:VEVENT
BEGIN:VEVENT
UID:7cb8096d42756d15a0f59e8bb8cc3467@skysports.com
SEQUENCE:0
DTSTAMP:20260425T090409Z
DTSTART:20250902T180000Z
DTEND:20250902T200000Z
SUMMARY:Wycombe Wanderers v Colchester United
LOCATION:Adams Park
DESCRIPTION:Wycombe Wanderers v Colchester United - Adams Park - Vertu Tro
 phy - Live on Sky Sports+
STATUS:CONFIRMED
END:VEVENT
BEGIN:VEVENT
UID:4daf38686f0ad7a2217dad81a14c95f2@skysports.com
SEQUENCE:0
DTSTAMP:20260425T090409Z
DTSTART:20251007T180000Z
DTEND:20251007T200000Z
SUMMARY:Wycombe Wanderers v Fulham U21
LOCATION:Adams Park
DESCRIPTION:Wycombe Wanderers v Fulham U21 - Adams Park - Vertu Trophy - L
 ive on Sky Sports+
STATUS:CONFIRMED
END:VEVENT
BEGIN:VEVENT
UID:ce6334dcbf1c77d51dd09138a209e6f8@skysports.com
SEQUENCE:0
DTSTAMP:20260425T090409Z
DTSTART:20251111T190000Z
DTEND:20251111T210000Z
SUMMARY:Gillingham v Wycombe Wanderers
LOCATION:MEMS Priestfield Stadium
DESCRIPTION:Gillingham v Wycombe Wanderers - MEMS Priestfield Stadium - Ve
 rtu Trophy - Live on Sky Sports+
STATUS:CONFIRMED
END:VEVENT
BEGIN:VEVENT
UID:0d3761762992cb43f95a43a4d2bbe193@skysports.com
SEQUENCE:0
DTSTAMP:20260425T090409Z
DTSTART:20250826T184500Z
DTEND:20250826T204500Z
SUMMARY:Bromley v Wycombe Wanderers
LOCATION:Hayes Lane Stadium
DESCRIPTION:Bromley v Wycombe Wanderers - Hayes Lane Stadium - Carabao Cup
  - Live on Sky Sports+
STATUS:CONFIRMED
END:VEVENT
BEGIN:VEVENT
UID:cdec47f30fba3c41cf4610499bbb0134@skysports.com
SEQUENCE:0
DTSTAMP:20260425T090409Z
DTSTART:20250923T184500Z
DTEND:20250923T204500Z
SUMMARY:Wigan Athletic v Wycombe Wanderers
LOCATION:DW Stadium
DESCRIPTION:Wigan Athletic v Wycombe Wanderers - DW Stadium - Carabao Cup 
 - Live on Sky Sports+
STATUS:CONFIRMED
END:VEVENT
BEGIN:VEVENT
UID:96aa4cf3cee1544a751da20f3af210a5@skysports.com
SEQUENCE:0
DTSTAMP:20260425T090409Z
DTSTART:20251028T194500Z
DTEND:20251028T214500Z
SUMMARY:Wycombe Wanderers v Fulham
LOCATION:Adams Park
DESCRIPTION:Wycombe Wanderers v Fulham - Adams Park - Carabao Cup - Live o
 n Sky Sports+
STATUS:CONFIRMED
END:VEVENT
BEGIN:VEVENT
UID:f39435b0d4b3cf0e34217009829733f3@skysports.com
SEQUENCE:0
DTSTAMP:20260425T090409Z
DTSTART:20251101T150000Z
DTEND:20251101T170000Z
SUMMARY:Wycombe Wanderers v Plymouth Argyle
LOCATION:Adams Park
DESCRIPTION:Wycombe Wanderers v Plymouth Argyle - Adams Park - The FA Cup
STATUS:CONFIRMED
END:VEVENT
BEGIN:VEVENT
UID:4ec775b310807624dff710a78fe5be0d@skysports.com
SEQUENCE:0
DTSTAMP:20260425T090409Z
DTSTART:20251206T150000Z
DTEND:20251206T170000Z
SUMMARY:Exeter City v Wycombe Wanderers
LOCATION:St James Park
DESCRIPTION:Exeter City v Wycombe Wanderers - St James Park - The FA Cup
STATUS:CONFIRMED
END:VEVENT
BEGIN:VEVENT
UID:436aaa3ab37c69bd08f5637fa3342232@skysports.com
SEQUENCE:0
DTSTAMP:20260425T090409Z
DTSTART:20251202T190000Z
DTEND:20251202T210000Z
SUMMARY:Northampton Town v Wycombe Wanderers
LOCATION:Sixfields Stadium
DESCRIPTION:Northampton Town v Wycombe Wanderers - Sixfields Stadium - Ver
 tu Trophy - Live on Sky Sports+
STATUS:CONFIRMED
END:VEVENT
END:VCALENDAR